{"text_format":"1","workbook":"xlsx","n_sheets":15,"sheets":["Calculs","Calculs Impression","Gestion des calques","Erreurs","Impression","Calculs Resultats","Resultats","X,Y","Résultats","Temp","Matériels","Massifs","Parametres","L Haubans","Ancrage existant"],"not_rendered":{"charts":0,"images":0,"macros":1,"external_links":0,"defined_names":143,"comments":1,"pivot_tables":0},"unopened":[],"bounds":{"document_bytes":16777216,"sheet_cells":100000,"rows_first":2000,"rows_last":500,"rows_between":2000,"halvings":0,"cell_chars":16384,"cell_head_chars":4096},"cells_cut":0,"cells_raw":0,"read":"whole","date_system":"1900"}

{"sheet":"Calculs","index":0,"n_rows":60,"n_cols":24,"rows_kept":60,"cut":false,"hidden":false,"merged":[[19,0,19,2],[20,0,20,2],[39,0,39,3],[40,0,40,2],[41,0,41,2],[37,0,37,4],[26,0,26,2],[27,0,27,2],[28,0,28,2],[29,0,29,2],[24,0,24,2],[21,0,21,2],[22,0,22,2],[23,0,23,2],[39,5,39,8],[28,5,28,8],[25,0,25,2],[23,5,23,8],[38,6,38,7],[37,6,37,7],[27,6,27,7],[34,0,34,8],[24,6,24,7],[25,6,25,7],[26,6,26,7],[10,4,10,5],[18,5,18,8],[1,8,2,8],[1,0,2,1],[1,3,2,4],[1,2,2,2],[1,5,2,5],[1,6,2,7],[17,6,17,7],[18,0,18,3],[16,0,16,4],[6,0,6,5],[13,0,14,2],[12,0,12,2],[55,0,55,8],[47,0,47,2],[50,0,50,2],[42,0,42,2],[43,0,43,2],[44,0,44,2],[45,0,45,2],[46,0,46,2],[45,6,45,7],[46,6,46,7],[48,0,48,2],[49,0,49,2],[48,6,48,7],[47,6,47,7],[49,5,49,7],[44,5,44,8]]}
["C2F","<== Selectionner votre site",null,null,null,null,null,null,null,null,null,null,null,null,null,null,null,null,null,null,null,"                           Version 1.17"]
["25 kV",null,null,"1500 V",null,null,"Autre",null,null,null,null,null,null,null,null,null,{"$f":"IF(B9=\"\",\"\",B9&Parametres!E51)","v":"HEA300J"}]
[null,null,2]
[null,null,null,null,null,null,null,{"$f":"IF(C3=1,\"vingtcinq\",IF(C3=2,\"Millecinq\",IF(C3=4,\"Millecinq2\",\"Autre\")))","v":"Millecinq"}]
["Ancrage d'un seul coté",null,1,null,null,null,"Ancrages en opposition",null,null,null,null,null,null,null,null,null,null,{"$f":"\"F1: \"&ROUND(D30,  2)&\" kN\"","v":"F1: 90.8 kN"}]
[null,null,1,null,null,null,null,null,null,{"$f":"IF($C$6=1,\"Coté\",IF($C$6=2,\"Face\",\"Erreur\"))","v":"Coté"}]
["Caractéristiques du Support",null,null,null,null,null,"Zone Normale              Zone Polluée",null,null,1]
["Numéro :","265-4","Direction :","TOULOUSE",null,"CASTELNAUDARY","≠H / Orienté"," Non","Oui",{"$f":"IF($K$8=1,\"Noriente\",IF($K$8=2,\"oriente\",\"Erreur\"))","v":"Noriente"},1]
["Echantillon :","HEA300","H / PMR :",10.95,"Cote A :",1.45,"Arasement :",0.08,"(- si < PMR)"]
[]
["Massif :","Pn","Echantillon :",4,"Approfondissement :",null,null,null,{"$f":"IF(OR(B11=\"\",D11=\"\"),\"\",D11&B11&G11)","v":"4Pn"}]
[null,null,null,null,null,null,null,null,null,null,null,null,null,null,{"$f":"\"H1: \"&ROUND(I25, 2)&\" m\"","v":"H1: 7.45 m"}]
["Potelet :",null,null,"Longueur :",null,null,"Chaine Feeder :"]
["Hauteur de passage / PMR :",null,null,"Câble","Hauteur","Câble","Hauteur","Câble","Hauteur"]
[null,null,null,null,null,null,null,null,null,{"$f":"IF(K15=1,\"1Ancrage\",IF(K15=2,\"2Ancrages\",\"3Ancrages\"))","v":"2Ancrages"},2]
[null,null,null,null,null,null,null,null,null,null,null,null,null,null,null,{"$f":"IF(I26=\"\",\"\",\"H2: \"&ROUND(I26, 2)&\" m\")","v":"H2: 6.45 m"},null,null,{"$f":"\"Anc1: \"&ROUND(I21,2)&\" m\"","v":"Anc1: 7.45 m"}]
[{"$f":"IF($J$6=\"coté\",\"Caractéristiques de l'Ancrage\",IF($J$6=\"Face\",\"Caractéristiques de l'Ancrage n°1\",\"Erreur du type d'ancrage\"))","v":"Caractéristiques de l'Ancrage"},null,null,null,null,"Droit","Nb pts Anc.:","             1","2           3",null,null,null,null,null,null,null,null,{"$f":"IF(I22=\"\",\"\",\"Anc2: \"&ROUND(I22,2)&\" m\")","v":"Anc2: 6.45 m"}]
[null,null,null,null,null,null,"Hauban de préférence :",null,"Rigide"]
["Tensions mécaniques des câbles (-10°C) :",null,null,null,null,"Ancrage des conducteurs / PMR"]
[null,null,null,{"$f":"IF(A20=\"\",\"\",VLOOKUP(A20,Parametres!$A$1:$B$150,2,FALSE))","v":""},null,"Plan","Repère","Isolemt Sup.","Hauteur"]
[null,null,null,{"$f":"IF(A21=\"\",\"\",VLOOKUP(A21,Parametres!$A$1:$B$150,2,FALSE))","v":""},"Point n°1",10985,352,null,7.45]
[null,null,null,{"$f":"IF(A22=\"\",\"\",VLOOKUP(A22,Parametres!$A$1:$B$150,2,FALSE))","v":""},"Point n°2",10985,352,null,6.45]
[null,null,null,{"$f":"IF(A23=\"\",\"\",VLOOKUP(A23,Parametres!$A$1:$B$150,2,FALSE))","v":""},"Point n°3"]
[null,null,null,{"$f":"IF(A24=\"\",\"\",VLOOKUP(A24,Parametres!$A$1:$B$150,2,FALSE))","v":""},null,"Ancrage des Haubans / PMR"]
[null,null,null,{"$f":"IF(A25=\"\",\"\",VLOOKUP(A25,Parametres!$A$1:$B$150,2,FALSE))","v":""},null,null,"Hauteur du Hauban H1 :",null,7.45,null,null,null,null,null,null,null,null,null,"PMR"]
[null,null,null,{"$f":"IF(A26=\"\",\"\",VLOOKUP(A26,Parametres!$A$1:$B$150,2,FALSE))","v":""},null,null,{"$f":"IF(OR(Résultats!B9=0,Résultats!B9=1),\"\",\"Hauteur du Hauban H2 :\")","v":"Hauteur du Hauban H2 :"},null,6.45]
[null,null,null,{"$f":"IF(A27=\"\",\"\",VLOOKUP(A27,Parametres!$A$1:$B$150,2,FALSE))","v":""},null,null,{"$f":"IF(Résultats!B9<3,\"\",\"Hauteur du Hauban H3 :\")","v":""},null,null,null,2,null,null,null,null,null,null,{"$f":"IF(H9=\"\",\"\",\"C: \"&H9)","v":"C: 0.08"},"Terrain"]
[null,null,null,null,null,null,{"$f":"IF(Résultats!B9<>4,\"\",\"Hauteur du Hauban H4 :\")","v":""},null,null,null,true]
["Saisie Personnalisée",null,null,90.8,null,"            Appareil Tendeur           Non          Oui",null,null,null,null,null,null,null,null,{"$f":"\"d: \"&ROUND(B36,  2)&\" m\"","v":"d: 7 m"},null,null,{"$f":"IF(OR(F9=\"\",H9=\"\"),\"\",\"h: \"&F9+H9)","v":"h: 1.53"}]
["Somme des tensions (F1):",null,null,{"$f":"IF(AND(D20=\"\",D21=\"\",D22=\"\",D23=\"\",D24=\"\",D25=\"\",D26=\"\",D27=\"\",D28=\"\",D29=\"\"),0,SUM(D20:D29))","v":90.8},null,null,"Pts Ancrage","Plan","Repère"]
[null,null,null,{"$f":"IF(D30=\"\",\"\",D30*100)","v":9080},null,null,"Point n°2",222940,222942,null,null,null,{"$f":"IF($E$36=\"\",\"\",IF(E36<>\"Aucun\",\"Massif \"&$E$36,E36&\" Massif\"))","v":"Massif Api"},null,null,null,{"$f":"IF($I$11=\"\",\"\",\"Massif \"&$I$11)","v":"Massif 4Pn"}]
[]
["Nom d'ancrage dans la nomenclature:"]
[]
[{"$f":"IF(OR(J6=\"\",J6=\"coté\"),\"Caractéristiques du massif d'Ancrage\",IF(J6=\"Face\",\"Caractéristiques du massif d'Ancrage n°1\",\"Erreur du type d'ancrage\"))","v":"Caractéristiques du massif d'Ancrage"}]
["Distance (d):",7,null,"Massif:","Api",{"$f":"IF(E36=\"Apns\",\"Ancrage surélevé\",\"\")","v":""},null,"Arasement :",0.08]
[null,null,null,null,null,null,null,null,null,{"$f":"IF(I38=1,\"1Ancrage\",IF(I38=2,\"2Ancrages\",IF(I38=3,\"3Ancrages\",\"\")))","v":""}]
[{"$f":"IF($J$6=\"coté\",\"\",IF($J$6=\"Face\",\"Caractéristiques de l'Ancrage n°2\",\"Erreur du type d'ancrage\"))","v":""},null,null,null,null,{"$f":"IF(F17=\"Droit\",\"Gauche\",IF(F17=\"Gauche\",\"Droit\",\"Erreur\"))","v":"Gauche"},"Nb pts Ancrages:"]
[null,null,null,null,null,null,"Hauban de préférence :"]
["Tensions mécaniques des câbles (-10°C) :",null,null,null,null,"Ancrage des conducteurs / PMR"]
[null,null,null,{"$f":"IF(A41=\"\",\"\",VLOOKUP(A41,Parametres!$A$1:$B$150,2,FALSE))","v":""},null,"Plan","Repère","Isolemt Sup.","Hauteur"]
[null,null,null,{"$f":"IF(A42=\"\",\"\",VLOOKUP(A42,Parametres!$A$1:$B$150,2,FALSE))","v":""},"Point n°1"]
[null,null,null,{"$f":"IF(A43=\"\",\"\",VLOOKUP(A43,Parametres!$A$1:$B$150,2,FALSE))","v":""},"Point n°2"]
[null,null,null,{"$f":"IF(A44=\"\",\"\",VLOOKUP(A44,Parametres!$A$1:$B$150,2,FALSE))","v":""},"Point n°3"]
[null,null,null,{"$f":"IF(A45=\"\",\"\",VLOOKUP(A45,Parametres!$A$1:$B$150,2,FALSE))","v":""},null,"Ancrage des Haubans / PMR"]
[null,null,null,{"$f":"IF(A46=\"\",\"\",VLOOKUP(A46,Parametres!$A$1:$B$150,2,FALSE))","v":""},null,null,"Hauteur du Hauban H1 :"]
[null,null,null,{"$f":"IF(A47=\"\",\"\",VLOOKUP(A47,Parametres!$A$1:$B$150,2,FALSE))","v":""},null,null,{"$f":"IF(OR(Résultats!C9=0,Résultats!C9=1),\"\",\"Hauteur du Hauban H2 :\")","v":""}]
[null,null,null,{"$f":"IF(A48=\"\",\"\",VLOOKUP(A48,Parametres!$A$1:$B$150,2,FALSE))","v":""},null,null,{"$f":"IF(Résultats!C9<3,\"\",\"Hauteur du Hauban H3 :\")","v":""}]
[null,null,null,{"$f":"IF(A49=\"\",\"\",VLOOKUP(A49,Parametres!$A$1:$B$150,2,FALSE))","v":""},null,null,{"$f":"IF(Résultats!C9<>4,\"\",\"Hauteur du Hauban H4 :\")","v":""},null,null,null,false]
["Saisie Personnalisée",null,null,null,null,"            Appareil Tendeur          "]
["Somme des tensions (F2):",null,null,{"$f":"IF(AND(D41=\"\",D42=\"\",D43=\"\",D44=\"\",D45=\"\",D46=\"\",D47=\"\",D48=\"\",D49=\"\",D50=\"\"),0,SUM(D41:D50))","v":0},null,null,"Pts Ancrage","Plan","Repère"]
[null,null,null,{"$f":"IF(D51=\"\",\"\",D51*100)","v":0}]
[]
["Nom d'ancrage dans la nomenclature:"]
[]
[{"$f":"IF($J$6=\"Coté\",\"\",IF($J$6=\"Face\",\"Caractéristiques du massif d'Ancrage n°2\",\"Erreur du type d'ancrage\"))","v":""}]
["Distance(d2):",null,null,"Massif n°2:",null,{"$f":"IF(E57=\"Apns\",\"Ancrage surélevé\",\"\")","v":""},null,"Arasement :"]
[]
[]
[null,null,null,null,null,null,null,null,null,null,null,null,null,null,null,null,null,null,null,null,null,null,null,"\\\\srv-cat2\\doc-outils\\Programme-DessinAncrage\\"]

{"sheet":"Calculs Impression","index":1,"n_rows":72,"n_cols":7,"rows_kept":72,"cut":false,"hidden":true,"merged":[[0,0,1,6],[2,2,2,4],[8,0,8,1],[8,4,8,5]]}
["Determination d'Ancrages"]
[]
[null,null,"Support"]
[null,null,"Echantillon :",null,{"$f":"IF(Echantillonbis=\"\",\"\",Echantillonbis)","v":"HEA300J"}]
[null,null,"Massif :",null,{"$f":"IF(TypeMsupp=\"\",\"\",TypeMsupp)","v":"4Pn"}]
[null,null,"Arrasement :",null,{"$f":"IF(Arase=\"\",\"\",Arase)","v":0.08}]
[null,null,null,{"$f":"IF(Orientationb=\"oriente\",\"Sommier d'ancrage necessaire\",\"\")","v":""}]
[null,{"$f":"IF(F8<>\"\",\"Ancrage 1\",\"Ancrage N°1\")","v":"Ancrage N°1"},null,null,null,{"$f":"IF(Résultats!C4=\"N\",\"\",\"Ancrage N°2\")","v":""}]
["Tension Mécanique :",null,{"$f":"IF(Tension1=\"\",\"\",Tension1)","v":90.8},null,"Tension Mécanique :",null,{"$f":"IF(Tension2=\"\",\"\",Tension2)","v":0}]
["Massif :",{"$f":"IF(Résultats!D7=\"\",\"\",IF(C10=\"Ae\",Résultats!B71,Résultats!D7))","v":9},{"$f":"IF(MassifAnc1=\"\",\"\",MassifAnc1)","v":"Api"},null,"Massif :",{"$f":"IF(F8=\"\",\"\",IF(G10=\"Ae\",Résultats!C71,Résultats!E7))","v":""},{"$f":"IF(MassifAnc2=\"\",\"\",MassifAnc2)","v":""}]
[]
["Designations","Symboles","Quantités",null,"Designations","Symboles","Quantités"]
[{"$f":"IF(B13=\"\",\"\",\"Hauban 1\")","v":"Hauban 1"},{"$f":"IF(C9=0,\"\",IF(Résultats!W26=\"N\",\"\",Résultats!W26))","v":"08820565"},{"$f":"IF(B13=\"\",\"\",1)","v":1},null,{"$f":"IF(F13=\"\",\"\",\"Hauban 1\")","v":""},{"$f":"IF(G9=0,\"\",IF(Résultats!Y26=\"N\",\"\",Résultats!Y26))","v":""},{"$f":"IF(F13=\"\",\"\",1)","v":""}]
[{"$f":"IF(B14=\"\",\"\",\"Hauban 2\")","v":"Hauban 2"},{"$f":"IF(C9=0,\"\",IF(Résultats!W27=\"N\",\"\",Résultats!W27))","v":"08820565"},{"$f":"IF(B14=\"\",\"\",1)","v":1},null,{"$f":"IF(F14=\"\",\"\",\"Hauban 2\")","v":""},{"$f":"IF(G9=0,\"\",IF(Résultats!Y27=\"N\",\"\",Résultats!Y27))","v":""},""]
[{"$f":"IF(B15=\"\",\"\",\"Hauban 3\")","v":""},{"$f":"IF(C9=0,\"\",IF(Résultats!W28=\"N\",\"\",Résultats!W28))","v":""},"",null,{"$f":"IF(F15=\"\",\"\",\"Hauban 3\")","v":""},{"$f":"IF(G9=0,\"\",IF(Résultats!Y28=\"N\",\"\",Résultats!Y28))","v":""},""]
[{"$f":"IF(B16=\"\",\"\",\"Hauban 4\")","v":""},{"$f":"IF(C9=0,\"\",IF(Résultats!W29=\"N\",\"\",Résultats!W29))","v":""},"",null,{"$f":"IF(F16=\"\",\"\",\"Hauban 4\")","v":""},{"$f":"IF(G9=0,\"\",IF(Résultats!Y29=\"N\",\"\",Résultats!Y29))","v":""},""]
[{"$f":"IF(B17=\"\",\"\",\"Point Ancrage 1\")","v":"Point Ancrage 1"},{"$f":"IF(C9=0,\"\",IF(Résultats!W33=\"N\",\"\",Résultats!W33))","v":"08820583"},1,null,{"$f":"IF(F17=\"\",\"\",\"Point Ancrage 1\")","v":""},{"$f":"IF(G9=0,\"\",IF(Résultats!Y33=\"N\",\"\",Résultats!Y33))","v":""},""]
[{"$f":"IF(B18=\"\",\"\",\"Point Ancrage 2\")","v":"Point Ancrage 2"},{"$f":"IF(C9=0,\"\",IF(Résultats!W34=\"N\",\"\",Résultats!W34))","v":"08820583"},1,null,{"$f":"IF(F18=\"\",\"\",\"Point Ancrage 2\")","v":""},{"$f":"IF(G9=0,\"\",IF(Résultats!Y34=\"N\",\"\",Résultats!Y34))","v":""},""]
[{"$f":"IF(B19=\"\",\"\",\"Point Ancrage 3\")","v":""},{"$f":"IF(C9=0,\"\",IF(Résultats!W35=\"N\",\"\",Résultats!W35))","v":""},"",null,{"$f":"IF(F19=\"\",\"\",\"Point Ancrage 3\")","v":""},{"$f":"IF(G9=0,\"\",IF(Résultats!Y35=\"N\",\"\",Résultats!Y35))","v":""},""]
[null,"Pieces de Reglages",null,null,null,"Pieces de Reglages"]
[{"$f":"IF(B21=\"\",\"\",\"Piece de Reg.\")","v":"Piece de Reg."},{"$f":"IF(MassifAnc1=\"Aucun\",\"\",IF(AND(Résultats!B6=\"Câble\",HHauba1<>\"\"),Résultats!J6,IF(Résultats!B6=\"Rigide\",Résultats!M6,\"\")))","v":"08828800"},{"$f":"IF(B21<>\"\",IF(Résultats!B6=\"Câble\",Résultats!J4,IF(Résultats!B6=\"Rigide\",Résultats!M4,\"\")),\"\")","v":2},null,{"$f":"IF(F21=\"\",\"\",\"Piece de Reg.\")","v":""},{"$f":"IF(MassifAnc2=\"Aucun\",\"\",IF(Résultats!C6=\"Câble\",Résultats!Q6,IF(Résultats!C6=\"Rigide\",Résultats!T6,\"\")))","v":""},{"$f":"IF(F21=\"\",\"\",IF(Résultats!C6=\"Câble\",Résultats!Q4,IF(Résultats!C6=\"Rigide\",Résultats!T4,\"\")))","v":""}]
[]
[null,"Haubans d'Ancrages",null,null,null,"Haubans d'Ancrages"]
[{"$f":"IF(AND(MassifAnc1<>\"Aucun\",MassifAnc1<>\"\"),IF(Résultats!B9=0,\"\",\"Hauban 1\"),\"\")","v":"Hauban 1"},{"$f":"IF(A24=\"\",\"\",IF(OR($C$10=\"Api\",$C$10=\"Ae\"),Résultats!B22,IF('Calculs Impression'!$C$10=\"Apns\",Résultats!B29,IF('Calculs Impression'!$C$10=\"Acn\",Résultats!B36,\"\"))))","v":"08828752"},{"$f":"IF(B24=\"\",\"\",1)","v":1},null,{"$f":"IF(MassifAnc2<>\"Aucun\",IF(OR(Résultats!C9=\"\",G9=0),\"\",\"Hauban 1\"),\"\")","v":""},{"$f":"IF(E24=\"\",\"\",IF(OR($G$10=\"Api\",$G$10=\"Ae\"),Résultats!C22,IF('Calculs Impression'!$G$10=\"Apns\",Résultats!C29,IF('Calculs Impression'!$G$10=\"Acn\",Résultats!C36,\"\"))))","v":""},{"$f":"IF(F24=\"\",\"\",1)","v":""}]
[{"$f":"IF(A24=\"\",\"\",IF(Résultats!B9=1,\"\",\"Hauban 2\"))","v":"Hauban 2"},{"$f":"IF(A25=\"\",\"\",IF(OR($C$10=\"Api\",$C$10=\"Ae\"),Résultats!B23,IF('Calculs Impression'!$C$10=\"Apns\",Résultats!B30,IF('Calculs Impression'!$C$10=\"Acn\",Résultats!B37,\"\"))))","v":"08828752"},{"$f":"IF(B25=\"\",\"\",1)","v":1},null,{"$f":"IF(E24=\"\",\"\",IF(Résultats!C9=1,\"\",\"Hauban 2\"))","v":""},{"$f":"IF(E25=\"\",\"\",IF(OR($G$10=\"Api\",$G$10=\"Ae\"),Résultats!C23,IF('Calculs Impression'!$G$10=\"Apns\",Résultats!C30,IF('Calculs Impression'!$G$10=\"Acn\",Résultats!C37,\"\"))))","v":""},{"$f":"IF(F25=\"\",\"\",1)","v":""}]
[{"$f":"IF(A24=\"\",\"\",IF(Résultats!B9<3,\"\",\"Hauban 3\"))","v":""},{"$f":"IF(A26=\"\",\"\",IF(OR($C$10=\"Api\",$C$10=\"Ae\"),Résultats!B24,IF('Calculs Impression'!$C$10=\"Apns\",Résultats!B31,IF('Calculs Impression'!$C$10=\"Acn\",Résultats!B38,\"\"))))","v":""},"",null,{"$f":"IF(E24=\"\",\"\",IF(Résultats!C9<3,\"\",\"Hauban 3\"))","v":""},{"$f":"IF(E26=\"\",\"\",IF(OR($G$10=\"Api\",$G$10=\"Ae\"),Résultats!C24,IF('Calculs Impression'!$G$10=\"Apns\",Résultats!C31,IF('Calculs Impression'!$G$10=\"Acn\",Résultats!C38,\"\"))))","v":""},{"$f":"IF(F26=\"\",\"\",1)","v":""}]
[{"$f":"IF(Résultats!B9<>4,\"\",\"Hauban 4\")","v":""},{"$f":"IF(A27=\"\",\"\",IF(OR($C$10=\"Api\",$C$10=\"Ae\"),Résultats!B25,IF('Calculs Impression'!$C$10=\"Apns\",Résultats!B32,IF('Calculs Impression'!$C$10=\"Acn\",Résultats!B39,\"\"))))","v":""},"",null,{"$f":"IF(Résultats!C9<>4,\"\",\"Hauban 4\")","v":""},{"$f":"IF(E27=\"\",\"\",IF(OR($G$10=\"Api\",$G$10=\"Ae\"),Résultats!C25,IF('Calculs Impression'!$G$10=\"Apns\",Résultats!C32,IF('Calculs Impression'!$G$10=\"Acn\",Résultats!C39,\"\"))))","v":""},""]
[]
[{"$f":"IF(AND(MassifAnc1<>\"Aucun\",MassifAnc1<>\"\"),IF(AND(Résultats!B6=\"Câble\",Résultats!J7=\"Câble\"),\"Acier Inox\",\"\"),\"\")","v":""},{"$f":"IF(A29=\"\",\"\",IF(Résultats!J11=\"00986713\",\"03682670\",IF(Résultats!J11=\"00986715\",\"03682668\",\"Erreur\")))","v":""},{"$f":"IF(A29=\"\",\"\",IF(Résultats!J11=\"00986713\",Résultats!B42,IF(Résultats!J11=\"00986715\",Résultats!B43,\"Erreur\")))","v":""},null,{"$f":"IF(AND(Résultats!C6=\"Câble\",Résultats!Q7=\"Câble\",F24<>\"\"),\"Acier Inox\",\"\")","v":""},{"$f":"IF(E29=\"\",\"\",IF(Résultats!Q11=\"00986713\",\"03682670\",IF(Résultats!Q11=\"00986715\",\"03682668\",\"Erreur\")))","v":""},{"$f":"IF(E29=\"\",\"\",IF(Résultats!Q11=\"00986713\",Résultats!C42,IF(Résultats!Q11=\"00986715\",Résultats!C43,\"Erreur\")))","v":""}]
[]
[null,"Jumelles",null,null,null,"Jumelles"]
[{"$f":"IF(B32=\"\",\"\",IF(Résultats!B9=0,\"\",\"Hauban 1\"))","v":"Hauban 1"},{"$f":"IF(AND(Résultats!$B$6=\"Câble\",Résultats!$B$5<=50),\"\",IF(Résultats!$B$7=\"Api\",Résultats!Y3,IF(Résultats!$B$7=\"Apns\",Résultats!Y11,IF(Résultats!$B$7=\"Acn\",Résultats!Y19,\"\"))))","v":"00986723"},{"$f":"IF(B32=\"\",\"\",1)","v":1},null,{"$f":"IF(OR(Résultats!C9=\"\",G9=0),\"\",IF(F32=\"\",\"\",\"Hauban 1\"))","v":""},{"$f":"IF(AND(Résultats!$C$6=\"Câble\",Résultats!$C$5<=50),\"\",IF(Résultats!$C$7=\"Api\",Résultats!Z3,IF(Résultats!$C$7=\"Apns\",Résultats!Z11,IF(Résultats!$C$7=\"Acn\",Résultats!Z19,\"\"))))","v":""},{"$f":"IF(F32=\"\",\"\",1)","v":""}]
[{"$f":"IF(B33=\"\",\"\",IF(Résultats!B9=1,\"\",\"Hauban 2\"))","v":"Hauban 2"},{"$f":"IF(AND(Résultats!$B$6=\"Câble\",Résultats!$B$5<=50),\"\",IF(Résultats!$B$7=\"Api\",Résultats!Y4,IF(Résultats!$B$7=\"Apns\",Résultats!Y12,IF(Résultats!$B$7=\"Acn\",Résultats!Y20,\"\"))))","v":"00986721"},{"$f":"IF(B33=\"\",\"\",1)","v":1},null,{"$f":"IF(E24=\"\",\"\",IF(Résultats!C9=1,\"\",IF(F33=\"\",\"\",\"Hauban 2\")))","v":""},{"$f":"IF(AND(Résultats!$C$6=\"Câble\",Résultats!$C$5<=50),\"\",IF(Résultats!$C$7=\"Api\",Résultats!Z4,IF(Résultats!$C$7=\"Apns\",Résultats!Z12,IF(Résultats!$C$7=\"Acn\",Résultats!Z20,\"\"))))","v":""},{"$f":"IF(F33=\"\",\"\",1)","v":""}]
[{"$f":"IF(B34=\"\",\"\",IF(Résultats!B9<3,\"\",\"Hauban 3\"))","v":""},{"$f":"IF(AND(Résultats!$B$6=\"Câble\",Résultats!$B$5<=50),\"\",IF(Résultats!$B$7=\"Api\",Résultats!Y5,IF(Résultats!$B$7=\"Apns\",Résultats!Y13,IF(Résultats!$B$7=\"Acn\",Résultats!Y21,\"\"))))","v":""},"",null,{"$f":"IF(E24=\"\",\"\",IF(Résultats!C9<3,\"\",IF(F34=\"\",\"\",\"Hauban 3\")))","v":""},{"$f":"IF(AND(Résultats!$C$6=\"Câble\",Résultats!$C$5<=50),\"\",IF(Résultats!$C$7=\"Api\",Résultats!Z5,IF(Résultats!$C$7=\"Apns\",Résultats!Z13,IF(Résultats!$C$7=\"Acn\",Résultats!Z21,\"\"))))","v":""},{"$f":"IF(F34=\"\",\"\",1)","v":""}]
[{"$f":"IF(B35=\"\",\"\",IF(Résultats!B9<>4,\"\",\"Hauban 4\"))","v":""},{"$f":"IF(AND(Résultats!$B$6=\"Câble\",Résultats!$B$5<=50),\"\",IF(Résultats!$B$7=\"Api\",Résultats!Y6,IF(Résultats!$B$7=\"Apns\",Résultats!Y14,IF(Résultats!$B$7=\"Acn\",Résultats!Y22,\"\"))))","v":""},"",null,{"$f":"IF(Résultats!C9<>4,\"\",IF(F35=\"\",\"\",\"Hauban 4\"))","v":""},{"$f":"IF(AND(Résultats!$C$6=\"Câble\",Résultats!$C$5<=50),\"\",IF(Résultats!$C$7=\"Api\",Résultats!Z6,IF(Résultats!$C$7=\"Apns\",Résultats!Z14,IF(Résultats!$C$7=\"Acn\",Résultats!Z22,\"\"))))","v":""},""]
[null,{"$f":"IF(C10=\"\",\"\",IF(C10<>\"Apns\",\"Etriers\",\"\"))","v":"Etriers"},null,null,null,{"$f":"IF(G10=\"\",\"\",IF(G10<>\"Apns\",\"Etriers\",\"\"))","v":""}]
[{"$f":"IF(MassifAnc1<>\"Aucun\",IF(B36=\"\",\"\",\"Etrier\"),\"\")","v":"Etrier"},{"$f":"IF(A37=\"\",\"\",IF(AND(Résultats!B7=\"Api\",Résultats!B6=\"Câble\"),Résultats!J16,IF(AND(Résultats!B7=\"Api\",Résultats!B6=\"Rigide\"),Résultats!M16,IF(AND(Résultats!B7=\"Acn\",Résultats!B6=\"Câble\"),Résultats!J37,IF(AND(Résultats!B7=\"Acn\",Résultats!B6=\"Rigide\"),Résultats!M37,\"\")))))","v":"08828922"},{"$f":"IF(A37=\"\",\"\",IF(AND(Résultats!B7=\"Api\",Résultats!B6=\"Câble\"),Résultats!J13,IF(AND(Résultats!B7=\"Api\",Résultats!B6=\"Rigide\"),Résultats!M13,IF(AND(Résultats!B7=\"Acn\",Résultats!B6=\"Câble\"),Résultats!J35,IF(AND(Résultats!B7=\"Acn\",Résultats!B6=\"Rigide\"),Résultats!M35,\"\")))))","v":2},null,{"$f":"IF(MassifAnc2<>\"Aucun\",IF(F36=\"\",\"\",\"Etrier\"),\"\")","v":""},{"$f":"IF(F36=\"\",\"\",IF(AND(Résultats!C7=\"Api\",Résultats!C6=\"Câble\"),Résultats!Q16,IF(AND(Résultats!C7=\"Api\",Résultats!C6=\"Rigide\"),Résultats!T16,IF(AND(Résultats!C7=\"Acn\",Résultats!C6=\"Câble\"),Résultats!Q37,IF(AND(Résultats!C7=\"Acn\",Résultats!C6=\"Rigide\"),Résultats!T37,\"\")))))","v":""},{"$f":"IF(F36=\"\",\"\",IF(AND(Résultats!C7=\"Api\",Résultats!C6=\"Câble\"),Résultats!Q13,IF(AND(Résultats!C7=\"Api\",Résultats!C6=\"Rigide\"),Résultats!T13,IF(AND(Résultats!C7=\"Acn\",Résultats!C6=\"Câble\"),Résultats!Q35,IF(AND(Résultats!C7=\"Acn\",Résultats!C6=\"Rigide\"),Résultats!T35,\"\")))))","v":""}]
[null,{"$f":"IF(AND(MassifAnc1<>\"Aucun\",MassifAnc1<>\"Ae\"),IF(C10=\"\",\"\",IF(AND(C10<>0,C10<>\"Api\"),\"Poutrelle d'Ancrage\",\"\")),\"\")","v":""},null,null,null,{"$f":"IF(AND(MassifAnc2<>\"Aucun\",MassifAnc2<>\"Ae\"),IF(G10=\"\",\"\",IF(AND(G10<>0,G10<>\"Api\"),\"Poutrelle d'Ancrage\",\"\")),\"\")","v":""}]
[{"$f":"IF(B38=\"\",\"\",\"Poutrelle\")","v":""},{"$f":"IF(A39=\"\",\"\",IF(Résultats!B6=\"Câble\",IF(Résultats!B7=\"Apns\",Résultats!J20,IF(Résultats!B7=\"Acn\",Résultats!J43,\"Erreur\")),IF(Résultats!B6=\"Rigide\",IF(Résultats!B7=\"Apns\",Résultats!M20,IF(Résultats!B7=\"Acn\",Résultats!M43,\"Erreur\")),\"\")))","v":""},{"$f":"IF(B39=\"\",\"\",1)","v":""},null,{"$f":"IF(F38=\"\",\"\",\"Poutrelle\")","v":""},{"$f":"IF(E39=\"\",\"\",IF(Résultats!C6=\"Câble\",IF(Résultats!C7=\"Apns\",Résultats!Q20,IF(Résultats!C7=\"Acn\",Résultats!Q43,\"\")),IF(Résultats!C6=\"Rigide\",IF(Résultats!C7=\"Apns\",Résultats!T20,IF(Résultats!C7=\"Acn\",Résultats!T43,\"\")),\"\")))","v":""},{"$f":"IF(F39=\"\",\"\",1)","v":""}]
[null,{"$f":"IF(C10<>\"Apns\",\"\",\"Semelle d'Appui\")","v":""},null,null,null,{"$f":"IF(G10<>\"Apns\",\"\",\"Semelle d'Appui\")","v":""}]
[{"$f":"IF(B40=\"\",\"\",\"Semelle d'Appui\")","v":""},{"$f":"IF(A41=\"\",\"\",\"08828842\")","v":""},{"$f":"IF(A41=\"\",\"\",IF(Haubpref1=\"Câble\",Résultats!J21,Résultats!M21))","v":""},null,{"$f":"IF(F40=\"\",\"\",\"Semelle d'Appui\")","v":""},{"$f":"IF(E41=\"\",\"\",\"08828842\")","v":""},{"$f":"IF(E41=\"\",\"\",IF(Haubpref2=\"Câble\",Résultats!Q21,Résultats!T21))","v":""}]
[null,{"$f":"IF(C10<>\"Apns\",\"\",\"Cuvette\")","v":""},null,null,null,{"$f":"IF(G10<>\"Apns\",\"\",\"Cuvette\")","v":""}]
[{"$f":"IF(B42=\"\",\"\",\"Cuvette\")","v":""},{"$f":"IF(A43=\"\",\"\",IF(Résultats!B6=\"Câble\",IF(Résultats!B7=\"Apns\",Résultats!J24,\"Erreur\"),IF(Résultats!B6=\"Rigide\",IF(Résultats!B7=\"Apns\",Résultats!M24,\"Erreur\"),\"Erreur\")))","v":""},{"$f":"IF(A43=\"\",\"\",IF(Résultats!B6=\"Câble\",IF(Résultats!B7=\"Apns\",Résultats!J23,\"Erreur\"),IF(Résultats!B6=\"Rigide\",IF(Résultats!B7=\"Apns\",Résultats!M23,\"Erreur\"),\"Erreur\")))","v":""},null,{"$f":"IF(F42=\"\",\"\",\"Cuvette\")","v":""},{"$f":"IF(E43=\"\",\"\",IF(Résultats!C6=\"Câble\",IF(Résultats!C7=\"Apns\",Résultats!Q24,\"Erreur\"),IF(Résultats!C6=\"Rigide\",IF(Résultats!C7=\"Apns\",Résultats!T24,\"Erreur\"),\"Erreur\")))","v":""},{"$f":"IF(E43=\"\",\"\",IF(Résultats!C6=\"Câble\",IF(Résultats!C7=\"Apns\",Résultats!Q23,\"Erreur\"),IF(Résultats!C6=\"Rigide\",IF(Résultats!C7=\"Apns\",Résultats!T23,\"Erreur\"),\"Erreur\")))","v":""}]
[null,"Tiges filetees",null,null,null,{"$f":"IF(F20=\"\",\"\",\"Tiges filetees\")","v":"Tiges filetees"}]
[{"$f":"IF(Résultats!B7=\"Apns\",\"TF M27-1000/300\",\"\")","v":""},{"$f":"IF(Résultats!B7=\"Apns\",\"08800300\",\"\")","v":""},{"$f":"IF(A45=\"\",\"\",IF(Résultats!B6=\"Câble\",IF(Résultats!B7=\"Apns\",Résultats!J25,\"Erreur\"),IF(Résultats!B6=\"Rigide\",IF(Résultats!B7=\"Apns\",Résultats!M25,\"Erreur\"),\"Erreur\")))","v":""},null,{"$f":"IF(Résultats!C7=\"Apns\",\"TF M27-1000/300\",\"\")","v":""},{"$f":"IF(Résultats!C7=\"Apns\",\"08800300\",\"\")","v":""},{"$f":"IF(E45=\"\",\"\",IF(Résultats!C6=\"Câble\",IF(Résultats!C7=\"Apns\",Résultats!Q25,\"Erreur\"),IF(Résultats!C6=\"Rigide\",IF(Résultats!C7=\"Apns\",Résultats!T25,\"Erreur\"),\"Erreur\")))","v":""}]
[{"$f":"IFERROR(VLOOKUP(B46,Matériels!$B$35:$C$43,2,FALSE),\"\")","v":"B. H M22-100/50"},{"$f":"IF(Résultats!R50=\"\",\"\",Résultats!R50)","v":"01602487"},{"$f":"IF(B46=\"\",\"\",4)","v":4},null,{"$f":"IFERROR(VLOOKUP(F46,Matériels!$B$35:$C$43,2,FALSE),\"\")","v":""},{"$f":"IF($F$8=\"\",\"\",Résultats!S50)","v":""},{"$f":"IF(F46=\"\",\"\",4)","v":""}]
[{"$f":"IFERROR(VLOOKUP(B47,Matériels!$B$35:$C$43,2,FALSE),\"\")","v":"B. H M22-100/50"},{"$f":"IF(Résultats!R51=\"\",\"\",Résultats!R51)","v":"01602487"},4,null,{"$f":"IFERROR(VLOOKUP(F47,Matériels!$B$35:$C$43,2,FALSE),\"\")","v":""},{"$f":"IF($F$8=\"\",\"\",Résultats!S51)","v":""},{"$f":"IF(F47=\"\",\"\",4)","v":""}]
[{"$f":"IFERROR(VLOOKUP(B48,Matériels!$B$35:$C$43,2,FALSE),\"\")","v":""},{"$f":"IF(Résultats!R52=\"\",\"\",Résultats!R52)","v":""},"",null,{"$f":"IFERROR(VLOOKUP(F48,Matériels!$B$35:$C$43,2,FALSE),\"\")","v":""},{"$f":"IF($F$8=\"\",\"\",Résultats!S52)","v":""},""]
[{"$f":"IFERROR(VLOOKUP(B49,Matériels!$B$35:$C$43,2,FALSE),\"\")","v":""},{"$f":"IF(Résultats!R53=\"\",\"\",Résultats!R53)","v":""},"",null,{"$f":"IFERROR(VLOOKUP(F49,Matériels!$B$35:$C$43,2,FALSE),\"\")","v":""},{"$f":"IF($F$8=\"\",\"\",Résultats!S53)","v":""},""]
[{"$f":"IFERROR(VLOOKUP(B50,Matériels!$B$35:$C$43,2,FALSE),\"\")","v":""},{"$f":"IF(Résultats!R54=\"\",\"\",Résultats!R54)","v":""},"",null,{"$f":"IFERROR(VLOOKUP(F50,Matériels!$B$35:$C$43,2,FALSE),\"\")","v":""},{"$f":"IF($F$8=\"\",\"\",Résultats!S54)","v":""},""]
[{"$f":"IFERROR(VLOOKUP(B51,Matériels!$B$35:$C$43,2,FALSE),\"\")","v":""},{"$f":"IF(Résultats!R55=\"\",\"\",Résultats!R55)","v":""},"",null,{"$f":"IFERROR(VLOOKUP(F51,Matériels!$B$35:$C$43,2,FALSE),\"\")","v":""},{"$f":"IF($F$8=\"\",\"\",Résultats!S55)","v":""},""]
[{"$f":"IFERROR(VLOOKUP(B52,Matériels!$B$35:$C$43,2,FALSE),\"\")","v":""},{"$f":"IF(Résultats!R56=\"\",\"\",Résultats!R56)","v":""},"",null,{"$f":"IFERROR(VLOOKUP(F52,Matériels!$B$35:$C$43,2,FALSE),\"\")","v":""},{"$f":"IF($F$8=\"\",\"\",Résultats!S56)","v":""},""]
[null,"Rondelles",null,null,null,"Rondelles"]
[{"$f":"IFERROR(VLOOKUP(B54,Matériels!$B$35:$C$43,2,FALSE),\"\")","v":""},{"$f":"IF(Résultats!T50=\"\",\"\",Résultats!T50)","v":""},{"$f":"IF(B54=\"\",\"\",Résultats!T57)","v":""},null,{"$f":"IFERROR(VLOOKUP(F54,Matériels!$B$35:$C$43,2,FALSE),\"\")","v":""},{"$f":"IF(Résultats!U50=\"\",\"\",Résultats!U50)","v":""},{"$f":"IF(F54=\"\",\"\",Résultats!U57)","v":""}]
[null,"Appareil Tendeur",null,null,null,"Appareil Tendeur"]
[{"$f":"IF(B56=\"\",\"\",\"Ens. Montage Appareil Tendeur\")","v":"Ens. Montage Appareil Tendeur"},{"$f":"IF(Résultats!B45=\"\",\"\",Résultats!B45)","v":"10984102"},{"$f":"IF(B56=\"\",\"\",1)","v":1},null,{"$f":"IF(F56=\"\",\"\",\"Ens. Montage Appareil Tendeur\")","v":""},{"$f":"IF(Résultats!C45=\"\",\"\",Résultats!C45)","v":""},{"$f":"IF(F56=\"\",\"\",1)","v":""}]
[{"$f":"IF(B57=\"\",\"\",\"Ens. Montage Appareil Tendeur\")","v":""},{"$f":"IF(Résultats!B46=\"\",\"\",Résultats!B46)","v":""},{"$f":"IF(B57=\"\",\"\",1)","v":""},null,{"$f":"IF(F57=\"\",\"\",\"Ens. Montage Appareil Tendeur\")","v":""},{"$f":"IF(Résultats!C46=\"\",\"\",Résultats!C46)","v":""},{"$f":"IF(F57=\"\",\"\",1)","v":""}]
[null,"Ancrage Conducteurs",null,null,null,"Ancrage Conducteurs"]
[{"$f":"IFERROR(VLOOKUP(B59,Matériels!$B$7:$C$1004,2,FALSE),\"\")","v":"Ancrage de 2 Porteurs CR"},{"$f":"IF(Résultats!B47=\"\",\"\",Résultats!B47)","v":"30982805"},{"$f":"IF(B59=\"\",\"\",1)","v":1},null,{"$f":"IFERROR(VLOOKUP(F59,Matériels!$B$35:$C$43,2,FALSE),\"\")","v":""},{"$f":"IF(Résultats!C47=\"\",\"\",Résultats!C47)","v":""},{"$f":"IF(F59=\"\",\"\",1)","v":""}]
[{"$f":"IFERROR(VLOOKUP(B60,Matériels!$B$7:$C$1004,2,FALSE),\"\")","v":"Ancrage de 2 Porteurs CR"},{"$f":"IF(Résultats!B48=\"\",\"\",Résultats!B48)","v":"30982805"},{"$f":"IF(B60=\"\",\"\",1)","v":1},null,{"$f":"IFERROR(VLOOKUP(F60,Matériels!$B$35:$C$43,2,FALSE),\"\")","v":""},{"$f":"IF(Résultats!C48=\"\",\"\",Résultats!C48)","v":""},{"$f":"IF(F60=\"\",\"\",1)","v":""}]
[{"$f":"IFERROR(VLOOKUP(B61,Matériels!$B$7:$C$1004,2,FALSE),\"\")","v":""},{"$f":"IF(Résultats!B49=\"\",\"\",Résultats!B49)","v":""},{"$f":"IF(B61=\"\",\"\",1)","v":""},null,{"$f":"IFERROR(VLOOKUP(F61,Matériels!$B$35:$C$43,2,FALSE),\"\")","v":""},{"$f":"IF(Résultats!C49=\"\",\"\",Résultats!C49)","v":""},""]
[{"$f":"IFERROR(VLOOKUP(B62,Matériels!$B$7:$C$1004,2,FALSE),\"\")","v":""},{"$f":"IF(Résultats!$B$59=\"\",\"\",Résultats!$B$59)","v":""},{"$f":"IF(B62=\"\",\"\",1)","v":""},null,{"$f":"IFERROR(VLOOKUP(F62,Matériels!$B$35:$C$43,2,FALSE),\"\")","v":""},{"$f":"IF(Résultats!$C$59=\"\",\"\",Résultats!$C$59)","v":""},{"$f":"IF(F62=\"\",\"\",1)","v":""}]
[null,"Isolement Supplémentaire",null,null,null,"Isolement Supplémentaire"]
[{"$f":"IFERROR(VLOOKUP(B64,Matériels!$B$35:$C$43,2,FALSE),\"\")","v":""},{"$f":"IF(Résultats!K66=\"\",\"\",Résultats!K66)","v":""},{"$f":"IF(Résultats!L66=\"\",\"\",Résultats!L66)","v":""},null,{"$f":"IFERROR(VLOOKUP(F64,Matériels!$B$35:$C$43,2,FALSE),\"\")","v":""},{"$f":"IF(Résultats!N66=\"\",\"\",Résultats!N66)","v":""},{"$f":"IF(Résultats!O66=\"\",\"\",Résultats!O66)","v":""}]
[{"$f":"IFERROR(VLOOKUP(B65,Matériels!$B$35:$C$43,2,FALSE),\"\")","v":""},{"$f":"IF(Résultats!K67=\"\",\"\",Résultats!K67)","v":""},{"$f":"IF(Résultats!L67=\"\",\"\",Résultats!L67)","v":""},null,{"$f":"IFERROR(VLOOKUP(F65,Matériels!$B$35:$C$43,2,FALSE),\"\")","v":""},{"$f":"IF(Résultats!N67=\"\",\"\",Résultats!N67)","v":""},{"$f":"IF(Résultats!O67=\"\",\"\",Résultats!O67)","v":""}]
[{"$f":"IFERROR(VLOOKUP(B66,Matériels!$B$35:$C$43,2,FALSE),\"\")","v":""},{"$f":"IF(Résultats!K68=\"\",\"\",Résultats!K68)","v":""},{"$f":"IF(Résultats!L68=\"\",\"\",Résultats!L68)","v":""},null,{"$f":"IFERROR(VLOOKUP(F66,Matériels!$B$35:$C$43,2,FALSE),\"\")","v":""},{"$f":"IF(Résultats!N68=\"\",\"\",Résultats!N68)","v":""},{"$f":"IF(Résultats!O68=\"\",\"\",Résultats!O68)","v":""}]
[{"$f":"IFERROR(VLOOKUP(B67,Matériels!$B$35:$C$43,2,FALSE),\"\")","v":""},{"$f":"IF(Résultats!K69=\"\",\"\",Résultats!K69)","v":""},{"$f":"IF(Résultats!L69=\"\",\"\",Résultats!L69)","v":""},null,{"$f":"IFERROR(VLOOKUP(F67,Matériels!$B$35:$C$43,2,FALSE),\"\")","v":""},{"$f":"IF(Résultats!N69=\"\",\"\",Résultats!N69)","v":""},{"$f":"IF(Résultats!O69=\"\",\"\",Résultats!O69)","v":""}]
[{"$f":"IFERROR(VLOOKUP(B68,Matériels!$B$35:$C$43,2,FALSE),\"\")","v":""},{"$f":"IF(Résultats!K70=\"\",\"\",Résultats!K70)","v":""},{"$f":"IF(Résultats!L70=\"\",\"\",Résultats!L70)","v":""},null,{"$f":"IFERROR(VLOOKUP(F68,Matériels!$B$35:$C$43,2,FALSE),\"\")","v":""},{"$f":"IF(Résultats!N70=\"\",\"\",Résultats!N70)","v":""},{"$f":"IF(Résultats!O70=\"\",\"\",Résultats!O70)","v":""}]
[{"$f":"IFERROR(VLOOKUP(B69,Matériels!$B$35:$C$43,2,FALSE),\"\")","v":""},{"$f":"IF(Résultats!K71=\"\",\"\",Résultats!K71)","v":""},{"$f":"IF(Résultats!L71=\"\",\"\",Résultats!L71)","v":""},null,{"$f":"IFERROR(VLOOKUP(F69,Matériels!$B$35:$C$43,2,FALSE),\"\")","v":""},{"$f":"IF(Résultats!N71=\"\",\"\",Résultats!N71)","v":""},{"$f":"IF(Résultats!O71=\"\",\"\",Résultats!O71)","v":""}]
[{"$f":"IFERROR(VLOOKUP(B70,Matériels!$B$35:$C$43,2,FALSE),\"\")","v":""},{"$f":"IF(Résultats!K72=\"\",\"\",Résultats!K72)","v":""},{"$f":"IF(Résultats!L72=\"\",\"\",Résultats!L72)","v":""},null,{"$f":"IFERROR(VLOOKUP(F70,Matériels!$B$35:$C$43,2,FALSE),\"\")","v":""},{"$f":"IF(Résultats!N72=\"\",\"\",Résultats!N72)","v":""},{"$f":"IF(Résultats!O72=\"\",\"\",Résultats!O72)","v":""}]
[{"$f":"IFERROR(VLOOKUP(B71,Matériels!$B$35:$C$43,2,FALSE),\"\")","v":""},{"$f":"IF(Résultats!K73=\"\",\"\",Résultats!K73)","v":""},{"$f":"IF(Résultats!L73=\"\",\"\",Résultats!L73)","v":""},null,{"$f":"IFERROR(VLOOKUP(F71,Matériels!$B$35:$C$43,2,FALSE),\"\")","v":""},{"$f":"IF(Résultats!N73=\"\",\"\",Résultats!N73)","v":""},{"$f":"IF(Résultats!O73=\"\",\"\",Résultats!O73)","v":""}]
[{"$f":"IFERROR(VLOOKUP(B72,Matériels!$B$35:$C$43,2,FALSE),\"\")","v":""},{"$f":"IF(Résultats!K74=\"\",\"\",Résultats!K74)","v":""},{"$f":"IF(Résultats!L74=\"\",\"\",Résultats!L74)","v":""},null,{"$f":"IFERROR(VLOOKUP(F72,Matériels!$B$35:$C$43,2,FALSE),\"\")","v":""},{"$f":"IF(Résultats!N74=\"\",\"\",Résultats!N74)","v":""},{"$f":"IF(Résultats!O74=\"\",\"\",Résultats!O74)","v":""}]

{"sheet":"Gestion des calques","index":2,"n_rows":144,"n_cols":35,"rows_kept":144,"cut":false,"hidden":true,"merged":[[42,15,48,15]]}
[1,2,3,4,5,6,7,8,9,10,11,12,13,14,15,16,17,18,19,20]
["Calques","Couleurs","Statut","Epaisseur",null,null,null,null,null,null,null,null,null,null,null,"Code","Couleur"]
[{"$f":"IF(Q11=\"\",Q22,IF(ISNUMBER(Q11)=TRUE,VALUE(Q11),Q11))","v":0},{"$f":"IF(R11=\"\",R22,R11)","v":0},{"$f":"IF(T11=\"\",T22,T11)","v":"Existant"},{"$f":"IF(IF(S11=\"\",S22,S11)=\"\",\"Pardéfaut\",IF(S11=\"\",S22,S11))","v":"Pardéfaut"},null,null,null,null,null,null,null,null,null,null,null,1,"Pose"]
[{"$f":"IF(Q12=\"\",Q23,IF(ISNUMBER(Q12)=TRUE,VALUE(Q12),Q12))","v":1},{"$f":"IF(R12=\"\",R23,R12)","v":0},{"$f":"IF(T12=\"\",T23,T12)","v":"Existant"},{"$f":"IF(IF(S12=\"\",S23,S12)=\"\",\"Pardéfaut\",IF(S12=\"\",S23,S12))","v":"0,09"},null,null,null,null,null,null,null,null,null,null,null,40,"Dépose"]
[2,0,"Existant","0,15",null,null,null,null,null,null,null,null,null,null,null,140,"Réutilisé"]
[3,0,"Existant","0,3",null,null,null,null,null,null,null,null,null,null,null,3,"Provisoire"]
[4,0,"Existant",{"$f":"IF(IF(S15=\"\",S26,S15)=\"\",\"Pardéfaut\",IF(S15=\"\",S26,S15))","v":"0,09"},null,null,null,null,null,null,null,null,null,null,null,7,"Existant"]
[5,0,"Existant","0,50",null,null,null,null,null,null,null,null,null,null,null,4,"ARM"]
[6,0,"Existant","Pardéfaut",null,null,null,null,null,null,null,null,null,null,null,10,"Pose"]
[7,0,"Existant","Pardéfaut",null,null,null,null,null,null,null,null,null,null,null,null,"Calque","Color","Ep","Statut"]
["0","",{"$f":"IF(T19=\"\",T30,T19)","v":"Existant"},"Pardéfaut",null,null,null,null,null,null,null,null,null,null,null,1,0,0,"Pardéfaut",{"$f":"IFERROR(IF(R11=\"\",\"\",VLOOKUP(R11,$P$3:$Q$9,2,FALSE)),\"Existant\")","v":"Existant"}]
[null,"Calque perso","Calque défini","Cotation","Statut","Position",null,"Ancrage N° 1","Symbole","Quantitées","Statut","Ancrage N° 2","Symbole","Quantitées","Statut",2,1,0,"0,09",{"$f":"IFERROR(IF(R12=\"\",\"\",VLOOKUP(R12,$P$3:$Q$9,2,FALSE)),\"Existant\")","v":"Existant"}]
["PMR",null,{"$f":"IF(B13=\"\",0,B13)","v":0},{"$f":"IF(VLOOKUP(C13,$A$3:$B$11,2,FALSE)=1,\"CAT_COT\",IF(VLOOKUP(C13,$A$3:$B$11,2,FALSE)=40,\"CAT_dépose\",0))","v":0},{"$f":"VLOOKUP(C13,$A$3:$C$11,3,FALSE)","v":"Existant"},5,"Pieces Ancrage haubans",null,null,null,null,null,null,null,null,3,2,0,"0,15",{"$f":"IFERROR(IF(R13=\"\",\"\",VLOOKUP(R13,$P$3:$Q$9,2,FALSE)),\"Existant\")","v":"Existant"}]
["ORIENTATION",null,{"$f":"IF(B14=\"\",0,B14)","v":0},{"$f":"IF(VLOOKUP(C14,$A$3:$B$11,2,FALSE)=1,\"CAT_COT\",IF(VLOOKUP(C14,$A$3:$B$11,2,FALSE)=40,\"CAT_dépose\",0))","v":0},{"$f":"VLOOKUP(C14,$A$3:$C$11,3,FALSE)","v":"Existant"},null,"Hauban 1",{"$f":"IF(Resultats!B13=\"\",\"\",Resultats!B13&Resultats!C13)","v":"22155"},{"$f":"IF(H14=\"\",\"\",VLOOKUP(H14,Matériels!$J$2:$N$764,5,FALSE))","v":"08820565"},{"$f":"IF(Resultats!B13=\"\",\"\",Resultats!D13)","v":1},{"$f":"IF(I14=\"\",\"\",VLOOKUP($C$26,$A$3:$C$11,3,FALSE))","v":"Existant"},{"$f":"IF(Resultats!G13=\"\",\"\",Resultats!G13&Resultats!H13)","v":""},{"$f":"IF(L14=\"\",\"\",VLOOKUP(L14,Matériels!$J$2:$N$764,5,FALSE))","v":""},{"$f":"IF(Resultats!G13=\"\",\"\",Resultats!I13)","v":""},{"$f":"IF(M14=\"\",\"\",VLOOKUP($C$38,$A$3:$C$11,3,FALSE))","v":""},4,3,0,"0,3","Existant"]
["Support",null,0,{"$f":"IF(VLOOKUP(C15,$A$3:$B$11,2,FALSE)=1,\"CAT_COT\",IF(VLOOKUP(C15,$A$3:$B$11,2,FALSE)=40,\"CAT_dépose\",0))","v":0},{"$f":"VLOOKUP(C15,$A$3:$C$11,3,FALSE)","v":"Existant"},null,"Hauban 2",{"$f":"IF(Resultats!B14=\"\",\"\",Resultats!B14&Resultats!C14)","v":"22155"},{"$f":"IF(H15=\"\",\"\",VLOOKUP(H15,Matériels!$J$2:$N$764,5,FALSE))","v":"08820565"},{"$f":"IF(Resultats!B14=\"\",\"\",Resultats!D14)","v":1},{"$f":"IF(I15=\"\",\"\",VLOOKUP($C$26,$A$3:$C$11,3,FALSE))","v":"Existant"},{"$f":"IF(Resultats!G14=\"\",\"\",Resultats!G14&Resultats!H14)","v":""},{"$f":"IF(L15=\"\",\"\",VLOOKUP(L15,Matériels!$J$2:$N$764,5,FALSE))","v":""},{"$f":"IF(Resultats!G14=\"\",\"\",Resultats!I14)","v":""},{"$f":"IF(M15=\"\",\"\",VLOOKUP($C$38,$A$3:$C$11,3,FALSE))","v":""},5,4,0,"0,09","Existant"]
[null,null,null,null,null,null,"Hauban 3",{"$f":"IF(Resultats!B15=\"\",\"\",Resultats!B15&Resultats!C15)","v":""},{"$f":"IF(H16=\"\",\"\",VLOOKUP(H16,Matériels!$J$2:$N$764,5,FALSE))","v":""},{"$f":"IF(Resultats!B15=\"\",\"\",Resultats!D15)","v":""},{"$f":"IF(I16=\"\",\"\",VLOOKUP($C$26,$A$3:$C$11,3,FALSE))","v":""},{"$f":"IF(Resultats!G15=\"\",\"\",Resultats!G15&Resultats!H15)","v":""},{"$f":"IF(L16=\"\",\"\",VLOOKUP(L16,Matériels!$J$2:$N$764,5,FALSE))","v":""},{"$f":"IF(Resultats!G15=\"\",\"\",Resultats!I15)","v":""},{"$f":"IF(M16=\"\",\"\",VLOOKUP($C$38,$A$3:$C$11,3,FALSE))","v":""},6,5,0,"0,50","Existant"]
["Ancrage n°1",null,{"$f":"IF(B17=\"\",0,B17)","v":0},{"$f":"IF(VLOOKUP(C17,$A$3:$B$11,2,FALSE)=1,\"CAT_COT\",IF(VLOOKUP(C17,$A$3:$B$11,2,FALSE)=40,\"CAT_dépose\",0))","v":0},{"$f":"VLOOKUP(C17,$A$3:$C$11,3,FALSE)","v":"Existant"},null,"Hauban 4",{"$f":"IF(Resultats!B16=\"\",\"\",Resultats!B16&Resultats!C16)","v":""},{"$f":"IF(H17=\"\",\"\",VLOOKUP(H17,Matériels!$J$2:$N$764,5,FALSE))","v":""},{"$f":"IF(Resultats!B16=\"\",\"\",Resultats!D16)","v":""},{"$f":"IF(I17=\"\",\"\",VLOOKUP($C$26,$A$3:$C$11,3,FALSE))","v":""},{"$f":"IF(Resultats!G16=\"\",\"\",Resultats!G16&Resultats!H16)","v":""},{"$f":"IF(L17=\"\",\"\",VLOOKUP(L17,Matériels!$J$2:$N$764,5,FALSE))","v":""},{"$f":"IF(Resultats!G16=\"\",\"\",Resultats!I16)","v":""},{"$f":"IF(M17=\"\",\"\",VLOOKUP($C$38,$A$3:$C$11,3,FALSE))","v":""},7,6,0,"Pardéfaut","Existant"]
["Ancrage conducteurs",null,{"$f":"IF($B$18=\"\",$C$17,$B$18)","v":0},0,{"$f":"VLOOKUP(C18,$A$3:$C$11,3,FALSE)","v":"Existant"},4,"Pieces Ancrage cables",null,{"$f":"IF(H18=\"\",\"\",VLOOKUP(H18,Matériels!$J$2:$N$764,5,FALSE))","v":""},null,null,null,{"$f":"IF(L18=\"\",\"\",VLOOKUP(L18,Matériels!$J$2:$N$764,5,FALSE))","v":""},null,null,8,7,0,"Pardéfaut",{"$f":"IFERROR(IF(R18=\"\",\"\",VLOOKUP(R18,$P$3:$Q$9,2,FALSE)),\"Existant\")","v":"Existant"}]
["Point n°1",null,{"$f":"IF(B19=\"\",$C$18,B19)","v":0},0,"Existant",null,"Ancrage 1",{"$f":"IF(Resultats!B17=\"\",\"\",Resultats!B17&Resultats!C17)","v":"22173"},{"$f":"IF(H19=\"\",\"\",VLOOKUP(H19,Matériels!$J$2:$N$764,5,FALSE))","v":"08820583"},{"$f":"IF(Resultats!B17=\"\",\"\",Resultats!D17)","v":1},{"$f":"IF(I19=\"\",\"\",IF($C$25=0,VLOOKUP($C$25,$A$3:$C$11,3,FALSE),VLOOKUP(C19,$A$3:$C$11,3,FALSE)))","v":"Existant"},{"$f":"IF(Resultats!G17=\"\",\"\",Resultats!G17&Resultats!H17)","v":""},{"$f":"IF(L19=\"\",\"\",VLOOKUP(L19,Matériels!$J$2:$N$764,5,FALSE))","v":""},{"$f":"IF(Resultats!G17=\"\",\"\",Resultats!I17)","v":""},{"$f":"IF(M19=\"\",\"\",IF($C$37=0,VLOOKUP($C$37,$A$3:$C$11,3,FALSE),VLOOKUP(C31,$A$3:$C$11,3,FALSE)))","v":""},9,null,null,null,{"$f":"IFERROR(IF(R19=\"\",\"\",VLOOKUP(R19,$P$3:$Q$9,2,FALSE)),\"Existant\")","v":""}]
["Point n°2",null,{"$f":"IF(B20=\"\",$C$18,B20)","v":0},0,"Existant",null,"Ancrage 2",{"$f":"IF(Resultats!B18=\"\",\"\",Resultats!B18&Resultats!C18)","v":"22173"},{"$f":"IF(H20=\"\",\"\",VLOOKUP(H20,Matériels!$J$2:$N$764,5,FALSE))","v":"08820583"},{"$f":"IF(Resultats!B18=\"\",\"\",Resultats!D18)","v":1},{"$f":"IF(I20=\"\",\"\",IF($C$25=0,VLOOKUP($C$25,$A$3:$C$11,3,FALSE),VLOOKUP(C20,$A$3:$C$11,3,FALSE)))","v":"Existant"},{"$f":"IF(Resultats!G18=\"\",\"\",Resultats!G18&Resultats!H18)","v":""},{"$f":"IF(L20=\"\",\"\",VLOOKUP(L20,Matériels!$J$2:$N$764,5,FALSE))","v":""},{"$f":"IF(Resultats!G18=\"\",\"\",Resultats!I18)","v":""},{"$f":"IF(M19=\"\",\"\",IF($C$37=0,VLOOKUP($C$37,$A$3:$C$11,3,FALSE),VLOOKUP(C32,$A$3:$C$11,3,FALSE)))","v":""}]
["Point n°3",null,0,0,"Existant",null,"Ancrage 3",{"$f":"IF(Resultats!B19=\"\",\"\",Resultats!B19&Resultats!C19)","v":""},{"$f":"IF(H21=\"\",\"\",VLOOKUP(H21,Matériels!$J$2:$N$764,5,FALSE))","v":""},{"$f":"IF(Resultats!B19=\"\",\"\",Resultats!D19)","v":""},{"$f":"IF(I21=\"\",\"\",IF($C$25=0,VLOOKUP($C$25,$A$3:$C$11,3,FALSE),VLOOKUP(C21,$A$3:$C$11,3,FALSE)))","v":""},{"$f":"IF(Resultats!G19=\"\",\"\",Resultats!G19&Resultats!H19)","v":""},{"$f":"IF(L21=\"\",\"\",VLOOKUP(L21,Matériels!$J$2:$N$764,5,FALSE))","v":""},{"$f":"IF(Resultats!G19=\"\",\"\",Resultats!I19)","v":""},{"$f":"IF(M19=\"\",\"\",IF($C$37=0,VLOOKUP($C$37,$A$3:$C$11,3,FALSE),VLOOKUP(C33,$A$3:$C$11,3,FALSE)))","v":""},{"$f":"Calculs!A1","v":"C2F"},"Calque","Color","Ep","Statut",null,"Toulouse","Calque","Color","Ep",null,"St Genis Laval","Calque","Color","Ep",null,"Chelles","Calque","Color","Ep"]
["Appareil Tendeur",null,{"$f":"IF($B$22=\"\",$C$17,$B$22)","v":0},0,"Existant",1,"Ancrage Conducteurs",null,{"$f":"IF(H22=\"\",\"\",VLOOKUP(H22,Matériels!$J$2:$N$764,5,FALSE))","v":""},null,null,null,{"$f":"IF(L22=\"\",\"\",VLOOKUP(L22,Matériels!$J$2:$N$764,5,FALSE))","v":""},null,null,1,0,7,null,{"$f":"IFERROR(VLOOKUP(R22,$P$3:$Q$9,2,FALSE),\"Existant\")","v":"Existant"},null,1,0,7,"",null,1,0,7,"",null,1,0,7,""]
["Point n°1",null,{"$f":"IF(B23=\"\",$C$22,B23)","v":0},0,"Existant",null,1,{"$f":"IF(Resultats!B59=\"\",\"\",Resultats!B59&Resultats!C59)","v":"10985352"},{"$f":"IF(H23=\"\",\"\",VLOOKUP(H23,Matériels!$J$2:$N$764,5,FALSE))","v":"30982805"},{"$f":"IF(Resultats!B59=\"\",\"\",Resultats!D59)","v":1},{"$f":"IF(I23=\"\",\"\",VLOOKUP(C19,$A$3:$C$11,3,FALSE))","v":"Existant"},{"$f":"IF(Resultats!G59=\"\",\"\",Resultats!G59&Resultats!H59)","v":""},{"$f":"IF(L23=\"\",\"\",VLOOKUP(L23,Matériels!$J$2:$N$764,5,FALSE))","v":""},{"$f":"IF(Resultats!G59=\"\",\"\",Resultats!I59)","v":""},{"$f":"IF(M23=\"\",\"\",VLOOKUP(C31,$A$3:$C$11,3,FALSE))","v":""},2,{"$f":"IF($P$21=$V$21,W23,IF($P$21=$AA$21,AB23,IF($P$21=$AF$21,AG23,\"0\")))","v":"0"},{"$f":"IF($P$21=$V$21,X23,IF($P$21=$AA$21,AC23,IF($P$21=$AF$21,AH23,\"\")))","v":""},{"$f":"IF($P$21=$V$21,Y23,IF($P$21=$AA$21,AD23,IF($P$21=$AF$21,AI23,\"\")))","v":""},{"$f":"IFERROR(VLOOKUP(R23,$P$3:$Q$9,2,FALSE),\"Existant\")","v":"Existant"},null,2,"CAT",7,0.09,null,2,"CAT",7,"",null,2,"CAT",7,""]
["Point n°2",null,{"$f":"IF(B24=\"\",$C$22,B24)","v":0},0,"Existant",null,2,{"$f":"IF(Resultats!B60=\"\",\"\",Resultats!B60&Resultats!C60)","v":"10985352"},{"$f":"IF(H24=\"\",\"\",VLOOKUP(H24,Matériels!$J$2:$N$764,5,FALSE))","v":"30982805"},{"$f":"IF(Resultats!B60=\"\",\"\",Resultats!D60)","v":1},{"$f":"IF(I24=\"\",\"\",VLOOKUP(C20,$A$3:$C$11,3,FALSE))","v":"Existant"},{"$f":"IF(Resultats!G60=\"\",\"\",Resultats!G60&Resultats!H60)","v":""},{"$f":"IF(L24=\"\",\"\",VLOOKUP(L24,Matériels!$J$2:$N$764,5,FALSE))","v":""},{"$f":"IF(Resultats!G60=\"\",\"\",Resultats!I60)","v":""},{"$f":"IF(M24=\"\",\"\",VLOOKUP(C32,$A$3:$C$11,3,FALSE))","v":""},3,{"$f":"IF($P$21=$V$21,W24,IF($P$21=$AA$21,AB24,IF($P$21=$AF$21,AG24,\"0\")))","v":"0"},{"$f":"IF($P$21=$V$21,X24,IF($P$21=$AA$21,AC24,IF($P$21=$AF$21,AH24,\"\")))","v":""},{"$f":"IF($P$21=$V$21,Y24,IF($P$21=$AA$21,AD24,IF($P$21=$AF$21,AI24,\"\")))","v":""},"Existant",null,3,"CAT_COT",1,0.09,null,3,"CAT_COT",6,"",null,3,"CAT_COT",6,""]
["Pieces Ancrage",null,{"$f":"IF(B25=\"\",$C$17,B25)","v":0},0,"Existant",null,3,{"$f":"IF(Resultats!B61=\"\",\"\",Resultats!B61&Resultats!C61)","v":""},{"$f":"IF(H25=\"\",\"\",VLOOKUP(H25,Matériels!$J$2:$N$764,5,FALSE))","v":""},{"$f":"IF(Resultats!B61=\"\",\"\",Resultats!D61)","v":""},{"$f":"IF(I25=\"\",\"\",VLOOKUP(C21,$A$3:$C$11,3,FALSE))","v":""},{"$f":"IF(Resultats!G61=\"\",\"\",Resultats!G61&Resultats!H61)","v":""},{"$f":"IF(L25=\"\",\"\",VLOOKUP(L25,Matériels!$J$2:$N$764,5,FALSE))","v":""},{"$f":"IF(Resultats!G61=\"\",\"\",Resultats!I61)","v":""},{"$f":"IF(M25=\"\",\"\",VLOOKUP(C33,$A$3:$C$11,3,FALSE))","v":""},4,"0","","","Existant",null,4,"CAT_dépose",40,0.09,null,4,"CAT_dépose",40,"",null,4,"CAT_dépose",40,""]
["Haubans Ancrage",null,{"$f":"IF(B26=\"\",$C$17,B26)","v":0},0,"Existant",null,4,{"$f":"IF(Resultats!B62=\"\",\"\",Resultats!B62&Resultats!C62)","v":""},{"$f":"IF(H26=\"\",\"\",VLOOKUP(H26,Matériels!$J$2:$N$764,5,FALSE))","v":""},{"$f":"IF(Resultats!B62=\"\",\"\",Resultats!D62)","v":""},{"$f":"IF(I26=\"\",\"\",K23)","v":""},{"$f":"IF(Resultats!G62=\"\",\"\",Resultats!G62&Resultats!H62)","v":""},{"$f":"IF(L26=\"\",\"\",VLOOKUP(L26,Matériels!$J$2:$N$764,5,FALSE))","v":""},{"$f":"IF(Resultats!G62=\"\",\"\",Resultats!I62)","v":""},{"$f":"IF(M26=\"\",\"\",O23)","v":""},5,"0","","","Existant",null,5,"CAT_fin",7,"0,00",null,5,"CAT_fin",6,"",null,5,"CAT_fin",6,""]
["Massif",null,{"$f":"IF(B27=\"\",$C$17,B27)","v":0},0,"Existant",2,"Isos supple.",null,{"$f":"IF(H27=\"\",\"\",VLOOKUP(H27,Matériels!$J$2:$N$764,5,FALSE))","v":""},null,null,null,{"$f":"IF(L27=\"\",\"\",VLOOKUP(L27,Matériels!$J$2:$N$764,5,FALSE))","v":""},null,null,6,"0","","","Existant",null,6,"CAT_pose",1,0.09,null,6,"CAT_pose",10,"",null,6,"CAT_pose",10,""]
[null,null,null,null,null,null,1,{"$f":"IF(Resultats!B64=\"\",\"\",Resultats!B64&Resultats!C64)","v":""},{"$f":"IF(H28=\"\",\"\",VLOOKUP(H28,Matériels!$J$2:$N$764,5,FALSE))","v":""},{"$f":"IF(Resultats!B64=\"\",\"\",Resultats!D64)","v":""},{"$f":"IF(I28=\"\",\"\",VLOOKUP(C19,$A$3:$C$11,3,FALSE))","v":""},{"$f":"IF(Resultats!G64=\"\",\"\",Resultats!G64&Resultats!H64)","v":""},{"$f":"IF(L28=\"\",\"\",VLOOKUP(L28,Matériels!$J$2:$N$764,5,FALSE))","v":""},{"$f":"IF(Resultats!G64=\"\",\"\",Resultats!I64)","v":""},{"$f":"IF(M28=\"\",\"\",VLOOKUP(C31,$A$3:$C$11,3,FALSE))","v":""},7,"0","","","Existant",null,7,"CAT_provisoire",3,0.09,null,7,"CAT_provisoire",3,"",null,7,"CAT_provisoire",3,""]
["Ancrage n°2",null,{"$f":"IF(B29=\"\",0,B29)","v":0},{"$f":"IF(VLOOKUP(C29,$A$3:$B$11,2,FALSE)=1,\"CAT_COT\",IF(VLOOKUP(C29,$A$3:$B$11,2,FALSE)=40,\"CAT_dépose\",0))","v":0},"Existant",null,2,{"$f":"IF(Resultats!B65=\"\",\"\",Resultats!B65&Resultats!C65)","v":""},{"$f":"IF(H29=\"\",\"\",VLOOKUP(H29,Matériels!$J$2:$N$764,5,FALSE))","v":""},{"$f":"IF(Resultats!B65=\"\",\"\",Resultats!D65)","v":""},{"$f":"IF(I29=\"\",\"\",VLOOKUP(C19,$A$3:$C$11,3,FALSE))","v":""},{"$f":"IF(Resultats!G65=\"\",\"\",Resultats!G65&Resultats!H65)","v":""},{"$f":"IF(L29=\"\",\"\",VLOOKUP(L29,Matériels!$J$2:$N$764,5,FALSE))","v":""},{"$f":"IF(Resultats!G65=\"\",\"\",Resultats!I65)","v":""},{"$f":"IF(M29=\"\",\"\",VLOOKUP(C31,$A$3:$C$11,3,FALSE))","v":""},8,"0","","","Existant",null,8,"CAT_réutilisé",140,0.09,null,8,"CAT_réutilisé",140,"",null,8,"CAT_réutilisé",140,""]
["Ancrage conducteurs",null,{"$f":"IF($B$30=\"\",$C$29,$B$30)","v":0},0,"Existant",null,3,{"$f":"IF(Resultats!B66=\"\",\"\",Resultats!B66&Resultats!C66)","v":""},{"$f":"IF(H30=\"\",\"\",VLOOKUP(H30,Matériels!$J$2:$N$764,5,FALSE))","v":""},{"$f":"IF(Resultats!B66=\"\",\"\",Resultats!D66)","v":""},{"$f":"IF(I30=\"\",\"\",VLOOKUP(C19,$A$3:$C$11,3,FALSE))","v":""},{"$f":"IF(Resultats!G66=\"\",\"\",Resultats!G66&Resultats!H66)","v":""},{"$f":"IF(L30=\"\",\"\",VLOOKUP(L30,Matériels!$J$2:$N$764,5,FALSE))","v":""},{"$f":"IF(Resultats!G66=\"\",\"\",Resultats!I66)","v":""},{"$f":"IF(M30=\"\",\"\",VLOOKUP(C31,$A$3:$C$11,3,FALSE))","v":""},9,"0","","","Existant",null,9,"CAT_texte",7,"",null,9,"CAT_texte",6,"",null,9,"CAT_texte",6,""]
["Point n°1",null,{"$f":"IF(B31=\"\",$C$30,B31)","v":0},0,"Existant",null,4,{"$f":"IF(Resultats!B67=\"\",\"\",Resultats!B67&Resultats!C67)","v":""},{"$f":"IF(H31=\"\",\"\",VLOOKUP(H31,Matériels!$J$2:$N$764,5,FALSE))","v":""},{"$f":"IF(Resultats!B67=\"\",\"\",Resultats!D67)","v":""},{"$f":"IF(I31=\"\",\"\",VLOOKUP(C20,$A$3:$C$11,3,FALSE))","v":""},{"$f":"IF(Resultats!G67=\"\",\"\",Resultats!G67&Resultats!H67)","v":""},{"$f":"IF(L31=\"\",\"\",VLOOKUP(L31,Matériels!$J$2:$N$764,5,FALSE))","v":""},{"$f":"IF(Resultats!G67=\"\",\"\",Resultats!I67)","v":""},{"$f":"IF(M31=\"\",\"\",VLOOKUP(C32,$A$3:$C$11,3,FALSE))","v":""}]
["Point n°2",null,{"$f":"IF(B32=\"\",$C$30,B32)","v":0},0,"Existant",null,5,{"$f":"IF(Resultats!B68=\"\",\"\",Resultats!B68&Resultats!C68)","v":""},{"$f":"IF(H32=\"\",\"\",VLOOKUP(H32,Matériels!$J$2:$N$764,5,FALSE))","v":""},{"$f":"IF(Resultats!B68=\"\",\"\",Resultats!D68)","v":""},{"$f":"IF(I32=\"\",\"\",VLOOKUP(C20,$A$3:$C$11,3,FALSE))","v":""},{"$f":"IF(Resultats!G68=\"\",\"\",Resultats!G68&Resultats!H68)","v":""},{"$f":"IF(L32=\"\",\"\",VLOOKUP(L32,Matériels!$J$2:$N$764,5,FALSE))","v":""},{"$f":"IF(Resultats!G68=\"\",\"\",Resultats!I68)","v":""},{"$f":"IF(M32=\"\",\"\",VLOOKUP(C32,$A$3:$C$11,3,FALSE))","v":""}]
["Point n°3",null,{"$f":"IF(B33=\"\",$C$30,B33)","v":0},0,"Existant",null,6,{"$f":"IF(Resultats!B69=\"\",\"\",Resultats!B69&Resultats!C69)","v":""},{"$f":"IF(H33=\"\",\"\",VLOOKUP(H33,Matériels!$J$2:$N$764,5,FALSE))","v":""},{"$f":"IF(Resultats!B69=\"\",\"\",Resultats!D69)","v":""},{"$f":"IF(I33=\"\",\"\",VLOOKUP(C20,$A$3:$C$11,3,FALSE))","v":""},{"$f":"IF(Resultats!G69=\"\",\"\",Resultats!G69&Resultats!H69)","v":""},{"$f":"IF(L33=\"\",\"\",VLOOKUP(L33,Matériels!$J$2:$N$764,5,FALSE))","v":""},{"$f":"IF(Resultats!G69=\"\",\"\",Resultats!I69)","v":""},{"$f":"IF(M33=\"\",\"\",VLOOKUP(C32,$A$3:$C$11,3,FALSE))","v":""}]
["Appareil Tendeur",null,{"$f":"IF($B$34=\"\",$C$29,$B$34)","v":0},0,"Existant",null,7,{"$f":"IF(Resultats!B70=\"\",\"\",Resultats!B70&Resultats!C70)","v":""},{"$f":"IF(H34=\"\",\"\",VLOOKUP(H34,Matériels!$J$2:$N$764,5,FALSE))","v":""},{"$f":"IF(Resultats!B70=\"\",\"\",Resultats!D70)","v":""},{"$f":"IF(I34=\"\",\"\",VLOOKUP(C21,$A$3:$C$11,3,FALSE))","v":""},{"$f":"IF(Resultats!G70=\"\",\"\",Resultats!G70&Resultats!H70)","v":""},{"$f":"IF(L34=\"\",\"\",VLOOKUP(L34,Matériels!$J$2:$N$764,5,FALSE))","v":""},{"$f":"IF(Resultats!G70=\"\",\"\",Resultats!I70)","v":""},{"$f":"IF(M34=\"\",\"\",VLOOKUP(C33,$A$3:$C$11,3,FALSE))","v":""}]
["Point n°1",null,{"$f":"IF(B35=\"\",$C$34,B35)","v":0},0,"Existant",null,8,{"$f":"IF(Resultats!B71=\"\",\"\",Resultats!B71&Resultats!C71)","v":""},{"$f":"IF(H35=\"\",\"\",VLOOKUP(H35,Matériels!$J$2:$N$764,5,FALSE))","v":""},{"$f":"IF(Resultats!B71=\"\",\"\",Resultats!D71)","v":""},{"$f":"IF(I35=\"\",\"\",VLOOKUP(C21,$A$3:$C$11,3,FALSE))","v":""},{"$f":"IF(Resultats!G71=\"\",\"\",Resultats!G71&Resultats!H71)","v":""},{"$f":"IF(L35=\"\",\"\",VLOOKUP(L35,Matériels!$J$2:$N$764,5,FALSE))","v":""},{"$f":"IF(Resultats!G71=\"\",\"\",Resultats!I71)","v":""},{"$f":"IF(M35=\"\",\"\",VLOOKUP(C33,$A$3:$C$11,3,FALSE))","v":""}]
["Point n°2",null,{"$f":"IF(B36=\"\",$C$34,B36)","v":0},0,"Existant",null,9,{"$f":"IF(Resultats!B72=\"\",\"\",Resultats!B72&Resultats!C72)","v":""},{"$f":"IF(H36=\"\",\"\",VLOOKUP(H36,Matériels!$J$2:$N$764,5,FALSE))","v":""},{"$f":"IF(Resultats!B72=\"\",\"\",Resultats!D72)","v":""},{"$f":"IF(I36=\"\",\"\",VLOOKUP(C21,$A$3:$C$11,3,FALSE))","v":""},{"$f":"IF(Resultats!G72=\"\",\"\",Resultats!G72&Resultats!H72)","v":""},{"$f":"IF(L36=\"\",\"\",VLOOKUP(L36,Matériels!$J$2:$N$764,5,FALSE))","v":""},{"$f":"IF(Resultats!G72=\"\",\"\",Resultats!I72)","v":""},{"$f":"IF(M36=\"\",\"\",VLOOKUP(C33,$A$3:$C$11,3,FALSE))","v":""}]
["Pieces Ancrage",null,{"$f":"IF(B37=\"\",$C$29,B37)","v":0},0,"Existant",3,"Appareils tendeur",null,{"$f":"IF(H37=\"\",\"\",VLOOKUP(H37,Matériels!$J$2:$N$764,5,FALSE))","v":""},null,null,null,{"$f":"IF(L37=\"\",\"\",VLOOKUP(L37,Matériels!$J$2:$N$764,5,FALSE))","v":""}]
["Haubans Ancrage",null,{"$f":"IF(B38=\"\",$C$29,B38)","v":0},0,"Existant",null,1,{"$f":"IF(Resultats!B56=\"\",\"\",Resultats!B56&Resultats!C56)","v":"222940222942"},{"$f":"IF(H38=\"\",\"\",VLOOKUP(H38,Matériels!$J$2:$N$764,5,FALSE))","v":"10984102"},{"$f":"IF(Resultats!B56=\"\",\"\",Resultats!D56)","v":1},{"$f":"IF(I38=\"\",\"\",VLOOKUP(C23,$A$3:$C$11,3,FALSE))","v":"Existant"},{"$f":"IF(Resultats!G56=\"\",\"\",Resultats!G56&Resultats!H56)","v":""},{"$f":"IF(L38=\"\",\"\",VLOOKUP(L38,Matériels!$J$2:$N$764,5,FALSE))","v":""},{"$f":"IF(Resultats!G56=\"\",\"\",Resultats!I56)","v":""},{"$f":"IF(M38=\"\",\"\",VLOOKUP(C35,$A$3:$C$11,3,FALSE))","v":""}]
["Massif",null,{"$f":"IF(B39=\"\",$C$29,B39)","v":0},0,"Existant",null,2,{"$f":"IF(Resultats!B57=\"\",\"\",Resultats!B57&Resultats!C57)","v":""},{"$f":"IF(H39=\"\",\"\",VLOOKUP(H39,Matériels!$J$2:$N$764,5,FALSE))","v":""},{"$f":"IF(Resultats!B57=\"\",\"\",Resultats!D57)","v":""},{"$f":"IF(I39=\"\",\"\",VLOOKUP(C24,$A$3:$C$11,3,FALSE))","v":""},{"$f":"IF(Resultats!G57=\"\",\"\",Resultats!G57&Resultats!H57)","v":""},{"$f":"IF(L39=\"\",\"\",VLOOKUP(L39,Matériels!$J$2:$N$764,5,FALSE))","v":""},{"$f":"IF(Resultats!G57=\"\",\"\",Resultats!I57)","v":""},{"$f":"IF(N39=\"\",\"\",VLOOKUP(C36,$A$3:$C$11,3,FALSE))","v":""}]
["Passage :",null,null,null,"Existant",11,"Tiges filetées",null,{"$f":"IF(H40=\"\",\"\",VLOOKUP(H40,Matériels!$J$2:$N$764,5,FALSE))","v":""},null,null,null,{"$f":"IF(L40=\"\",\"\",VLOOKUP(L40,Matériels!$J$2:$N$764,5,FALSE))","v":""}]
[{"$f":"IF(cable1=\"\",\"\",cable1)","v":""},null,{"$f":"IF(B41=\"\",0,B41)","v":0},null,"Existant",null,1,{"$f":"IF(Resultats!B45=\"\",\"\",Resultats!B45&Resultats!C45)","v":""},{"$f":"IF(H41=\"\",\"\",VLOOKUP(H41,Matériels!$J$2:$N$764,5,FALSE))","v":""},{"$f":"IF(Resultats!B45=\"\",\"\",Resultats!D45)","v":""},{"$f":"IF(I41=\"\",\"\",VLOOKUP(C27,$A$3:$C$11,3,FALSE))","v":""},{"$f":"IF(Resultats!G45=\"\",\"\",Resultats!G45&Resultats!H45)","v":""},{"$f":"IF(L41=\"\",\"\",VLOOKUP(L41,Matériels!$J$2:$N$764,5,FALSE))","v":""},{"$f":"IF(Resultats!G45=\"\",\"\",Resultats!I45)","v":""},{"$f":"IF(M41=\"\",\"\",VLOOKUP(C39,$A$3:$C$11,3,FALSE))","v":""}]
[{"$f":"IF(cable2=\"\",\"\",cable2)","v":""},null,{"$f":"IF(B42=\"\",0,B42)","v":0},null,"Existant",6,"Boulons",null,{"$f":"IF(H42=\"\",\"\",VLOOKUP(H42,Matériels!$J$2:$N$764,5,FALSE))","v":""},null,null,null,{"$f":"IF(L42=\"\",\"\",VLOOKUP(L42,Matériels!$J$2:$N$764,5,FALSE))","v":""},null,null,null,"Ancrage N° 1","Ancrage N°2"]
[{"$f":"IF(cable3=\"\",\"\",cable3)","v":""},null,{"$f":"IF(B43=\"\",0,B43)","v":0},null,"Existant",null,1,{"$f":"IF(Resultats!B46=\"\",\"\",Resultats!B46&Resultats!C46)","v":"01602487"},{"$f":"IF(H43=\"\",\"\",VLOOKUP(H43,Matériels!$J$2:$N$764,5,FALSE))","v":"01602487"},{"$f":"IF(Resultats!B46=\"\",\"\",Resultats!D46)","v":4},{"$f":"IF(Q43=\"\",\"\",IF(LEFT(Q43,6)=\"Hauban\",VLOOKUP(Q43,G14:$K$17,5,FALSE),VLOOKUP(Q43,$G$19:$K$21,5,FALSE)))","v":"Existant"},{"$f":"IF(Resultats!G46=\"\",\"\",Resultats!G46&Resultats!H46)","v":""},{"$f":"IF(L43=\"\",\"\",VLOOKUP(L43,Matériels!$J$2:$N$764,5,FALSE))","v":""},{"$f":"IF(Resultats!G46=\"\",\"\",Resultats!I46)","v":""},{"$f":"IF(R43=\"\",\"\",IF(LEFT(R43,6)=\"Hauban\",VLOOKUP(R43,G14:$O$17,9,FALSE),VLOOKUP(R43,$G$19:$O$21,9,FALSE)))","v":""},null,{"$f":"Résultats!AG51","v":"Hauban 1"},{"$f":"Résultats!AG60","v":""}]
[null,null,null,null,null,null,2,{"$f":"IF(Resultats!B47=\"\",\"\",Resultats!B47&Resultats!C47)","v":"01602487"},{"$f":"IF(H44=\"\",\"\",VLOOKUP(H44,Matériels!$J$2:$N$764,5,FALSE))","v":"01602487"},{"$f":"IF(Resultats!B47=\"\",\"\",Resultats!D47)","v":4},{"$f":"IF(Q44=\"\",\"\",IF(LEFT(Q44,6)=\"Hauban\",VLOOKUP(Q44,G15:$K$17,5,FALSE),VLOOKUP(Q44,$G$19:$K$21,5,FALSE)))","v":"Existant"},{"$f":"IF(Resultats!G47=\"\",\"\",Resultats!G47&Resultats!H47)","v":""},{"$f":"IF(L44=\"\",\"\",VLOOKUP(L44,Matériels!$J$2:$N$764,5,FALSE))","v":""},{"$f":"IF(Resultats!G47=\"\",\"\",Resultats!I47)","v":""},{"$f":"IF(R44=\"\",\"\",IF(LEFT(R44,6)=\"Hauban\",VLOOKUP(R44,G15:$O$17,9,FALSE),VLOOKUP(R44,$G$19:$O$21,9,FALSE)))","v":""},null,{"$f":"Résultats!AG52","v":"Hauban 2"},{"$f":"Résultats!AG61","v":""}]
[null,null,null,null,null,null,3,{"$f":"IF(Resultats!B48=\"\",\"\",Resultats!B48&Resultats!C48)","v":""},{"$f":"IF(H45=\"\",\"\",VLOOKUP(H45,Matériels!$J$2:$N$764,5,FALSE))","v":""},{"$f":"IF(Resultats!B48=\"\",\"\",Resultats!D48)","v":""},{"$f":"IF(Q45=\"\",\"\",IF(LEFT(Q45,6)=\"Hauban\",VLOOKUP(Q45,G16:$K$17,5,FALSE),VLOOKUP(Q45,$G$19:$K$21,5,FALSE)))","v":""},{"$f":"IF(Resultats!G48=\"\",\"\",Resultats!G48&Resultats!H48)","v":""},{"$f":"IF(L45=\"\",\"\",VLOOKUP(L45,Matériels!$J$2:$N$764,5,FALSE))","v":""},{"$f":"IF(Resultats!G48=\"\",\"\",Resultats!I48)","v":""},{"$f":"IF(R45=\"\",\"\",IF(LEFT(R45,6)=\"Hauban\",VLOOKUP(R45,G16:$O$17,9,FALSE),VLOOKUP(R45,$G$19:$O$21,9,FALSE)))","v":""},null,{"$f":"Résultats!AG53","v":""},{"$f":"Résultats!AG62","v":""}]
[null,null,null,null,null,null,4,{"$f":"IF(Resultats!B49=\"\",\"\",Resultats!B49&Resultats!C49)","v":""},{"$f":"IF(H46=\"\",\"\",VLOOKUP(H46,Matériels!$J$2:$N$764,5,FALSE))","v":""},{"$f":"IF(Resultats!B49=\"\",\"\",Resultats!D49)","v":""},{"$f":"IF(Q46=\"\",\"\",IF(LEFT(Q46,6)=\"Hauban\",VLOOKUP(Q46,G17:$K$17,5,FALSE),VLOOKUP(Q46,$G$19:$K$21,5,FALSE)))","v":""},{"$f":"IF(Resultats!G49=\"\",\"\",Resultats!G49&Resultats!H49)","v":""},{"$f":"IF(L46=\"\",\"\",VLOOKUP(L46,Matériels!$J$2:$N$764,5,FALSE))","v":""},{"$f":"IF(Resultats!G49=\"\",\"\",Resultats!I49)","v":""},{"$f":"IF(R46=\"\",\"\",IF(LEFT(R46,6)=\"Hauban\",VLOOKUP(R46,G17:$O$17,9,FALSE),VLOOKUP(R46,$G$19:$O$21,9,FALSE)))","v":""},null,{"$f":"Résultats!AG54","v":""},{"$f":"Résultats!AG63","v":""}]
[null,null,null,null,null,null,5,{"$f":"IF(Resultats!B50=\"\",\"\",Resultats!B50&Resultats!C50)","v":""},{"$f":"IF(H47=\"\",\"\",VLOOKUP(H47,Matériels!$J$2:$N$764,5,FALSE))","v":""},{"$f":"IF(Resultats!B50=\"\",\"\",Resultats!D50)","v":""},{"$f":"IF(Q47=\"\",\"\",IF(LEFT(Q47,6)=\"Hauban\",VLOOKUP(Q47,G$17:$K18,5,FALSE),VLOOKUP(Q47,$G$19:$K$21,5,FALSE)))","v":""},{"$f":"IF(Resultats!G50=\"\",\"\",Resultats!G50&Resultats!H50)","v":""},{"$f":"IF(L47=\"\",\"\",VLOOKUP(L47,Matériels!$J$2:$N$764,5,FALSE))","v":""},{"$f":"IF(Resultats!G50=\"\",\"\",Resultats!I50)","v":""},{"$f":"IF(R47=\"\",\"\",IF(LEFT(R47,6)=\"Hauban\",VLOOKUP(R47,G$17:$O18,9,FALSE),VLOOKUP(R47,$G$19:$O$21,9,FALSE)))","v":""},null,{"$f":"Résultats!AG55","v":""},{"$f":"Résultats!AG64","v":""}]
[null,null,null,null,null,null,6,{"$f":"IF(Resultats!B51=\"\",\"\",Resultats!B51&Resultats!C51)","v":""},{"$f":"IF(H48=\"\",\"\",VLOOKUP(H48,Matériels!$J$2:$N$764,5,FALSE))","v":""},{"$f":"IF(Resultats!B51=\"\",\"\",Resultats!D51)","v":""},{"$f":"IF(Q48=\"\",\"\",IF(LEFT(Q48,6)=\"Hauban\",VLOOKUP(Q48,G$17:$K19,5,FALSE),VLOOKUP(Q48,$G$19:$K$21,5,FALSE)))","v":""},{"$f":"IF(Resultats!G51=\"\",\"\",Resultats!G51&Resultats!H51)","v":""},{"$f":"IF(L48=\"\",\"\",VLOOKUP(L48,Matériels!$J$2:$N$764,5,FALSE))","v":""},{"$f":"IF(Resultats!G51=\"\",\"\",Resultats!I51)","v":""},{"$f":"IF(R48=\"\",\"\",IF(LEFT(R48,6)=\"Hauban\",VLOOKUP(R48,G$17:$O19,9,FALSE),VLOOKUP(R48,$G$19:$O$21,9,FALSE)))","v":""},null,{"$f":"Résultats!AG56","v":""},{"$f":"Résultats!AG65","v":""}]
[null,null,null,null,null,null,7,{"$f":"IF(Resultats!B52=\"\",\"\",Resultats!B52&Resultats!C52)","v":""},{"$f":"IF(H49=\"\",\"\",VLOOKUP(H49,Matériels!$J$2:$N$764,5,FALSE))","v":""},{"$f":"IF(Resultats!B52=\"\",\"\",Resultats!D52)","v":""},{"$f":"IF(Q49=\"\",\"\",IF(LEFT(Q49,6)=\"Hauban\",VLOOKUP(Q49,G$17:$K20,5,FALSE),VLOOKUP(Q49,$G$19:$K$21,5,FALSE)))","v":""},{"$f":"IF(Resultats!G52=\"\",\"\",Resultats!G52&Resultats!H52)","v":""},{"$f":"IF(L49=\"\",\"\",VLOOKUP(L49,Matériels!$J$2:$N$764,5,FALSE))","v":""},{"$f":"IF(Resultats!G52=\"\",\"\",Resultats!I52)","v":""},{"$f":"IF(R49=\"\",\"\",IF(LEFT(R49,6)=\"Hauban\",VLOOKUP(R49,G$17:$O20,9,FALSE),VLOOKUP(R49,$G$19:$O$21,9,FALSE)))","v":""},null,{"$f":"Résultats!AG57","v":""},{"$f":"Résultats!AG66","v":""}]
[null,null,null,null,null,7,"Rondelles",null,{"$f":"IF(H50=\"\",\"\",VLOOKUP(H50,Matériels!$J$2:$N$764,5,FALSE))","v":""},null,null,null,{"$f":"IF(L50=\"\",\"\",VLOOKUP(L50,Matériels!$J$2:$N$764,5,FALSE))","v":""}]
[null,null,null,null,null,null,1,{"$f":"IF(Resultats!B54=\"\",\"\",Resultats!B54&Resultats!C54)","v":""},{"$f":"IF(H51=\"\",\"\",VLOOKUP(H51,Matériels!$J$2:$N$764,5,FALSE))","v":""},{"$f":"IF(Resultats!B54=\"\",\"\",Resultats!D54)","v":""},{"$f":"IF(I51=\"\",\"\",VLOOKUP(C15,$A$3:$C$11,3,FALSE))","v":""},{"$f":"IF(Resultats!G54=\"\",\"\",Resultats!G54&Resultats!H54)","v":""},{"$f":"IF(L51=\"\",\"\",VLOOKUP(L51,Matériels!$J$2:$N$764,5,FALSE))","v":""},{"$f":"IF(Resultats!G54=\"\",\"\",Resultats!I54)","v":""},{"$f":"IF(M51=\"\",\"\",VLOOKUP(C15,$A$3:$C$11,3,FALSE))","v":""}]
[null,null,null,null,null,8,"Jumelles",null,{"$f":"IF(H52=\"\",\"\",VLOOKUP(H52,Matériels!$J$2:$N$764,5,FALSE))","v":""},null,null,null,{"$f":"IF(L52=\"\",\"\",VLOOKUP(L52,Matériels!$J$2:$N$764,5,FALSE))","v":""}]
[null,null,null,null,null,null,1,{"$f":"IF(Resultats!B32=\"\",\"\",Resultats!B32&Resultats!C32)","v":"37627103"},{"$f":"IF(H53=\"\",\"\",VLOOKUP(H53,Matériels!$J$2:$N$764,5,FALSE))","v":"00986723"},{"$f":"IF(Resultats!B32=\"\",\"\",Resultats!D32)","v":1},{"$f":"IF(I53=\"\",\"\",VLOOKUP($C$26,$A$3:$C$11,3,FALSE))","v":"Existant"},{"$f":"IF(Resultats!G32=\"\",\"\",Resultats!G32&Resultats!H32)","v":""},{"$f":"IF(L53=\"\",\"\",VLOOKUP(L53,Matériels!$J$2:$N$764,5,FALSE))","v":""},{"$f":"IF(Resultats!G32=\"\",\"\",Resultats!I32)","v":""},{"$f":"IF(M53=\"\",\"\",VLOOKUP($C$37,$A$3:$C$11,3,FALSE))","v":""}]
[null,null,null,null,null,null,2,{"$f":"IF(Resultats!B33=\"\",\"\",Resultats!B33&Resultats!C33)","v":"37627101"},{"$f":"IF(H54=\"\",\"\",VLOOKUP(H54,Matériels!$J$2:$N$764,5,FALSE))","v":"00986721"},{"$f":"IF(Resultats!B33=\"\",\"\",Resultats!D33)","v":1},{"$f":"IF(I54=\"\",\"\",VLOOKUP($C$26,$A$3:$C$11,3,FALSE))","v":"Existant"},{"$f":"IF(Resultats!G33=\"\",\"\",Resultats!G33&Resultats!H33)","v":""},{"$f":"IF(L54=\"\",\"\",VLOOKUP(L54,Matériels!$J$2:$N$764,5,FALSE))","v":""},{"$f":"IF(Resultats!G33=\"\",\"\",Resultats!I33)","v":""},{"$f":"IF(M54=\"\",\"\",VLOOKUP($C$37,$A$3:$C$11,3,FALSE))","v":""}]
[null,null,null,null,null,null,3,{"$f":"IF(Resultats!B34=\"\",\"\",Resultats!B34&Resultats!C34)","v":""},{"$f":"IF(H55=\"\",\"\",VLOOKUP(H55,Matériels!$J$2:$N$764,5,FALSE))","v":""},{"$f":"IF(Resultats!B34=\"\",\"\",Resultats!D34)","v":""},{"$f":"IF(I55=\"\",\"\",VLOOKUP($C$26,$A$3:$C$11,3,FALSE))","v":""},{"$f":"IF(Resultats!G34=\"\",\"\",Resultats!G34&Resultats!H34)","v":""},{"$f":"IF(L55=\"\",\"\",VLOOKUP(L55,Matériels!$J$2:$N$764,5,FALSE))","v":""},{"$f":"IF(Resultats!G34=\"\",\"\",Resultats!I34)","v":""},{"$f":"IF(M55=\"\",\"\",VLOOKUP($C$37,$A$3:$C$11,3,FALSE))","v":""}]
[null,null,null,null,null,null,4,{"$f":"IF(Resultats!B35=\"\",\"\",Resultats!B35&Resultats!C35)","v":""},{"$f":"IF(H56=\"\",\"\",VLOOKUP(H56,Matériels!$J$2:$N$764,5,FALSE))","v":""},{"$f":"IF(Resultats!B35=\"\",\"\",Resultats!D35)","v":""},{"$f":"IF(I56=\"\",\"\",VLOOKUP($C$26,$A$3:$C$11,3,FALSE))","v":""},{"$f":"IF(Resultats!G35=\"\",\"\",Resultats!G35&Resultats!H35)","v":""},{"$f":"IF(L56=\"\",\"\",VLOOKUP(L56,Matériels!$J$2:$N$764,5,FALSE))","v":""},{"$f":"IF(Resultats!G35=\"\",\"\",Resultats!I35)","v":""},{"$f":"IF(M56=\"\",\"\",VLOOKUP($C$37,$A$3:$C$11,3,FALSE))","v":""}]
[null,null,null,null,null,9,"Haubans ancrages",null,{"$f":"IF(H57=\"\",\"\",VLOOKUP(H57,Matériels!$J$2:$N$764,5,FALSE))","v":""},null,null,null,{"$f":"IF(L57=\"\",\"\",VLOOKUP(L57,Matériels!$J$2:$N$764,5,FALSE))","v":""}]
[null,null,null,null,null,null,1,{"$f":"IF(Resultats!B24=\"\",\"\",Resultats!B24&Resultats!C24)","v":"3755037556"},{"$f":"IF(H58=\"\",\"\",VLOOKUP(H58,Matériels!$J$2:$N$764,5,FALSE))","v":"08828752"},{"$f":"IF(Resultats!B24=\"\",\"\",Resultats!D24)","v":1},{"$f":"IF(I58=\"\",\"\",VLOOKUP($C$26,$A$3:$C$11,3,FALSE))","v":"Existant"},{"$f":"IF(Resultats!G24=\"\",\"\",Resultats!G24&Resultats!H24)","v":""},{"$f":"IF(L58=\"\",\"\",VLOOKUP(L58,Matériels!$J$2:$N$764,5,FALSE))","v":""},{"$f":"IF(Resultats!G24=\"\",\"\",Resultats!I24)","v":""},{"$f":"IF(M58=\"\",\"\",VLOOKUP($C$38,$A$3:$C$11,3,FALSE))","v":""}]
[null,null,null,null,null,null,2,{"$f":"IF(Resultats!B25=\"\",\"\",Resultats!B25&Resultats!C25)","v":"3755037556"},{"$f":"IF(H59=\"\",\"\",VLOOKUP(H59,Matériels!$J$2:$N$764,5,FALSE))","v":"08828752"},{"$f":"IF(Resultats!B25=\"\",\"\",Resultats!D25)","v":1},{"$f":"IF(I59=\"\",\"\",VLOOKUP($C$26,$A$3:$C$11,3,FALSE))","v":"Existant"},{"$f":"IF(Resultats!G25=\"\",\"\",Resultats!G25&Resultats!H25)","v":""},{"$f":"IF(L59=\"\",\"\",VLOOKUP(L59,Matériels!$J$2:$N$764,5,FALSE))","v":""},{"$f":"IF(Resultats!G25=\"\",\"\",Resultats!I25)","v":""},{"$f":"IF(M59=\"\",\"\",VLOOKUP($C$38,$A$3:$C$11,3,FALSE))","v":""}]
[null,null,null,null,null,null,3,{"$f":"IF(Resultats!B26=\"\",\"\",Resultats!B26&Resultats!C26)","v":""},{"$f":"IF(H60=\"\",\"\",VLOOKUP(H60,Matériels!$J$2:$N$764,5,FALSE))","v":""},{"$f":"IF(Resultats!B26=\"\",\"\",Resultats!D26)","v":""},{"$f":"IF(I60=\"\",\"\",VLOOKUP($C$26,$A$3:$C$11,3,FALSE))","v":""},{"$f":"IF(Resultats!G26=\"\",\"\",Resultats!G26&Resultats!H26)","v":""},{"$f":"IF(L60=\"\",\"\",VLOOKUP(L60,Matériels!$J$2:$N$764,5,FALSE))","v":""},{"$f":"IF(Resultats!G26=\"\",\"\",Resultats!I26)","v":""},{"$f":"IF(M60=\"\",\"\",VLOOKUP($C$38,$A$3:$C$11,3,FALSE))","v":""}]
[null,null,null,null,null,null,4,{"$f":"IF(Resultats!B27=\"\",\"\",Resultats!B27&Resultats!C27)","v":""},{"$f":"IF(H61=\"\",\"\",VLOOKUP(H61,Matériels!$J$2:$N$764,5,FALSE))","v":""},{"$f":"IF(Resultats!B27=\"\",\"\",Resultats!D27)","v":""},{"$f":"IF(I61=\"\",\"\",VLOOKUP($C$26,$A$3:$C$11,3,FALSE))","v":""},{"$f":"IF(Resultats!G27=\"\",\"\",Resultats!G27&Resultats!H27)","v":""},{"$f":"IF(L61=\"\",\"\",VLOOKUP(L61,Matériels!$J$2:$N$764,5,FALSE))","v":""},{"$f":"IF(Resultats!G27=\"\",\"\",Resultats!I27)","v":""},{"$f":"IF(M61=\"\",\"\",VLOOKUP($C$38,$A$3:$C$11,3,FALSE))","v":""}]
[null,null,null,null,null,null,5,{"$f":"IF(Resultats!B28=\"\",\"\",Resultats!B28&Resultats!C28)","v":""},{"$f":"IF(H62=\"\",\"\",VLOOKUP(H62,Matériels!$J$2:$N$764,5,FALSE))","v":""},{"$f":"IF(Resultats!B28=\"\",\"\",Resultats!D28)","v":""},{"$f":"IF(I62=\"\",\"\",VLOOKUP($C$26,$A$3:$C$11,3,FALSE))","v":""},{"$f":"IF(Resultats!G28=\"\",\"\",Resultats!G28&Resultats!H28)","v":""},{"$f":"IF(L62=\"\",\"\",VLOOKUP(L62,Matériels!$J$2:$N$764,5,FALSE))","v":""},{"$f":"IF(Resultats!G28=\"\",\"\",Resultats!I28)","v":""},{"$f":"IF(M62=\"\",\"\",VLOOKUP($C$38,$A$3:$C$11,3,FALSE))","v":""}]
[null,null,null,null,null,10,"Câbles supplémentaire",null,{"$f":"IF(H63=\"\",\"\",VLOOKUP(H63,Matériels!$J$2:$N$764,5,FALSE))","v":""},null,null,null,{"$f":"IF(L63=\"\",\"\",VLOOKUP(L63,Matériels!$J$2:$N$764,5,FALSE))","v":""}]
[null,null,null,null,null,null,1,{"$f":"IF(Resultats!B29=\"\",\"\",Resultats!B29&Resultats!C29)","v":""},{"$f":"IF(H64=\"\",\"\",VLOOKUP(H64,Matériels!$J$2:$N$764,5,FALSE))","v":""},{"$f":"IF(Resultats!B29=\"\",\"\",Resultats!D29)","v":""},{"$f":"IF(I64=\"\",\"\",VLOOKUP($C$26,$A$3:$C$11,3,FALSE))","v":""},{"$f":"IF(Resultats!G29=\"\",\"\",Resultats!G29&Resultats!H29)","v":""},{"$f":"IF(L64=\"\",\"\",VLOOKUP(L64,Matériels!$J$2:$N$764,5,FALSE))","v":""},{"$f":"IF(Resultats!G29=\"\",\"\",Resultats!I29)","v":""},{"$f":"IF(M64=\"\",\"\",VLOOKUP($C$38,$A$3:$C$11,3,FALSE))","v":""}]
[null,null,null,null,null,null,2,{"$f":"IF(Resultats!B30=\"\",\"\",Resultats!B30&Resultats!C30)","v":""},{"$f":"IF(H65=\"\",\"\",VLOOKUP(H65,Matériels!$J$2:$N$764,5,FALSE))","v":""},{"$f":"IF(Resultats!B30=\"\",\"\",Resultats!D30)","v":""},{"$f":"IF(I65=\"\",\"\",VLOOKUP($C$26,$A$3:$C$11,3,FALSE))","v":""},{"$f":"IF(Resultats!G30=\"\",\"\",Resultats!G30&Resultats!H30)","v":""},{"$f":"IF(L65=\"\",\"\",VLOOKUP(L65,Matériels!$J$2:$N$764,5,FALSE))","v":""},{"$f":"IF(Resultats!G30=\"\",\"\",Resultats!I30)","v":""},{"$f":"IF(M65=\"\",\"\",VLOOKUP($C$38,$A$3:$C$11,3,FALSE))","v":""}]
[null,null,null,null,null,13,"Pieces de reglage",null,{"$f":"IF(H66=\"\",\"\",VLOOKUP(H66,Matériels!$J$2:$N$764,5,FALSE))","v":""},null,null,null,{"$f":"IF(L66=\"\",\"\",VLOOKUP(L66,Matériels!$J$2:$N$764,5,FALSE))","v":""}]
[null,null,null,null,null,null,1,{"$f":"IF(Resultats!B21=\"\",\"\",Resultats!B21&Resultats!C21)","v":"37606"},{"$f":"IF(H67=\"\",\"\",VLOOKUP(H67,Matériels!$J$2:$N$764,5,FALSE))","v":"08828800"},{"$f":"IF(Resultats!B21=\"\",\"\",Resultats!D21)","v":2},{"$f":"IF(I67=\"\",\"\",VLOOKUP($C$26,$A$3:$C$11,3,FALSE))","v":"Existant"},{"$f":"IF(Resultats!G21=\"\",\"\",Resultats!G21&Resultats!H21)","v":""},{"$f":"IF(L67=\"\",\"\",VLOOKUP(L67,Matériels!$J$2:$N$764,5,FALSE))","v":""},{"$f":"IF(Resultats!G21=\"\",\"\",Resultats!I21)","v":""},{"$f":"IF(M67=\"\",\"\",VLOOKUP($C$38,$A$3:$C$11,3,FALSE))","v":""}]
[null,null,null,null,null,null,2,{"$f":"IF(Resultats!B22=\"\",\"\",Resultats!B22&Resultats!C22)","v":""},{"$f":"IF(H68=\"\",\"\",VLOOKUP(H68,Matériels!$J$2:$N$764,5,FALSE))","v":""},{"$f":"IF(Resultats!B22=\"\",\"\",Resultats!D22)","v":""},{"$f":"IF(I68=\"\",\"\",VLOOKUP($C$26,$A$3:$C$11,3,FALSE))","v":""},{"$f":"IF(Resultats!G22=\"\",\"\",Resultats!G22&Resultats!H22)","v":""},{"$f":"IF(L68=\"\",\"\",VLOOKUP(L68,Matériels!$J$2:$N$764,5,FALSE))","v":""},{"$f":"IF(Resultats!G22=\"\",\"\",Resultats!I22)","v":""},{"$f":"IF(M68=\"\",\"\",VLOOKUP($C$38,$A$3:$C$11,3,FALSE))","v":""}]
[null,null,null,null,null,12,"Etriers",null,{"$f":"IF(H69=\"\",\"\",VLOOKUP(H69,Matériels!$J$2:$N$764,5,FALSE))","v":""},null,null,null,{"$f":"IF(L69=\"\",\"\",VLOOKUP(L69,Matériels!$J$2:$N$764,5,FALSE))","v":""}]
[null,null,null,null,null,null,1,{"$f":"IF(Resultats!B37=\"\",\"\",Resultats!B37&Resultats!C37)","v":"3951039513"},{"$f":"IF(H70=\"\",\"\",VLOOKUP(H70,Matériels!$J$2:$N$764,5,FALSE))","v":"08828922"},{"$f":"IF(Resultats!B37=\"\",\"\",Resultats!D37)","v":2},{"$f":"IF(I70=\"\",\"\",VLOOKUP($C$27,$A$3:$C$11,3,FALSE))","v":"Existant"},{"$f":"IF(Resultats!G37=\"\",\"\",Resultats!G37&Resultats!H37)","v":""},{"$f":"IF(L70=\"\",\"\",VLOOKUP(L70,Matériels!$J$2:$N$764,5,FALSE))","v":""},{"$f":"IF(Resultats!G37=\"\",\"\",Resultats!I37)","v":""},{"$f":"IF(M70=\"\",\"\",VLOOKUP($C$39,$A$3:$C$11,3,FALSE))","v":""}]
[null,null,null,null,null,14,"Poutrelle Ancrage",null,{"$f":"IF(H71=\"\",\"\",VLOOKUP(H71,Matériels!$J$2:$N$764,5,FALSE))","v":""},null,null,null,{"$f":"IF(L71=\"\",\"\",VLOOKUP(L71,Matériels!$J$2:$N$764,5,FALSE))","v":""}]
[null,null,null,null,null,null,1,{"$f":"IF(Resultats!B39=\"\",\"\",Resultats!B39&Resultats!C39)","v":""},{"$f":"IF(H72=\"\",\"\",VLOOKUP(H72,Matériels!$J$2:$N$764,5,FALSE))","v":""},{"$f":"IF(Resultats!B39=\"\",\"\",Resultats!D39)","v":""},{"$f":"IF(I72=\"\",\"\",VLOOKUP($C$27,$A$3:$C$11,3,FALSE))","v":""},{"$f":"IF(Resultats!G39=\"\",\"\",Resultats!G39&Resultats!H39)","v":""},{"$f":"IF(L72=\"\",\"\",VLOOKUP(L72,Matériels!$J$2:$N$764,5,FALSE))","v":""},{"$f":"IF(Resultats!G39=\"\",\"\",Resultats!I39)","v":""},{"$f":"IF(M72=\"\",\"\",VLOOKUP($C$39,$A$3:$C$11,3,FALSE))","v":""}]
[null,null,null,null,null,15,"Semelle d'appui",null,{"$f":"IF(H73=\"\",\"\",VLOOKUP(H73,Matériels!$J$2:$N$764,5,FALSE))","v":""},null,null,null,{"$f":"IF(L73=\"\",\"\",VLOOKUP(L73,Matériels!$J$2:$N$764,5,FALSE))","v":""}]
[null,null,null,null,null,null,1,{"$f":"IF(Resultats!B41=\"\",\"\",Resultats!B41&Resultats!C41)","v":""},{"$f":"IF(H74=\"\",\"\",VLOOKUP(H74,Matériels!$J$2:$N$764,5,FALSE))","v":""},{"$f":"IF(Resultats!B41=\"\",\"\",Resultats!D41)","v":""},{"$f":"IF(I74=\"\",\"\",VLOOKUP($C$27,$A$3:$C$11,3,FALSE))","v":""},{"$f":"IF(Resultats!G41=\"\",\"\",Resultats!G41&Resultats!H41)","v":""},{"$f":"IF(L74=\"\",\"\",VLOOKUP(L74,Matériels!$J$2:$N$764,5,FALSE))","v":""},{"$f":"IF(Resultats!G41=\"\",\"\",Resultats!I41)","v":""},{"$f":"IF(M74=\"\",\"\",VLOOKUP($C$39,$A$3:$C$11,3,FALSE))","v":""}]
[null,null,null,null,null,16,"Cuvette",null,{"$f":"IF(H75=\"\",\"\",VLOOKUP(H75,Matériels!$J$2:$N$764,5,FALSE))","v":""},null,null,null,{"$f":"IF(L75=\"\",\"\",VLOOKUP(L75,Matériels!$J$2:$N$764,5,FALSE))","v":""}]
[null,null,null,null,null,null,1,{"$f":"IF(Resultats!B43=\"\",\"\",Resultats!B43&Resultats!C43)","v":""},{"$f":"IF(H76=\"\",\"\",VLOOKUP(H76,Matériels!$J$2:$N$764,5,FALSE))","v":""},{"$f":"IF(Resultats!B43=\"\",\"\",Resultats!D43)","v":""},{"$f":"IF(I76=\"\",\"\",VLOOKUP($C$27,$A$3:$C$11,3,FALSE))","v":""},{"$f":"IF(Resultats!G43=\"\",\"\",Resultats!G43&Resultats!H43)","v":""},{"$f":"IF(L76=\"\",\"\",VLOOKUP(L76,Matériels!$J$2:$N$764,5,FALSE))","v":""},{"$f":"IF(Resultats!G43=\"\",\"\",Resultats!I43)","v":""},{"$f":"IF(M76=\"\",\"\",VLOOKUP($C$39,$A$3:$C$11,3,FALSE))","v":""}]
[]
[]
[]
[null,null,null,null,null,"Position",null,"Ancrage N° 1","Symbole","Quantitées","Statut","Ancrage N° 2","Symbole","Quantitées","Statut"]
[null,null,null,null,null,1,"Ancrage Conducteurs"]
[null,null,null,null,null,null,1,"10985352",{"$f":"IF(H82=\"\",\"\",VLOOKUP(H82,Matériels!$J$2:$N$764,5,FALSE))","v":"30982805"},2,"Existant","",{"$f":"IF(L82=\"\",\"\",VLOOKUP(L82,Matériels!$J$2:$N$764,5,FALSE))","v":""}]
[null,null,null,null,null,null,2,null,{"$f":"IF(H83=\"\",\"\",VLOOKUP(H83,Matériels!$J$2:$N$764,5,FALSE))","v":""},null,null,"",{"$f":"IF(L83=\"\",\"\",VLOOKUP(L83,Matériels!$J$2:$N$764,5,FALSE))","v":""}]
[null,null,null,null,null,null,3,"",{"$f":"IF(H84=\"\",\"\",VLOOKUP(H84,Matériels!$J$2:$N$764,5,FALSE))","v":""},null,null,"",{"$f":"IF(L84=\"\",\"\",VLOOKUP(L84,Matériels!$J$2:$N$764,5,FALSE))","v":""}]
[null,null,null,null,null,null,4,"",{"$f":"IF(H85=\"\",\"\",VLOOKUP(H85,Matériels!$J$2:$N$764,5,FALSE))","v":""},null,null,"",{"$f":"IF(L85=\"\",\"\",VLOOKUP(L85,Matériels!$J$2:$N$764,5,FALSE))","v":""}]
[null,null,null,null,null,2,"Isos supple."]
[null,null,null,null,null,null,1,"",{"$f":"IF(H87=\"\",\"\",VLOOKUP(H87,Matériels!$J$2:$N$764,5,FALSE))","v":""},null,null,"",{"$f":"IF(L87=\"\",\"\",VLOOKUP(L87,Matériels!$J$2:$N$764,5,FALSE))","v":""}]
[null,null,null,null,null,null,2,"",{"$f":"IF(H88=\"\",\"\",VLOOKUP(H88,Matériels!$J$2:$N$764,5,FALSE))","v":""},null,null,"",{"$f":"IF(L88=\"\",\"\",VLOOKUP(L88,Matériels!$J$2:$N$764,5,FALSE))","v":""}]
[null,null,null,null,null,null,3,"",{"$f":"IF(H89=\"\",\"\",VLOOKUP(H89,Matériels!$J$2:$N$764,5,FALSE))","v":""},null,null,"",{"$f":"IF(L89=\"\",\"\",VLOOKUP(L89,Matériels!$J$2:$N$764,5,FALSE))","v":""}]
[null,null,null,null,null,null,4,"",{"$f":"IF(H90=\"\",\"\",VLOOKUP(H90,Matériels!$J$2:$N$764,5,FALSE))","v":""},null,null,"",{"$f":"IF(L90=\"\",\"\",VLOOKUP(L90,Matériels!$J$2:$N$764,5,FALSE))","v":""}]
[null,null,null,null,null,null,5,"",{"$f":"IF(H91=\"\",\"\",VLOOKUP(H91,Matériels!$J$2:$N$764,5,FALSE))","v":""},null,null,"",{"$f":"IF(L91=\"\",\"\",VLOOKUP(L91,Matériels!$J$2:$N$764,5,FALSE))","v":""}]
[null,null,null,null,null,null,6,"",{"$f":"IF(H92=\"\",\"\",VLOOKUP(H92,Matériels!$J$2:$N$764,5,FALSE))","v":""},null,null,"",{"$f":"IF(L92=\"\",\"\",VLOOKUP(L92,Matériels!$J$2:$N$764,5,FALSE))","v":""}]
[null,null,null,null,null,null,7,"",{"$f":"IF(H93=\"\",\"\",VLOOKUP(H93,Matériels!$J$2:$N$764,5,FALSE))","v":""},null,null,"",{"$f":"IF(L93=\"\",\"\",VLOOKUP(L93,Matériels!$J$2:$N$764,5,FALSE))","v":""}]
[null,null,null,null,null,null,8,"",{"$f":"IF(H94=\"\",\"\",VLOOKUP(H94,Matériels!$J$2:$N$764,5,FALSE))","v":""},null,null,"",{"$f":"IF(L94=\"\",\"\",VLOOKUP(L94,Matériels!$J$2:$N$764,5,FALSE))","v":""}]
[null,null,null,null,null,null,9,"",{"$f":"IF(H95=\"\",\"\",VLOOKUP(H95,Matériels!$J$2:$N$764,5,FALSE))","v":""},null,null,"",{"$f":"IF(L95=\"\",\"\",VLOOKUP(L95,Matériels!$J$2:$N$764,5,FALSE))","v":""}]
[null,null,null,null,null,3,"Appareils tendeur"]
[null,null,null,null,null,null,1,"222940222942",{"$f":"IF(H97=\"\",\"\",VLOOKUP(H97,Matériels!$J$2:$N$764,5,FALSE))","v":"10984102"},1,"Existant","",{"$f":"IF(L97=\"\",\"\",VLOOKUP(L97,Matériels!$J$2:$N$764,5,FALSE))","v":""}]
[null,null,null,null,null,null,2,"",{"$f":"IF(H98=\"\",\"\",VLOOKUP(H98,Matériels!$J$2:$N$764,5,FALSE))","v":""},null,null,"",{"$f":"IF(L98=\"\",\"\",VLOOKUP(L98,Matériels!$J$2:$N$764,5,FALSE))","v":""}]
[null,null,null,null,null,4,"Pieces Ancrage cables"]
[null,null,null,null,null,null,"Ancrage 1","22173",{"$f":"IF(H100=\"\",\"\",VLOOKUP(H100,Matériels!$J$2:$N$764,5,FALSE))","v":"08820583"},2,"Existant","",{"$f":"IF(L100=\"\",\"\",VLOOKUP(L100,Matériels!$J$2:$N$764,5,FALSE))","v":""}]
[null,null,null,null,null,null,"Ancrage 2",null,{"$f":"IF(H101=\"\",\"\",VLOOKUP(H101,Matériels!$J$2:$N$764,5,FALSE))","v":""},null,null,"",{"$f":"IF(L101=\"\",\"\",VLOOKUP(L101,Matériels!$J$2:$N$764,5,FALSE))","v":""}]
[null,null,null,null,null,null,"Ancrage 3","",{"$f":"IF(H102=\"\",\"\",VLOOKUP(H102,Matériels!$J$2:$N$764,5,FALSE))","v":""},null,null,"",{"$f":"IF(L102=\"\",\"\",VLOOKUP(L102,Matériels!$J$2:$N$764,5,FALSE))","v":""}]
[null,null,null,null,null,5,"Pieces Ancrage haubans"]
[null,null,null,null,null,null,"Hauban 1","22155",{"$f":"IF(H104=\"\",\"\",VLOOKUP(H104,Matériels!$J$2:$N$764,5,FALSE))","v":"08820565"},2,"Existant","",{"$f":"IF(L104=\"\",\"\",VLOOKUP(L104,Matériels!$J$2:$N$764,5,FALSE))","v":""}]
[null,null,null,null,null,null,"Hauban 2",null,{"$f":"IF(H105=\"\",\"\",VLOOKUP(H105,Matériels!$J$2:$N$764,5,FALSE))","v":""},null,null,"",{"$f":"IF(L105=\"\",\"\",VLOOKUP(L105,Matériels!$J$2:$N$764,5,FALSE))","v":""}]
[null,null,null,null,null,null,"Hauban 3","",{"$f":"IF(H106=\"\",\"\",VLOOKUP(H106,Matériels!$J$2:$N$764,5,FALSE))","v":""},null,null,"",{"$f":"IF(L106=\"\",\"\",VLOOKUP(L106,Matériels!$J$2:$N$764,5,FALSE))","v":""}]
[null,null,null,null,null,null,"Hauban 4","",{"$f":"IF(H107=\"\",\"\",VLOOKUP(H107,Matériels!$J$2:$N$764,5,FALSE))","v":""},null,null,"",{"$f":"IF(L107=\"\",\"\",VLOOKUP(L107,Matériels!$J$2:$N$764,5,FALSE))","v":""}]
[null,null,null,null,null,6,"Boulons"]
[null,null,null,null,null,null,1,"01602487",{"$f":"IF(H109=\"\",\"\",VLOOKUP(H109,Matériels!$J$2:$N$764,5,FALSE))","v":"01602487"},8,"Existant","",{"$f":"IF(L109=\"\",\"\",VLOOKUP(L109,Matériels!$J$2:$N$764,5,FALSE))","v":""}]
[null,null,null,null,null,null,2,null,{"$f":"IF(H110=\"\",\"\",VLOOKUP(H110,Matériels!$J$2:$N$764,5,FALSE))","v":""},null,null,"",{"$f":"IF(L110=\"\",\"\",VLOOKUP(L110,Matériels!$J$2:$N$764,5,FALSE))","v":""}]
[null,null,null,null,null,null,3,"",{"$f":"IF(H111=\"\",\"\",VLOOKUP(H111,Matériels!$J$2:$N$764,5,FALSE))","v":""},null,null,"",{"$f":"IF(L111=\"\",\"\",VLOOKUP(L111,Matériels!$J$2:$N$764,5,FALSE))","v":""}]
[null,null,null,null,null,null,4,"",{"$f":"IF(H112=\"\",\"\",VLOOKUP(H112,Matériels!$J$2:$N$764,5,FALSE))","v":""},null,null,"",{"$f":"IF(L112=\"\",\"\",VLOOKUP(L112,Matériels!$J$2:$N$764,5,FALSE))","v":""}]
[null,null,null,null,null,null,5,"",{"$f":"IF(H113=\"\",\"\",VLOOKUP(H113,Matériels!$J$2:$N$764,5,FALSE))","v":""},null,null,"",{"$f":"IF(L113=\"\",\"\",VLOOKUP(L113,Matériels!$J$2:$N$764,5,FALSE))","v":""}]
[null,null,null,null,null,null,6,"",{"$f":"IF(H114=\"\",\"\",VLOOKUP(H114,Matériels!$J$2:$N$764,5,FALSE))","v":""},null,null,"",{"$f":"IF(L114=\"\",\"\",VLOOKUP(L114,Matériels!$J$2:$N$764,5,FALSE))","v":""}]
[null,null,null,null,null,null,7,"",{"$f":"IF(H115=\"\",\"\",VLOOKUP(H115,Matériels!$J$2:$N$764,5,FALSE))","v":""},null,null,"",{"$f":"IF(L115=\"\",\"\",VLOOKUP(L115,Matériels!$J$2:$N$764,5,FALSE))","v":""}]
[null,null,null,null,null,7,"Rondelles"]
[null,null,null,null,null,null,1,"",{"$f":"IF(H117=\"\",\"\",VLOOKUP(H117,Matériels!$J$2:$N$764,5,FALSE))","v":""},null,null,"",{"$f":"IF(L117=\"\",\"\",VLOOKUP(L117,Matériels!$J$2:$N$764,5,FALSE))","v":""}]
[null,null,null,null,null,8,"Jumelles"]
[null,null,null,null,null,null,1,"37627103",{"$f":"IF(H119=\"\",\"\",VLOOKUP(H119,Matériels!$J$2:$N$764,5,FALSE))","v":"00986723"},1,"Existant","",{"$f":"IF(L119=\"\",\"\",VLOOKUP(L119,Matériels!$J$2:$N$764,5,FALSE))","v":""}]
[null,null,null,null,null,null,2,"37627101",{"$f":"IF(H120=\"\",\"\",VLOOKUP(H120,Matériels!$J$2:$N$764,5,FALSE))","v":"00986721"},1,"Existant","",{"$f":"IF(L120=\"\",\"\",VLOOKUP(L120,Matériels!$J$2:$N$764,5,FALSE))","v":""}]
[null,null,null,null,null,null,3,"",{"$f":"IF(H121=\"\",\"\",VLOOKUP(H121,Matériels!$J$2:$N$764,5,FALSE))","v":""},null,null,"",{"$f":"IF(L121=\"\",\"\",VLOOKUP(L121,Matériels!$J$2:$N$764,5,FALSE))","v":""}]
[null,null,null,null,null,null,4,"",{"$f":"IF(H122=\"\",\"\",VLOOKUP(H122,Matériels!$J$2:$N$764,5,FALSE))","v":""},null,null,"",{"$f":"IF(L122=\"\",\"\",VLOOKUP(L122,Matériels!$J$2:$N$764,5,FALSE))","v":""}]
[null,null,null,null,null,9,"Haubans ancrages"]
[null,null,null,null,null,null,1,"3755037556",{"$f":"IF(H124=\"\",\"\",VLOOKUP(H124,Matériels!$J$2:$N$764,5,FALSE))","v":"08828752"},2,"Existant","",{"$f":"IF(L124=\"\",\"\",VLOOKUP(L124,Matériels!$J$2:$N$764,5,FALSE))","v":""}]
[null,null,null,null,null,null,2,null,{"$f":"IF(H125=\"\",\"\",VLOOKUP(H125,Matériels!$J$2:$N$764,5,FALSE))","v":""},null,null,"",{"$f":"IF(L125=\"\",\"\",VLOOKUP(L125,Matériels!$J$2:$N$764,5,FALSE))","v":""}]
[null,null,null,null,null,null,3,"",{"$f":"IF(H126=\"\",\"\",VLOOKUP(H126,Matériels!$J$2:$N$764,5,FALSE))","v":""},null,null,"",{"$f":"IF(L126=\"\",\"\",VLOOKUP(L126,Matériels!$J$2:$N$764,5,FALSE))","v":""}]
[null,null,null,null,null,null,4,"",{"$f":"IF(H127=\"\",\"\",VLOOKUP(H127,Matériels!$J$2:$N$764,5,FALSE))","v":""},null,null,"",{"$f":"IF(L127=\"\",\"\",VLOOKUP(L127,Matériels!$J$2:$N$764,5,FALSE))","v":""}]
[null,null,null,null,null,null,5,"",{"$f":"IF(H128=\"\",\"\",VLOOKUP(H128,Matériels!$J$2:$N$764,5,FALSE))","v":""},null,null,"",{"$f":"IF(L128=\"\",\"\",VLOOKUP(L128,Matériels!$J$2:$N$764,5,FALSE))","v":""}]
[null,null,null,null,null,10,"Câbles supplémentaire"]
[null,null,null,null,null,null,1,"",{"$f":"IF(H130=\"\",\"\",VLOOKUP(H130,Matériels!$J$2:$N$764,5,FALSE))","v":""},null,null,"",{"$f":"IF(L130=\"\",\"\",VLOOKUP(L130,Matériels!$J$2:$N$764,5,FALSE))","v":""}]
[null,null,null,null,null,null,2,"",{"$f":"IF(H131=\"\",\"\",VLOOKUP(H131,Matériels!$J$2:$N$764,5,FALSE))","v":""},null,null,"",{"$f":"IF(L131=\"\",\"\",VLOOKUP(L131,Matériels!$J$2:$N$764,5,FALSE))","v":""}]
[null,null,null,null,null,11,"Tiges filetées"]
[null,null,null,null,null,null,1,"",{"$f":"IF(H133=\"\",\"\",VLOOKUP(H133,Matériels!$J$2:$N$764,5,FALSE))","v":""},null,null,"",{"$f":"IF(L133=\"\",\"\",VLOOKUP(L133,Matériels!$J$2:$N$764,5,FALSE))","v":""}]
[null,null,null,null,null,12,"Etriers"]
[null,null,null,null,null,null,1,"3951039513",{"$f":"IF(H135=\"\",\"\",VLOOKUP(H135,Matériels!$J$2:$N$764,5,FALSE))","v":"08828922"},2,"Existant","",{"$f":"IF(L135=\"\",\"\",VLOOKUP(L135,Matériels!$J$2:$N$764,5,FALSE))","v":""}]
[null,null,null,null,null,13,"Pieces de reglage"]
[null,null,null,null,null,null,1,"37606",{"$f":"IF(H137=\"\",\"\",VLOOKUP(H137,Matériels!$J$2:$N$764,5,FALSE))","v":"08828800"},2,"Existant","",{"$f":"IF(L137=\"\",\"\",VLOOKUP(L137,Matériels!$J$2:$N$764,5,FALSE))","v":""}]
[null,null,null,null,null,null,2,"",{"$f":"IF(H138=\"\",\"\",VLOOKUP(H138,Matériels!$J$2:$N$764,5,FALSE))","v":""},null,null,"",{"$f":"IF(L138=\"\",\"\",VLOOKUP(L138,Matériels!$J$2:$N$764,5,FALSE))","v":""}]
[null,null,null,null,null,14,"Poutrelle Ancrage"]
[null,null,null,null,null,null,1,"",{"$f":"IF(H140=\"\",\"\",VLOOKUP(H140,Matériels!$J$2:$N$764,5,FALSE))","v":""},null,null,"",{"$f":"IF(L140=\"\",\"\",VLOOKUP(L140,Matériels!$J$2:$N$764,5,FALSE))","v":""}]
[null,null,null,null,null,15,"Semelle d'appui"]
[null,null,null,null,null,null,1,"",{"$f":"IF(H142=\"\",\"\",VLOOKUP(H142,Matériels!$J$2:$N$764,5,FALSE))","v":""},null,null,"",{"$f":"IF(L142=\"\",\"\",VLOOKUP(L142,Matériels!$J$2:$N$764,5,FALSE))","v":""}]
[null,null,null,null,null,16,"Cuvette"]
[null,null,null,null,null,null,1,"",{"$f":"IF(H144=\"\",\"\",VLOOKUP(H144,Matériels!$J$2:$N$764,5,FALSE))","v":""},null,null,"",{"$f":"IF(L144=\"\",\"\",VLOOKUP(L144,Matériels!$J$2:$N$764,5,FALSE))","v":""}]

{"sheet":"Erreurs","index":3,"n_rows":47,"n_cols":4,"rows_kept":47,"cut":false,"hidden":true,"merged":[[0,0,0,5],[4,0,4,2],[13,0,13,2],[29,0,29,2]]}
["Feuille de gestion des erreurs"]
[]
[]
["Cellules à compléter","Erreur ?","Message"]
["Caractéristiques du support :"]
["Echantillon",{"$f":"IF(Support=\"\",\"VRAI\",\"FAUX\")","v":"FAUX"},"L'echantillon du support reste a renseigner [B9]"]
["Hauteur",{"$f":"IF(Hsupport=\"\",\"VRAI\",\"FAUX\")","v":"FAUX"},"La hauteur du support reste a renseigner [D9]"]
["Cote A",{"$f":"IF(CoteA=\"\",\"VRAI\",\"FAUX\")","v":"FAUX"},"La cote A du support reste a renseigner [F9]"]
["Arasement",{"$f":"IF(Arase=\"\",\"VRAI\",\"FAUX\")","v":"FAUX"},"L'arasement du support reste a renseigner [H9]"]
["Massif",{"$f":"IF(Msupp=\"\",\"VRAI\",\"FAUX\")","v":"FAUX"},"le type de massif du support reste a renseigner [B11]"]
["Echantillon",{"$f":"IF(EMSupp=\"\",\"VRAI\",\"FAUX\")","v":"FAUX"},"l'echantillon du massif pour le support reste a renseigner [D11]"]
["Ancrage des conducteurs",{"$f":"IF(Carac1=\"\",\"VRAI\",\"FAUX\")","v":"FAUX"},"La direction de l'ancrage des conducteurs reste a renseigner [F13]"]
[]
["Caractéristiques de l'Ancrage n°1 :"]
["Hauban de préf",{"$f":"IF(AND(Haubpref1=\"\",MassifAnc1<>\"Aucun\"),\"VRAI\",\"FAUX\")","v":"FAUX"},"Le type de hauban de preference pour l'Ancrage n°1 n'est pas renseigné, un hauban en cable sera affecté"]
["Tensions méca",{"$f":"IF(AND(Tension1=0,MassifAnc1<>\"Aucun\"),\"VRAI\",\"FAUX\")","v":"FAUX"},"Vous devez renseigner des tensions mécanique pour l'Ancrage n°1 [A16]"]
["Hauteur Ancrage 1",{"$f":"IF(HAnca1=\"\",\"VRAI\",\"FAUX\")","v":"FAUX"},"La hauteur de l'ancrage du Fc n°1 n'est pas renseigné sur l'Ancrage n°1 [I17]"]
["Hauteur Ancrage 2",{"$f":"IF(AND(HAnca2=\"\",NbAnc1<>1),\"VRAI\",\"FAUX\")","v":"FAUX"},"La hauteur de l'ancrage du Fc n°2 n'est pas renseigné sur l'Ancrage n°1 [I18]"]
["Hauteur Ancrage 3",{"$f":"IF(AND(HAnca3=\"\",NbAnc1>2),\"VRAI\",\"FAUX\")","v":"FAUX"},"La hauteur de l'ancrage du Fc n°3 n'est pas renseigné sur l'Ancrage n°1 [I19]"]
["Hauteur du Hauban n°1",{"$f":"IF(AND(MassifAnc1<>\"Aucun\",HHauba1=\"\"),\"VRAI\",\"FAUX\")","v":"FAUX"},"La hauteur d'ancrage du hauban n°1 n'est pas renseigné sur l'Ancrage n°1 [I21]"]
["Hauteur du Hauban n°2",{"$f":"IF(AND(MassifAnc1<>\"Aucun\",Résultats!B9>1,HHauba2=\"\"),\"VRAI\",\"FAUX\")","v":"FAUX"},"La hauteur d'ancrage du hauban n°2 n'est pas renseigné sur l'Ancrage n°1 [I22]"]
["Hauteur du Hauban n°3",{"$f":"IF(AND(MassifAnc1<>\"Aucun\",Résultats!B9>2,HHauba3=\"\"),\"VRAI\",\"FAUX\")","v":"FAUX"},"La hauteur d'ancrage du hauban n°3 n'est pas renseigné sur l'Ancrage n°1 [I23]"]
["Hauteur du Hauban n°4",{"$f":"IF(AND(MassifAnc1<>\"Aucun\",Résultats!B9>3,HHauba4=\"\"),\"VRAI\",\"FAUX\")","v":"FAUX"},"La hauteur d'ancrage du hauban n°4 n'est pas renseigné sur l'Ancrage n°1 [I24]"]
["Appareil T N°1",{"$f":"IF(ATanc1=1,\"FAUX\",IF(OR(PtATa1=\"\",PlanATa1=\"\",RepATa1=\"\"),\"VRAI\",\"FAUX\"))","v":"FAUX"},"Une donnée reste a renseigner pour l'Appareil T. n°1 sur l'Ancrage n°1 [G27:I27]"]
["Appareil T N°2",{"$f":"IF(ATanc1=1,\"FAUX\",IF(NbAnc1=1,\"FAUX\",IF(OR(PtATa2<>\"\",PlanATa2<>\"\",RepATa2<>\"\"),IF(OR(PtATa2=\"\",PlanATa2=\"\",RepATa2=\"\"),\"VRAI\",\"FAUX\"),\"FAUX\")))","v":"FAUX"},"Une donnée reste a renseigner pour l'Appareil T. n°2 sur l'Ancrage n°1 [G28:I28]"]
[]
["Distance Massif",{"$f":"IF(MassifD1<>\"\",\"FAUX\",IF(OR(MassifD1<>\"\",MassifAnc1=\"Aucun\"),\"FAUX\",\"VRAI\"))","v":"FAUX"},"La distance du massif de l'Ancrage n°1 reste a renseigner [B32]"]
["Type de Massif",{"$f":"IF(MassifAnc1=\"\",\"VRAI\",\"FAUX\")","v":"FAUX"},"Le type de massif de l'Ancrage n°1 reste a renseigner [E32]"]
[]
["Caractéristiques de l'Ancrage n°2 :",null,null,{"$f":"IF(NbAncrage=1,\"FAUX\",\"VRAI\")","v":"FAUX"}]
["Hauban de préf",{"$f":"IF(D30=\"FAUX\",\"FAUX\",IF(AND(Haubpref2=\"\",MassifAnc2<>\"Aucun\"),\"VRAI\",\"FAUX\"))","v":"FAUX"},"Le type de hauban de preference pour l'Ancrage n°2 n'est pas renseigné, un hauban en cable sera affecté [I35]"]
["Tensions méca",{"$f":"IF(D30=\"FAUX\",\"FAUX\",IF(AND(Tension2=0,MassifAnc2<>\"Aucun\"),\"VRAI\",\"FAUX\"))","v":"FAUX"},"Vous devez renseigner des tensions mécanique pour l'Ancrage n°2 [A37]"]
["Hauteur Ancrage 1",{"$f":"IF(D30=\"FAUX\",\"FAUX\",IF(HAncb1=\"\",\"VRAI\",\"FAUX\"))","v":"FAUX"},"La hauteur de l'ancrage du Fc n°1 n'est pas renseigné sur l'Ancrage n°2 [I38]"]
["Hauteur Ancrage 2",{"$f":"IF(D30=\"FAUX\",\"FAUX\",IF(AND(NbAnc2<>\"\",NbAnc2>1,HAncb2=\"\"),\"VRAI\",\"FAUX\"))","v":"FAUX"},"La hauteur de l'ancrage du Fc n°2 n'est pas renseigné sur l'Ancrage n°2 [I39]"]
["Hauteur Ancrage 3",{"$f":"IF(D30=\"FAUX\",\"FAUX\",IF(AND(NbAnc2<>\"\",NbAnc2>2,HAncb3=\"\"),\"VRAI\",\"FAUX\"))","v":"FAUX"},"La hauteur de l'ancrage du Fc n°3 n'est pas renseigné sur l'Ancrage n°2 [I40]"]
["Hauteur du Hauban n°1",{"$f":"IF(D30=\"FAUX\",\"FAUX\",IF(AND(MassifAnc2<>\"Aucun\",HHaubb1=\"\"),\"VRAI\",\"FAUX\"))","v":"FAUX"},"La hauteur d'ancrage du hauban n°1 n'est pas renseigné sur l'Ancrage n°2 [I42]"]
["Hauteur du Hauban n°2",{"$f":"IF(D30=\"FAUX\",\"FAUX\",IF(AND(MassifAnc2<>\"Aucun\",Résultats!C9>1,HHaubb2=\"\"),\"VRAI\",\"FAUX\"))","v":"FAUX"},"La hauteur d'ancrage du hauban n°2 n'est pas renseigné sur l'Ancrage n°2 [I43]"]
["Hauteur du Hauban n°3",{"$f":"IF(D30=\"FAUX\",\"FAUX\",IF(AND(MassifAnc2<>\"Aucun\",Résultats!C9>2,HHaubb3=\"\"),\"VRAI\",\"FAUX\"))","v":"FAUX"},"La hauteur d'ancrage du hauban n°3 n'est pas renseigné sur l'Ancrage n°2 [I44]"]
["Hauteur du Hauban n°4",{"$f":"IF(D30=\"FAUX\",\"FAUX\",IF(AND(MassifAnc2<>\"Aucun\",Résultats!C9>3,HHaubb4=\"\"),\"VRAI\",\"FAUX\"))","v":"FAUX"},"La hauteur d'ancrage du hauban n°4 n'est pas renseigné sur l'Ancrage n°2 [I45]"]
["Appareil T N°1",{"$f":"IF(D30=\"FAUX\",\"FAUX\",IF(OR(ATanc2=\"NON\",ATanc2=\"\"),\"FAUX\",IF(OR(PtATb1=\"\",PlanATb1=\"\",RepATb1=\"\"),\"VRAI\",\"FAUX\")))","v":"FAUX"},"Une donnée reste a renseigner pour l'Appareil T. n°1 sur l'Ancrage n°2 [G48:I48]"]
["Appareil T N°2",{"$f":"IF(D30=\"FAUX\",\"FAUX\",IF(OR(ATanc2=\"NON\",ATanc2=\"\"),\"FAUX\",IF(OR(NbAnc2=1,NbAnc2=\"\"),\"FAUX\",IF(OR(PtATb2<>\"\",PlanATb2<>\"\",RepATb2<>\"\"),IF(OR(PtATb2=\"\",PlanATb2=\"\",RepATb2=\"\"),\"VRAI\",\"FAUX\"),\"FAUX\"))))","v":"FAUX"},"Une donnée reste a renseigner pour l'Appareil T. n°2 sur l'Ancrage n°2 [G49:I49]"]
[]
["Distance Massif",{"$f":"IF(D30=\"FAUX\",\"FAUX\",IF(MassifD2<>\"\",\"FAUX\",IF(OR(MassifD2<>\"\",MassifAnc2=\"Aucun\"),\"FAUX\",\"VRAI\")))","v":"FAUX"},"La distance du massif de l'Ancrage n°2 reste a renseigner [B53]"]
["Type de Massif",{"$f":"IF(D30=\"FAUX\",\"FAUX\",IF(MassifAnc2=\"\",\"VRAI\",\"FAUX\"))","v":"FAUX"},"Le type de massif de l'Ancrage n°2 reste a renseigner [E53]"]
[]
["Effort du Massif 1",{"$f":"IF(AND(MassifAnc1=\"Acn\",Tension1>50),\"VRAI\",IF(AND(MassifAnc1=\"Api\",Tension1>190),\"VRAI\",IF(AND(MassifAnc1=\"Apns\",Tension1>190),\"VRAI\",\"FAUX\")))","v":"FAUX"},"Le massif de l'Ancrage n°1 renseigné ne peut pas supporter autant d'efforts [E32]"]
["Effort du Massif 2",{"$f":"IF(AND(MassifAnc2=\"Acn\",Tension2>50),\"VRAI\",IF(AND(MassifAnc2=\"Api\",Tension2>190),\"VRAI\",IF(AND(MassifAnc2=\"Apns\",Tension2>190),\"VRAI\",\"FAUX\")))","v":"FAUX"},"Le massif de l'Ancrage n°2 renseigné ne peut pas supporter autant d'efforts [E53]"]

{"sheet":"Impression","index":4,"n_rows":72,"n_cols":7,"rows_kept":72,"cut":false,"hidden":true,"merged":[[0,0,1,6],[2,2,2,4]]}
["DETERMINATION D'ANCRAGES"]
[]
[null,null,"Support"]
[null,null,"Echantillon :",null,{"$f":"IF(Resultats!F4=\"\",\"\",Resultats!F4)","v":"HEA300J"}]
[null,null,"Massif :",null,{"$f":"IF(Resultats!F5=\"\",\"\",Resultats!F5)","v":"4Pn"}]
[null,null,"Arrasement :",null,{"$f":"IF(Resultats!F6=\"\",\"\",Resultats!F6)","v":0.08}]
[]
[null,"Ancrage N°1",null,null,null,"Ancrage N°2"]
["Tension Mécanique :",{"$f":"IF(Resultats!C9=\"\",\"\",Resultats!C9)","v":90.8},null,null,"Tension Mécanique :",{"$f":"IF(Resultats!H9=\"\",\"\",Resultats!H9)","v":0}]
["Massif :",{"$f":"IF(Resultats!B10=\"\",\"\",Resultats!B10)","v":9},{"$f":"IF(Resultats!C10=\"\",\"\",Resultats!C10)","v":"Api"},null,"Massif :",{"$f":"IF(Resultats!G10=\"\",\"\",Resultats!G10)","v":""},{"$f":"IF(Resultats!H10=\"\",\"\",Resultats!H10)","v":""}]
[]
["Designations","Symboles","Quantités",null,"Designations","Symboles","Quantités"]
[{"$f":"IF(B13=\"\",\"\",VLOOKUP(B13,Matériels!$B$2:$C$1004,2,FALSE))","v":"Piece d'ancrage Hauban"},{"$f":"IFERROR(VLOOKUP(Resultats!B13&Resultats!C13,Matériels!$J$2:$N$1004,5,FALSE),\"\")","v":"08820565"},{"$f":"IF(Resultats!D13=\"\",\"\",Resultats!D13)","v":1},null,{"$f":"IF(F13=\"\",\"\",VLOOKUP(F13,Matériels!$B$2:$C$1004,2,FALSE))","v":""},{"$f":"IFERROR(VLOOKUP(Resultats!G13&Resultats!H13,Matériels!$J$2:$N$1004,5,FALSE),\"\")","v":""},{"$f":"IF(Resultats!I13=\"\",\"\",Resultats!I13)","v":""}]
[{"$f":"IF(B14=\"\",\"\",VLOOKUP(B14,Matériels!$B$2:$C$1004,2,FALSE))","v":"Piece d'ancrage Hauban"},{"$f":"IFERROR(VLOOKUP(Resultats!B14&Resultats!C14,Matériels!$J$2:$N$1004,5,FALSE),\"\")","v":"08820565"},{"$f":"IF(Resultats!D14=\"\",\"\",Resultats!D14)","v":1},null,{"$f":"IF(F14=\"\",\"\",VLOOKUP(F14,Matériels!$B$2:$C$1004,2,FALSE))","v":""},{"$f":"IFERROR(VLOOKUP(Resultats!G14&Resultats!H14,Matériels!$J$2:$N$1004,5,FALSE),\"\")","v":""},{"$f":"IF(Resultats!I14=\"\",\"\",Resultats!I14)","v":""}]
[{"$f":"IF(B15=\"\",\"\",VLOOKUP(B15,Matériels!$B$2:$C$1004,2,FALSE))","v":""},{"$f":"IFERROR(VLOOKUP(Resultats!B15&Resultats!C15,Matériels!$J$2:$N$1004,5,FALSE),\"\")","v":""},{"$f":"IF(Resultats!D15=\"\",\"\",Resultats!D15)","v":""},null,{"$f":"IF(F15=\"\",\"\",VLOOKUP(F15,Matériels!$B$2:$C$1004,2,FALSE))","v":""},{"$f":"IFERROR(VLOOKUP(Resultats!G15&Resultats!H15,Matériels!$J$2:$N$1004,5,FALSE),\"\")","v":""},{"$f":"IF(Resultats!I15=\"\",\"\",Resultats!I15)","v":""}]
[{"$f":"IF(B16=\"\",\"\",VLOOKUP(B16,Matériels!$B$2:$C$1004,2,FALSE))","v":""},{"$f":"IFERROR(VLOOKUP(Resultats!B16&Resultats!C16,Matériels!$J$2:$N$1004,5,FALSE),\"\")","v":""},{"$f":"IF(Resultats!D16=\"\",\"\",Resultats!D16)","v":""},null,{"$f":"IF(F16=\"\",\"\",VLOOKUP(F16,Matériels!$B$2:$C$1004,2,FALSE))","v":""},{"$f":"IFERROR(VLOOKUP(Resultats!G16&Resultats!H16,Matériels!$J$2:$N$1004,5,FALSE),\"\")","v":""},{"$f":"IF(Resultats!I16=\"\",\"\",Resultats!I16)","v":""}]
[{"$f":"IF(B17=\"\",\"\",VLOOKUP(B17,Matériels!$B$2:$C$1004,2,FALSE))","v":"Piece d'ancrage Câble"},{"$f":"IFERROR(VLOOKUP(Resultats!B17&Resultats!C17,Matériels!$J$2:$N$1004,5,FALSE),\"\")","v":"08820583"},{"$f":"IF(Resultats!D17=\"\",\"\",Resultats!D17)","v":1},null,{"$f":"IF(F17=\"\",\"\",VLOOKUP(F17,Matériels!$B$2:$C$1004,2,FALSE))","v":""},{"$f":"IFERROR(VLOOKUP(Resultats!G17&Resultats!H17,Matériels!$J$2:$N$1004,5,FALSE),\"\")","v":""},{"$f":"IF(Resultats!I17=\"\",\"\",Resultats!I17)","v":""}]
[{"$f":"IF(B18=\"\",\"\",VLOOKUP(B18,Matériels!$B$2:$C$1004,2,FALSE))","v":"Piece d'ancrage Câble"},{"$f":"IFERROR(VLOOKUP(Resultats!B18&Resultats!C18,Matériels!$J$2:$N$1004,5,FALSE),\"\")","v":"08820583"},{"$f":"IF(Resultats!D18=\"\",\"\",Resultats!D18)","v":1},null,{"$f":"IF(F18=\"\",\"\",VLOOKUP(F18,Matériels!$B$2:$C$1004,2,FALSE))","v":""},{"$f":"IFERROR(VLOOKUP(Resultats!G18&Resultats!H18,Matériels!$J$2:$N$1004,5,FALSE),\"\")","v":""},{"$f":"IF(Resultats!I18=\"\",\"\",Resultats!I18)","v":""}]
[{"$f":"IF(B19=\"\",\"\",VLOOKUP(B19,Matériels!$B$2:$C$1004,2,FALSE))","v":""},{"$f":"IFERROR(VLOOKUP(Resultats!B19&Resultats!C19,Matériels!$J$2:$N$1004,5,FALSE),\"\")","v":""},{"$f":"IF(Resultats!D19=\"\",\"\",Resultats!D19)","v":""},null,{"$f":"IF(F19=\"\",\"\",VLOOKUP(F19,Matériels!$B$2:$C$1004,2,FALSE))","v":""},{"$f":"IFERROR(VLOOKUP(Resultats!G19&Resultats!H19,Matériels!$J$2:$N$1004,5,FALSE),\"\")","v":""},{"$f":"IF(Resultats!I19=\"\",\"\",Resultats!I19)","v":""}]
[null,"Pieces de Reglages",null,null,null,"Pieces de Reglages"]
[{"$f":"IF(B21=\"\",\"\",VLOOKUP(B21,Matériels!$B$2:$C$1004,2,FALSE))","v":"Piece de Reglage"},{"$f":"IFERROR(VLOOKUP(Resultats!B21&Resultats!C21,Matériels!$J$2:$N$1004,5,FALSE),\"\")","v":"08828800"},{"$f":"IF(Resultats!D21=\"\",\"\",Resultats!D21)","v":2},null,{"$f":"IF(F21=\"\",\"\",VLOOKUP(F21,Matériels!$B$2:$C$1004,2,FALSE))","v":""},{"$f":"IFERROR(VLOOKUP(Resultats!G21&Resultats!H21,Matériels!$J$2:$N$1004,5,FALSE),\"\")","v":""},{"$f":"IF(Resultats!I21=\"\",\"\",Resultats!I21)","v":""}]
[{"$f":"IF(B22=\"\",\"\",VLOOKUP(B22,Matériels!$B$2:$C$1004,2,FALSE))","v":""},{"$f":"IFERROR(VLOOKUP(Resultats!B22&Resultats!C22,Matériels!$J$2:$N$1004,5,FALSE),\"\")","v":""},{"$f":"IF(Resultats!D22=\"\",\"\",Resultats!D22)","v":""},null,{"$f":"IF(F22=\"\",\"\",VLOOKUP(F22,Matériels!$B$2:$C$1004,2,FALSE))","v":""},{"$f":"IFERROR(VLOOKUP(Resultats!G22&Resultats!H22,Matériels!$J$2:$N$1004,5,FALSE),\"\")","v":""},{"$f":"IF(Resultats!I22=\"\",\"\",Resultats!I22)","v":""}]
[null,"Haubans d'Ancrages",null,null,null,"Haubans d'Ancrages"]
[{"$f":"IF(B24=\"\",\"\",VLOOKUP(B24,Matériels!$B$2:$C$1004,2,FALSE))","v":"hauban d'ancrage Ø36 de Lg= 8,75m"},{"$f":"IFERROR(VLOOKUP(Resultats!B24&Resultats!C24,Matériels!$J$2:$N$1004,5,FALSE),\"\")","v":"08828752"},{"$f":"IF(Resultats!D24=\"\",\"\",Resultats!D24)","v":1},null,{"$f":"IF(F24=\"\",\"\",VLOOKUP(F24,Matériels!$B$2:$C$1004,2,FALSE))","v":""},{"$f":"IFERROR(VLOOKUP(Resultats!G24&Resultats!H24,Matériels!$J$2:$N$1004,5,FALSE),\"\")","v":""},{"$f":"IF(Resultats!I24=\"\",\"\",Resultats!I24)","v":""}]
[{"$f":"IF(B25=\"\",\"\",VLOOKUP(B25,Matériels!$B$2:$C$1004,2,FALSE))","v":"hauban d'ancrage Ø36 de Lg= 8,75m"},{"$f":"IFERROR(VLOOKUP(Resultats!B25&Resultats!C25,Matériels!$J$2:$N$1004,5,FALSE),\"\")","v":"08828752"},{"$f":"IF(Resultats!D25=\"\",\"\",Resultats!D25)","v":1},null,{"$f":"IF(F25=\"\",\"\",VLOOKUP(F25,Matériels!$B$2:$C$1004,2,FALSE))","v":""},{"$f":"IFERROR(VLOOKUP(Resultats!G25&Resultats!H25,Matériels!$J$2:$N$1004,5,FALSE),\"\")","v":""},{"$f":"IF(Resultats!I25=\"\",\"\",Resultats!I25)","v":""}]
[{"$f":"IF(B26=\"\",\"\",VLOOKUP(B26,Matériels!$B$2:$C$1004,2,FALSE))","v":""},{"$f":"IFERROR(VLOOKUP(Resultats!B26&Resultats!C26,Matériels!$J$2:$N$1004,5,FALSE),\"\")","v":""},{"$f":"IF(Resultats!D26=\"\",\"\",Resultats!D26)","v":""},null,{"$f":"IF(F26=\"\",\"\",VLOOKUP(F26,Matériels!$B$2:$C$1004,2,FALSE))","v":""},{"$f":"IFERROR(VLOOKUP(Resultats!G26&Resultats!H26,Matériels!$J$2:$N$1004,5,FALSE),\"\")","v":""},{"$f":"IF(Resultats!I26=\"\",\"\",Resultats!I26)","v":""}]
[{"$f":"IF(B27=\"\",\"\",VLOOKUP(B27,Matériels!$B$2:$C$1004,2,FALSE))","v":""},{"$f":"IFERROR(VLOOKUP(Resultats!B27&Resultats!C27,Matériels!$J$2:$N$1004,5,FALSE),\"\")","v":""},{"$f":"IF(Resultats!D27=\"\",\"\",Resultats!D27)","v":""},null,{"$f":"IF(F27=\"\",\"\",VLOOKUP(F27,Matériels!$B$2:$C$1004,2,FALSE))","v":""},{"$f":"IFERROR(VLOOKUP(Resultats!G27&Resultats!H27,Matériels!$J$2:$N$1004,5,FALSE),\"\")","v":""},{"$f":"IF(Resultats!I27=\"\",\"\",Resultats!I27)","v":""}]
[{"$f":"IF(B28=\"\",\"\",VLOOKUP(B28,Matériels!$B$2:$C$1004,2,FALSE))","v":""},{"$f":"IFERROR(VLOOKUP(Resultats!B28&Resultats!C28,Matériels!$J$2:$N$1004,5,FALSE),\"\")","v":""},{"$f":"IF(Resultats!D28=\"\",\"\",Resultats!D28)","v":""},null,{"$f":"IF(F28=\"\",\"\",VLOOKUP(F28,Matériels!$B$2:$C$1004,2,FALSE))","v":""},{"$f":"IFERROR(VLOOKUP(Resultats!G28&Resultats!H28,Matériels!$J$2:$N$1004,5,FALSE),\"\")","v":""},{"$f":"IF(Resultats!I28=\"\",\"\",Resultats!I28)","v":""}]
[{"$f":"IF(B29=\"\",\"\",VLOOKUP(B29,Matériels!$B$2:$C$1004,2,FALSE))","v":""},{"$f":"IFERROR(VLOOKUP(Resultats!B29&Resultats!C29,Matériels!$J$2:$N$1004,5,FALSE),\"\")","v":""},{"$f":"IF(Resultats!D29=\"\",\"\",Resultats!D29)","v":""},null,{"$f":"IF(F29=\"\",\"\",VLOOKUP(F29,Matériels!$B$2:$C$1004,2,FALSE))","v":""},{"$f":"IFERROR(VLOOKUP(Resultats!G29&Resultats!H29,Matériels!$J$2:$N$1004,5,FALSE),\"\")","v":""},{"$f":"IF(Resultats!I29=\"\",\"\",Resultats!I29)","v":""}]
[{"$f":"IF(B30=\"\",\"\",VLOOKUP(B30,Matériels!$B$2:$C$1004,2,FALSE))","v":""},{"$f":"IFERROR(VLOOKUP(Resultats!B30&Resultats!C30,Matériels!$J$2:$N$1004,5,FALSE),\"\")","v":""},{"$f":"IF(Resultats!D30=\"\",\"\",Resultats!D30)","v":""},null,{"$f":"IF(F30=\"\",\"\",VLOOKUP(F30,Matériels!$B$2:$C$1004,2,FALSE))","v":""},{"$f":"IFERROR(VLOOKUP(Resultats!G30&Resultats!H30,Matériels!$J$2:$N$1004,5,FALSE),\"\")","v":""},{"$f":"IF(Resultats!I30=\"\",\"\",Resultats!I30)","v":""}]
[null,"Jumelles",null,null,null,"Jumelles"]
[{"$f":"IF(B32=\"\",\"\",VLOOKUP(B32,Matériels!$B$2:$C$1004,2,FALSE))","v":"Jumelles de 1,00m"},{"$f":"IFERROR(VLOOKUP(Resultats!B32&Resultats!C32,Matériels!$J$2:$N$1004,5,FALSE),\"\")","v":"00986723"},{"$f":"IF(Resultats!D32=\"\",\"\",Resultats!D32)","v":1},null,{"$f":"IF(F32=\"\",\"\",VLOOKUP(F32,Matériels!$B$2:$C$1004,2,FALSE))","v":""},{"$f":"IFERROR(VLOOKUP(Resultats!G32&Resultats!H32,Matériels!$J$2:$N$1004,5,FALSE),\"\")","v":""},{"$f":"IF(Resultats!I32=\"\",\"\",Resultats!I32)","v":""}]
[{"$f":"IF(B33=\"\",\"\",VLOOKUP(B33,Matériels!$B$2:$C$1004,2,FALSE))","v":"Jumelles de 0,12m"},{"$f":"IFERROR(VLOOKUP(Resultats!B33&Resultats!C33,Matériels!$J$2:$N$1004,5,FALSE),\"\")","v":"00986721"},{"$f":"IF(Resultats!D33=\"\",\"\",Resultats!D33)","v":1},null,{"$f":"IF(F33=\"\",\"\",VLOOKUP(F33,Matériels!$B$2:$C$1004,2,FALSE))","v":""},{"$f":"IFERROR(VLOOKUP(Resultats!G33&Resultats!H33,Matériels!$J$2:$N$1004,5,FALSE),\"\")","v":""},{"$f":"IF(Resultats!I33=\"\",\"\",Resultats!I33)","v":""}]
[{"$f":"IF(B34=\"\",\"\",VLOOKUP(B34,Matériels!$B$2:$C$1004,2,FALSE))","v":""},{"$f":"IFERROR(VLOOKUP(Resultats!B34&Resultats!C34,Matériels!$J$2:$N$1004,5,FALSE),\"\")","v":""},{"$f":"IF(Resultats!D34=\"\",\"\",Resultats!D34)","v":""},null,{"$f":"IF(F34=\"\",\"\",VLOOKUP(F34,Matériels!$B$2:$C$1004,2,FALSE))","v":""},{"$f":"IFERROR(VLOOKUP(Resultats!G34&Resultats!H34,Matériels!$J$2:$N$1004,5,FALSE),\"\")","v":""},{"$f":"IF(Resultats!I34=\"\",\"\",Resultats!I34)","v":""}]
[{"$f":"IF(B35=\"\",\"\",VLOOKUP(B35,Matériels!$B$2:$C$1004,2,FALSE))","v":""},{"$f":"IFERROR(VLOOKUP(Resultats!B35&Resultats!C35,Matériels!$J$2:$N$1004,5,FALSE),\"\")","v":""},{"$f":"IF(Resultats!D35=\"\",\"\",Resultats!D35)","v":""},null,{"$f":"IF(F35=\"\",\"\",VLOOKUP(F35,Matériels!$B$2:$C$1004,2,FALSE))","v":""},{"$f":"IFERROR(VLOOKUP(Resultats!G35&Resultats!H35,Matériels!$J$2:$N$1004,5,FALSE),\"\")","v":""},{"$f":"IF(Resultats!I35=\"\",\"\",Resultats!I35)","v":""}]
[null,"Etriers",null,null,null,"Etriers"]
[{"$f":"IF(B37=\"\",\"\",VLOOKUP(B37,Matériels!$B$2:$C$1004,2,FALSE))","v":"Etrier"},{"$f":"IFERROR(VLOOKUP(Resultats!B37&Resultats!C37,Matériels!$J$2:$N$1004,5,FALSE),\"\")","v":"08828922"},{"$f":"IF(Resultats!D37=\"\",\"\",Resultats!D37)","v":2},null,{"$f":"IF(F37=\"\",\"\",VLOOKUP(F37,Matériels!$B$2:$C$1004,2,FALSE))","v":""},{"$f":"IFERROR(VLOOKUP(Resultats!G37&Resultats!H37,Matériels!$J$2:$N$1004,5,FALSE),\"\")","v":""},{"$f":"IF(Resultats!I37=\"\",\"\",Resultats!I37)","v":""}]
[null,"Poutrelle d'Ancrage",null,null,null,"Poutrelle d'Ancrage"]
[{"$f":"IF(B39=\"\",\"\",VLOOKUP(B39,Matériels!$B$2:$C$1004,2,FALSE))","v":""},{"$f":"IFERROR(VLOOKUP(Resultats!B39&Resultats!C39,Matériels!$J$2:$N$1004,5,FALSE),\"\")","v":""},{"$f":"IF(Resultats!D39=\"\",\"\",Resultats!D39)","v":""},null,{"$f":"IF(F39=\"\",\"\",VLOOKUP(F39,Matériels!$B$2:$C$1004,2,FALSE))","v":""},{"$f":"IFERROR(VLOOKUP(Resultats!G39&Resultats!H39,Matériels!$J$2:$N$1004,5,FALSE),\"\")","v":""},{"$f":"IF(Resultats!I39=\"\",\"\",Resultats!I39)","v":""}]
[null,"Semelle d'Appui",null,null,null,"Semelle d'Appui"]
[{"$f":"IF(B41=\"\",\"\",VLOOKUP(B41,Matériels!$B$2:$C$1004,2,FALSE))","v":""},{"$f":"IFERROR(VLOOKUP(Resultats!B41&Resultats!C41,Matériels!$J$2:$N$1004,5,FALSE),\"\")","v":""},{"$f":"IF(Resultats!D41=\"\",\"\",Resultats!D41)","v":""},null,{"$f":"IF(F41=\"\",\"\",VLOOKUP(F41,Matériels!$B$2:$C$1004,2,FALSE))","v":""},{"$f":"IFERROR(VLOOKUP(Resultats!G41&Resultats!H41,Matériels!$J$2:$N$1004,5,FALSE),\"\")","v":""},{"$f":"IF(Resultats!I41=\"\",\"\",Resultats!I41)","v":""}]
[null,"Cuvette",null,null,null,"Cuvette"]
[{"$f":"IF(B43=\"\",\"\",VLOOKUP(B43,Matériels!$B$2:$C$1004,2,FALSE))","v":""},{"$f":"IFERROR(VLOOKUP(Resultats!B43&Resultats!C43,Matériels!$J$2:$N$1004,5,FALSE),\"\")","v":""},{"$f":"IF(Resultats!D43=\"\",\"\",Resultats!D43)","v":""},null,{"$f":"IF(F43=\"\",\"\",VLOOKUP(F43,Matériels!$B$2:$C$1004,2,FALSE))","v":""},{"$f":"IFERROR(VLOOKUP(Resultats!G43&Resultats!H43,Matériels!$J$2:$N$1004,5,FALSE),\"\")","v":""},{"$f":"IF(Resultats!I43=\"\",\"\",Resultats!I43)","v":""}]
[null,"Tiges filetees",null,null,null,"Tiges filetees"]
[{"$f":"IF(B45=\"\",\"\",VLOOKUP(B45,Matériels!$B$2:$C$1004,2,FALSE))","v":""},{"$f":"IFERROR(VLOOKUP(Resultats!B45&Resultats!C45,Matériels!$J$2:$N$1004,5,FALSE),\"\")","v":""},{"$f":"IF(Resultats!D45=\"\",\"\",Resultats!D45)","v":""},null,{"$f":"IF(F45=\"\",\"\",VLOOKUP(F45,Matériels!$B$2:$C$1004,2,FALSE))","v":""},{"$f":"IFERROR(VLOOKUP(Resultats!G45&Resultats!H45,Matériels!$J$2:$N$1004,5,FALSE),\"\")","v":""},{"$f":"IF(Resultats!I45=\"\",\"\",Resultats!I45)","v":""}]
[{"$f":"IF(B46=\"\",\"\",VLOOKUP(B46,Matériels!$B$2:$C$1004,2,FALSE))","v":"B. H M22-100/50"},{"$f":"IFERROR(VLOOKUP(Resultats!B46&Resultats!C46,Matériels!$J$2:$N$1004,5,FALSE),\"\")","v":"01602487"},{"$f":"IF(Resultats!D46=\"\",\"\",Resultats!D46)","v":4},null,{"$f":"IF(F46=\"\",\"\",VLOOKUP(F46,Matériels!$B$2:$C$1004,2,FALSE))","v":""},{"$f":"IFERROR(VLOOKUP(Resultats!G46&Resultats!H46,Matériels!$J$2:$N$1004,5,FALSE),\"\")","v":""},{"$f":"IF(Resultats!I46=\"\",\"\",Resultats!I46)","v":""}]
[{"$f":"IF(B47=\"\",\"\",VLOOKUP(B47,Matériels!$B$2:$C$1004,2,FALSE))","v":"B. H M22-100/50"},{"$f":"IFERROR(VLOOKUP(Resultats!B47&Resultats!C47,Matériels!$J$2:$N$1004,5,FALSE),\"\")","v":"01602487"},{"$f":"IF(Resultats!D47=\"\",\"\",Resultats!D47)","v":4},null,{"$f":"IF(F47=\"\",\"\",VLOOKUP(F47,Matériels!$B$2:$C$1004,2,FALSE))","v":""},{"$f":"IFERROR(VLOOKUP(Resultats!G47&Resultats!H47,Matériels!$J$2:$N$1004,5,FALSE),\"\")","v":""},{"$f":"IF(Resultats!I47=\"\",\"\",Resultats!I47)","v":""}]
[{"$f":"IF(B48=\"\",\"\",VLOOKUP(B48,Matériels!$B$2:$C$1004,2,FALSE))","v":""},{"$f":"IFERROR(VLOOKUP(Resultats!B48&Resultats!C48,Matériels!$J$2:$N$1004,5,FALSE),\"\")","v":""},{"$f":"IF(Resultats!D48=\"\",\"\",Resultats!D48)","v":""},null,{"$f":"IF(F48=\"\",\"\",VLOOKUP(F48,Matériels!$B$2:$C$1004,2,FALSE))","v":""},{"$f":"IFERROR(VLOOKUP(Resultats!G48&Resultats!H48,Matériels!$J$2:$N$1004,5,FALSE),\"\")","v":""},{"$f":"IF(Resultats!I48=\"\",\"\",Resultats!I48)","v":""}]
[{"$f":"IF(B49=\"\",\"\",VLOOKUP(B49,Matériels!$B$2:$C$1004,2,FALSE))","v":""},{"$f":"IFERROR(VLOOKUP(Resultats!B49&Resultats!C49,Matériels!$J$2:$N$1004,5,FALSE),\"\")","v":""},{"$f":"IF(Resultats!D49=\"\",\"\",Resultats!D49)","v":""},null,{"$f":"IF(F49=\"\",\"\",VLOOKUP(F49,Matériels!$B$2:$C$1004,2,FALSE))","v":""},{"$f":"IFERROR(VLOOKUP(Resultats!G49&Resultats!H49,Matériels!$J$2:$N$1004,5,FALSE),\"\")","v":""},{"$f":"IF(Resultats!I49=\"\",\"\",Resultats!I49)","v":""}]
[{"$f":"IF(B50=\"\",\"\",VLOOKUP(B50,Matériels!$B$2:$C$1004,2,FALSE))","v":""},{"$f":"IFERROR(VLOOKUP(Resultats!B50&Resultats!C50,Matériels!$J$2:$N$1004,5,FALSE),\"\")","v":""},{"$f":"IF(Resultats!D50=\"\",\"\",Resultats!D50)","v":""},null,{"$f":"IF(F50=\"\",\"\",VLOOKUP(F50,Matériels!$B$2:$C$1004,2,FALSE))","v":""},{"$f":"IFERROR(VLOOKUP(Resultats!G50&Resultats!H50,Matériels!$J$2:$N$1004,5,FALSE),\"\")","v":""},{"$f":"IF(Resultats!I50=\"\",\"\",Resultats!I50)","v":""}]
[{"$f":"IF(B51=\"\",\"\",VLOOKUP(B51,Matériels!$B$2:$C$1004,2,FALSE))","v":""},{"$f":"IFERROR(VLOOKUP(Resultats!B51&Resultats!C51,Matériels!$J$2:$N$1004,5,FALSE),\"\")","v":""},{"$f":"IF(Resultats!D51=\"\",\"\",Resultats!D51)","v":""},null,{"$f":"IF(F51=\"\",\"\",VLOOKUP(F51,Matériels!$B$2:$C$1004,2,FALSE))","v":""},{"$f":"IFERROR(VLOOKUP(Resultats!G51&Resultats!H51,Matériels!$J$2:$N$1004,5,FALSE),\"\")","v":""},{"$f":"IF(Resultats!I51=\"\",\"\",Resultats!I51)","v":""}]
[{"$f":"IF(B52=\"\",\"\",VLOOKUP(B52,Matériels!$B$2:$C$1004,2,FALSE))","v":""},{"$f":"IFERROR(VLOOKUP(Resultats!B52&Resultats!C52,Matériels!$J$2:$N$1004,5,FALSE),\"\")","v":""},{"$f":"IF(Resultats!D52=\"\",\"\",Resultats!D52)","v":""},null,{"$f":"IF(F52=\"\",\"\",VLOOKUP(F52,Matériels!$B$2:$C$1004,2,FALSE))","v":""},{"$f":"IFERROR(VLOOKUP(Resultats!G52&Resultats!H52,Matériels!$J$2:$N$1004,5,FALSE),\"\")","v":""},{"$f":"IF(Resultats!I52=\"\",\"\",Resultats!I52)","v":""}]
[null,"Rondelles",null,null,null,"Rondelles"]
[{"$f":"IF(B54=\"\",\"\",VLOOKUP(B54,Matériels!$B$2:$C$1004,2,FALSE))","v":""},{"$f":"IFERROR(VLOOKUP(Resultats!B54&Resultats!C54,Matériels!$J$2:$N$1004,5,FALSE),\"\")","v":""},{"$f":"IF(Resultats!D54=\"\",\"\",Resultats!D54)","v":""},null,{"$f":"IF(F54=\"\",\"\",VLOOKUP(F54,Matériels!$B$2:$C$1004,2,FALSE))","v":""},{"$f":"IFERROR(VLOOKUP(Resultats!G54&Resultats!H54,Matériels!$J$2:$N$1004,5,FALSE),\"\")","v":""},{"$f":"IF(Resultats!I54=\"\",\"\",Resultats!I54)","v":""}]
[null,"Appareil Tendeur",null,null,null,"Appareil Tendeur"]
[{"$f":"IF(B56=\"\",\"\",VLOOKUP(B56,Matériels!$B$2:$C$1004,2,FALSE))","v":"Ens. Montage Appareil Tendeur"},{"$f":"IFERROR(VLOOKUP(Resultats!B56&Resultats!C56,Matériels!$J$2:$N$1004,5,FALSE),\"\")","v":"10984102"},{"$f":"IF(Resultats!D56=\"\",\"\",Resultats!D56)","v":1},null,{"$f":"IF(F56=\"\",\"\",VLOOKUP(F56,Matériels!$B$2:$C$1004,2,FALSE))","v":""},{"$f":"IFERROR(VLOOKUP(Resultats!G56&Resultats!H56,Matériels!$J$2:$N$1004,5,FALSE),\"\")","v":""},{"$f":"IF(Resultats!I56=\"\",\"\",Resultats!I56)","v":""}]
[{"$f":"IF(B57=\"\",\"\",VLOOKUP(B57,Matériels!$B$2:$C$1004,2,FALSE))","v":""},{"$f":"IFERROR(VLOOKUP(Resultats!B57&Resultats!C57,Matériels!$J$2:$N$1004,5,FALSE),\"\")","v":""},{"$f":"IF(Resultats!D57=\"\",\"\",Resultats!D57)","v":""},null,{"$f":"IF(F57=\"\",\"\",VLOOKUP(F57,Matériels!$B$2:$C$1004,2,FALSE))","v":""},{"$f":"IFERROR(VLOOKUP(Resultats!G57&Resultats!H57,Matériels!$J$2:$N$1004,5,FALSE),\"\")","v":""},{"$f":"IF(Resultats!I57=\"\",\"\",Resultats!I57)","v":""}]
[null,"Ancrage Conducteurs",null,null,null,"Ancrage Conducteurs"]
[{"$f":"IF(B59=\"\",\"\",VLOOKUP(B59,Matériels!$B$2:$C$1004,2,FALSE))","v":"Ancrage de 2 Porteurs CR"},{"$f":"IFERROR(VLOOKUP(Resultats!B59&Resultats!C59,Matériels!$J$2:$N$1004,5,FALSE),\"\")","v":"30982805"},{"$f":"IF(Resultats!D59=\"\",\"\",Resultats!D59)","v":1},null,{"$f":"IF(F59=\"\",\"\",VLOOKUP(F59,Matériels!$B$2:$C$1004,2,FALSE))","v":""},{"$f":"IFERROR(VLOOKUP(Resultats!G59&Resultats!H59,Matériels!$J$2:$N$1004,5,FALSE),\"\")","v":""},{"$f":"IF(Resultats!I59=\"\",\"\",Resultats!I59)","v":""}]
[{"$f":"IF(B60=\"\",\"\",VLOOKUP(B60,Matériels!$B$2:$C$1004,2,FALSE))","v":"Ancrage de 2 Porteurs CR"},{"$f":"IFERROR(VLOOKUP(Resultats!B60&Resultats!C60,Matériels!$J$2:$N$1004,5,FALSE),\"\")","v":"30982805"},{"$f":"IF(Resultats!D60=\"\",\"\",Resultats!D60)","v":1},null,{"$f":"IF(F60=\"\",\"\",VLOOKUP(F60,Matériels!$B$2:$C$1004,2,FALSE))","v":""},{"$f":"IFERROR(VLOOKUP(Resultats!G60&Resultats!H60,Matériels!$J$2:$N$1004,5,FALSE),\"\")","v":""},{"$f":"IF(Resultats!I60=\"\",\"\",Resultats!I60)","v":""}]
[{"$f":"IF(B61=\"\",\"\",VLOOKUP(B61,Matériels!$B$2:$C$1004,2,FALSE))","v":""},{"$f":"IFERROR(VLOOKUP(Resultats!B61&Resultats!C61,Matériels!$J$2:$N$1004,5,FALSE),\"\")","v":""},{"$f":"IF(Resultats!D61=\"\",\"\",Resultats!D61)","v":""},null,{"$f":"IF(F61=\"\",\"\",VLOOKUP(F61,Matériels!$B$2:$C$1004,2,FALSE))","v":""},{"$f":"IFERROR(VLOOKUP(Resultats!G61&Resultats!H61,Matériels!$J$2:$N$1004,5,FALSE),\"\")","v":""},{"$f":"IF(Resultats!I61=\"\",\"\",Resultats!I61)","v":""}]
[{"$f":"IF(B62=\"\",\"\",VLOOKUP(B62,Matériels!$B$2:$C$1004,2,FALSE))","v":""},{"$f":"IFERROR(VLOOKUP(Resultats!B62&Resultats!C62,Matériels!$J$2:$N$1004,5,FALSE),\"\")","v":""},{"$f":"IF(Resultats!D62=\"\",\"\",Resultats!D62)","v":""},null,{"$f":"IF(F62=\"\",\"\",VLOOKUP(F62,Matériels!$B$2:$C$1004,2,FALSE))","v":""},{"$f":"IFERROR(VLOOKUP(Resultats!G62&Resultats!H62,Matériels!$J$2:$N$1004,5,FALSE),\"\")","v":""},{"$f":"IF(Resultats!I62=\"\",\"\",Resultats!I62)","v":""}]
[null,"Isolement Supplémentaire",null,null,null,"Isolement Supplémentaire"]
[{"$f":"IF(B64=\"\",\"\",VLOOKUP(B64,Matériels!$B$2:$C$1004,2,FALSE))","v":""},{"$f":"IFERROR(VLOOKUP(Resultats!B64&Resultats!C64,Matériels!$J$2:$N$1004,5,FALSE),\"\")","v":""},{"$f":"IF(Resultats!D64=\"\",\"\",Resultats!D64)","v":""},null,{"$f":"IF(F64=\"\",\"\",VLOOKUP(F64,Matériels!$B$2:$C$1004,2,FALSE))","v":""},{"$f":"IFERROR(VLOOKUP(Resultats!G64&Resultats!H64,Matériels!$J$2:$N$1004,5,FALSE),\"\")","v":""},{"$f":"IF(Resultats!I64=\"\",\"\",Resultats!I64)","v":""}]
[{"$f":"IF(B65=\"\",\"\",VLOOKUP(B65,Matériels!$B$2:$C$1004,2,FALSE))","v":""},{"$f":"IFERROR(VLOOKUP(Resultats!B65&Resultats!C65,Matériels!$J$2:$N$1004,5,FALSE),\"\")","v":""},{"$f":"IF(Resultats!D65=\"\",\"\",Resultats!D65)","v":""},null,{"$f":"IF(F65=\"\",\"\",VLOOKUP(F65,Matériels!$B$2:$C$1004,2,FALSE))","v":""},{"$f":"IFERROR(VLOOKUP(Resultats!G65&Resultats!H65,Matériels!$J$2:$N$1004,5,FALSE),\"\")","v":""},{"$f":"IF(Resultats!I65=\"\",\"\",Resultats!I65)","v":""}]
[{"$f":"IF(B66=\"\",\"\",VLOOKUP(B66,Matériels!$B$2:$C$1004,2,FALSE))","v":""},{"$f":"IFERROR(VLOOKUP(Resultats!B66&Resultats!C66,Matériels!$J$2:$N$1004,5,FALSE),\"\")","v":""},{"$f":"IF(Resultats!D66=\"\",\"\",Resultats!D66)","v":""},null,{"$f":"IF(F66=\"\",\"\",VLOOKUP(F66,Matériels!$B$2:$C$1004,2,FALSE))","v":""},{"$f":"IFERROR(VLOOKUP(Resultats!G66&Resultats!H66,Matériels!$J$2:$N$1004,5,FALSE),\"\")","v":""},{"$f":"IF(Resultats!I66=\"\",\"\",Resultats!I66)","v":""}]
[{"$f":"IF(B67=\"\",\"\",VLOOKUP(B67,Matériels!$B$2:$C$1004,2,FALSE))","v":""},{"$f":"IFERROR(VLOOKUP(Resultats!B67&Resultats!C67,Matériels!$J$2:$N$1004,5,FALSE),\"\")","v":""},{"$f":"IF(Resultats!D67=\"\",\"\",Resultats!D67)","v":""},null,{"$f":"IF(F67=\"\",\"\",VLOOKUP(F67,Matériels!$B$2:$C$1004,2,FALSE))","v":""},{"$f":"IFERROR(VLOOKUP(Resultats!G67&Resultats!H67,Matériels!$J$2:$N$1004,5,FALSE),\"\")","v":""},{"$f":"IF(Resultats!I67=\"\",\"\",Resultats!I67)","v":""}]
[{"$f":"IF(B68=\"\",\"\",VLOOKUP(B68,Matériels!$B$2:$C$1004,2,FALSE))","v":""},{"$f":"IFERROR(VLOOKUP(Resultats!B68&Resultats!C68,Matériels!$J$2:$N$1004,5,FALSE),\"\")","v":""},{"$f":"IF(Resultats!D68=\"\",\"\",Resultats!D68)","v":""},null,{"$f":"IF(F68=\"\",\"\",VLOOKUP(F68,Matériels!$B$2:$C$1004,2,FALSE))","v":""},{"$f":"IFERROR(VLOOKUP(Resultats!G68&Resultats!H68,Matériels!$J$2:$N$1004,5,FALSE),\"\")","v":""},{"$f":"IF(Resultats!I68=\"\",\"\",Resultats!I68)","v":""}]
[{"$f":"IF(B69=\"\",\"\",VLOOKUP(B69,Matériels!$B$2:$C$1004,2,FALSE))","v":""},{"$f":"IFERROR(VLOOKUP(Resultats!B69&Resultats!C69,Matériels!$J$2:$N$1004,5,FALSE),\"\")","v":""},{"$f":"IF(Resultats!D69=\"\",\"\",Resultats!D69)","v":""},null,{"$f":"IF(F69=\"\",\"\",VLOOKUP(F69,Matériels!$B$2:$C$1004,2,FALSE))","v":""},{"$f":"IFERROR(VLOOKUP(Resultats!G69&Resultats!H69,Matériels!$J$2:$N$1004,5,FALSE),\"\")","v":""},{"$f":"IF(Resultats!I69=\"\",\"\",Resultats!I69)","v":""}]
[{"$f":"IF(B70=\"\",\"\",VLOOKUP(B70,Matériels!$B$2:$C$1004,2,FALSE))","v":""},{"$f":"IFERROR(VLOOKUP(Resultats!B70&Resultats!C70,Matériels!$J$2:$N$1004,5,FALSE),\"\")","v":""},{"$f":"IF(Resultats!D70=\"\",\"\",Resultats!D70)","v":""},null,{"$f":"IF(F70=\"\",\"\",VLOOKUP(F70,Matériels!$B$2:$C$1004,2,FALSE))","v":""},{"$f":"IFERROR(VLOOKUP(Resultats!G70&Resultats!H70,Matériels!$J$2:$N$1004,5,FALSE),\"\")","v":""},{"$f":"IF(Resultats!I70=\"\",\"\",Resultats!I70)","v":""}]
[{"$f":"IF(B71=\"\",\"\",VLOOKUP(B71,Matériels!$B$2:$C$1004,2,FALSE))","v":""},{"$f":"IFERROR(VLOOKUP(Resultats!B71&Resultats!C71,Matériels!$J$2:$N$1004,5,FALSE),\"\")","v":""},{"$f":"IF(Resultats!D71=\"\",\"\",Resultats!D71)","v":""},null,{"$f":"IF(F71=\"\",\"\",VLOOKUP(F71,Matériels!$B$2:$C$1004,2,FALSE))","v":""},{"$f":"IFERROR(VLOOKUP(Resultats!G71&Resultats!H71,Matériels!$J$2:$N$1004,5,FALSE),\"\")","v":""},{"$f":"IF(Resultats!I71=\"\",\"\",Resultats!I71)","v":""}]
[{"$f":"IF(B72=\"\",\"\",VLOOKUP(B72,Matériels!$B$2:$C$1004,2,FALSE))","v":""},{"$f":"IFERROR(VLOOKUP(Resultats!B72&Resultats!C72,Matériels!$J$2:$N$1004,5,FALSE),\"\")","v":""},{"$f":"IF(Resultats!D72=\"\",\"\",Resultats!D72)","v":""},null,{"$f":"IF(F72=\"\",\"\",VLOOKUP(F72,Matériels!$B$2:$C$1004,2,FALSE))","v":""},{"$f":"IFERROR(VLOOKUP(Resultats!G72&Resultats!H72,Matériels!$J$2:$N$1004,5,FALSE),\"\")","v":""},{"$f":"IF(Resultats!I72=\"\",\"\",Resultats!I72)","v":""}]

{"sheet":"Calculs Resultats","index":5,"n_rows":72,"n_cols":9,"rows_kept":72,"cut":false,"hidden":true,"merged":[[0,0,1,8],[2,3,2,5]]}
["DETERMINATION D'ANCRAGES"]
[]
[null,null,null,"Support"]
[null,null,null,"Echantillon :",null,{"$f":"IF('Calculs Impression'!E4=\"\",\"\",'Calculs Impression'!E4)","v":"HEA300J"}]
[null,null,null,"Massif :",null,{"$f":"IF('Calculs Impression'!E5=\"\",\"\",'Calculs Impression'!E5)","v":"4Pn"}]
[null,null,null,"Arrasement :",null,{"$f":"IF('Calculs Impression'!E6=\"\",\"\",'Calculs Impression'!E6)","v":0.08}]
[]
[null,"Ancrage N°1",null,null,null,null,""]
["Tension Mécanique :",null,{"$f":"'Calculs Impression'!C9","v":90.8},null,null,"Tension Mécanique :",null,{"$f":"'Calculs Impression'!G9","v":0}]
["Massif :",{"$f":"'Calculs Impression'!B10","v":9},{"$f":"'Calculs Impression'!C10","v":"Api"},null,null,"Massif :",{"$f":"'Calculs Impression'!F10","v":""},{"$f":"'Calculs Impression'!G10","v":""}]
[]
["Designations","Plan","Repere","Quantités",null,"Designations","Plan","Repere","Quantités"]
[{"$f":"IFERROR(VLOOKUP(B13&C13,Matériels!$J$1:$M$993,2,FALSE),\"\")","v":"Piece d'ancrage Hauban"},{"$f":"IF('Calculs Impression'!B13=\"\",\"\",VLOOKUP('Calculs Impression'!B13,Matériels!$B$1:$I$1004,4,FALSE))","v":22155},{"$f":"IF('Calculs Impression'!$B13=\"\",\"\",IF(VLOOKUP('Calculs Impression'!$B13,Matériels!$B$2:$I$1004,5,FALSE)=0,\"\",VLOOKUP('Calculs Impression'!$B13,Matériels!$B$2:$I$1004,5,FALSE)))","v":""},{"$f":"IF('Calculs Impression'!C13=\"\",\"\",'Calculs Impression'!C13)","v":1},null,{"$f":"IFERROR(VLOOKUP(G13&H13,Matériels!$J$1:$M$993,2,FALSE),\"\")","v":""},{"$f":"IF('Calculs Impression'!$F13=\"\",\"\",VLOOKUP('Calculs Impression'!$F13,Matériels!$B$1:$I$1004,4,FALSE))","v":""},{"$f":"IF('Calculs Impression'!$F13=\"\",\"\",IF(VLOOKUP('Calculs Impression'!$F13,Matériels!$B$2:$I$1004,5,FALSE)=0,\"\",VLOOKUP('Calculs Impression'!$F13,Matériels!$B$2:$I$1004,5,FALSE)))","v":""},{"$f":"IF('Calculs Impression'!G13=\"\",\"\",'Calculs Impression'!G13)","v":""}]
[{"$f":"IFERROR(VLOOKUP(B14&C14,Matériels!$J$1:$M$993,2,FALSE),\"\")","v":"Piece d'ancrage Hauban"},{"$f":"IF('Calculs Impression'!$B14=\"\",\"\",VLOOKUP('Calculs Impression'!$B14,Matériels!$B$1:$I$1004,4,FALSE))","v":22155},{"$f":"IF('Calculs Impression'!$B14=\"\",\"\",IF(VLOOKUP('Calculs Impression'!$B14,Matériels!$B$2:$I$1004,5,FALSE)=0,\"\",VLOOKUP('Calculs Impression'!$B14,Matériels!$B$2:$I$1004,5,FALSE)))","v":""},{"$f":"IF('Calculs Impression'!C14=\"\",\"\",'Calculs Impression'!C14)","v":1},null,{"$f":"IFERROR(VLOOKUP(G14&H14,Matériels!$J$1:$M$993,2,FALSE),\"\")","v":""},{"$f":"IF('Calculs Impression'!$F14=\"\",\"\",VLOOKUP('Calculs Impression'!$F14,Matériels!$B$1:$I$1004,4,FALSE))","v":""},{"$f":"IF('Calculs Impression'!$F14=\"\",\"\",IF(VLOOKUP('Calculs Impression'!$F14,Matériels!$B$2:$I$1004,5,FALSE)=0,\"\",VLOOKUP('Calculs Impression'!$F14,Matériels!$B$2:$I$1004,5,FALSE)))","v":""},{"$f":"IF('Calculs Impression'!G14=\"\",\"\",'Calculs Impression'!G14)","v":""}]
[{"$f":"IFERROR(VLOOKUP(B15&C15,Matériels!$J$1:$M$993,2,FALSE),\"\")","v":""},{"$f":"IF('Calculs Impression'!$B15=\"\",\"\",VLOOKUP('Calculs Impression'!$B15,Matériels!$B$1:$I$1004,4,FALSE))","v":""},{"$f":"IF('Calculs Impression'!$B15=\"\",\"\",IF(VLOOKUP('Calculs Impression'!$B15,Matériels!$B$2:$I$1004,5,FALSE)=0,\"\",VLOOKUP('Calculs Impression'!$B15,Matériels!$B$2:$I$1004,5,FALSE)))","v":""},{"$f":"IF('Calculs Impression'!C15=\"\",\"\",'Calculs Impression'!C15)","v":""},null,{"$f":"IFERROR(VLOOKUP(G15&H15,Matériels!$J$1:$M$993,2,FALSE),\"\")","v":""},{"$f":"IF('Calculs Impression'!$F15=\"\",\"\",VLOOKUP('Calculs Impression'!$F15,Matériels!$B$1:$I$1004,4,FALSE))","v":""},{"$f":"IF('Calculs Impression'!$F15=\"\",\"\",IF(VLOOKUP('Calculs Impression'!$F15,Matériels!$B$2:$I$1004,5,FALSE)=0,\"\",VLOOKUP('Calculs Impression'!$F15,Matériels!$B$2:$I$1004,5,FALSE)))","v":""},{"$f":"IF('Calculs Impression'!G15=\"\",\"\",'Calculs Impression'!G15)","v":""}]
[{"$f":"IFERROR(VLOOKUP(B16&C16,Matériels!$J$1:$M$993,2,FALSE),\"\")","v":""},{"$f":"IF('Calculs Impression'!$B16=\"\",\"\",VLOOKUP('Calculs Impression'!$B16,Matériels!$B$1:$I$1004,4,FALSE))","v":""},{"$f":"IF('Calculs Impression'!$B16=\"\",\"\",IF(VLOOKUP('Calculs Impression'!$B16,Matériels!$B$2:$I$1004,5,FALSE)=0,\"\",VLOOKUP('Calculs Impression'!$B16,Matériels!$B$2:$I$1004,5,FALSE)))","v":""},{"$f":"IF('Calculs Impression'!C16=\"\",\"\",'Calculs Impression'!C16)","v":""},null,{"$f":"IFERROR(VLOOKUP(G16&H16,Matériels!$J$1:$M$993,2,FALSE),\"\")","v":""},{"$f":"IF('Calculs Impression'!$F16=\"\",\"\",VLOOKUP('Calculs Impression'!$F16,Matériels!$B$1:$I$1004,4,FALSE))","v":""},{"$f":"IF('Calculs Impression'!$F16=\"\",\"\",IF(VLOOKUP('Calculs Impression'!$F16,Matériels!$B$2:$I$1004,5,FALSE)=0,\"\",VLOOKUP('Calculs Impression'!$F16,Matériels!$B$2:$I$1004,5,FALSE)))","v":""},{"$f":"IF('Calculs Impression'!G16=\"\",\"\",'Calculs Impression'!G16)","v":""}]
[{"$f":"IFERROR(VLOOKUP(B17&C17,Matériels!$J$1:$M$993,2,FALSE),\"\")","v":"Piece d'ancrage Câble"},{"$f":"IF('Calculs Impression'!$B17=\"\",\"\",VLOOKUP('Calculs Impression'!$B17,Matériels!$B$1:$I$1004,4,FALSE))","v":22173},{"$f":"IF('Calculs Impression'!$B17=\"\",\"\",IF(VLOOKUP('Calculs Impression'!$B17,Matériels!$B$2:$I$1004,5,FALSE)=0,\"\",VLOOKUP('Calculs Impression'!$B17,Matériels!$B$2:$I$1004,5,FALSE)))","v":""},{"$f":"IF('Calculs Impression'!C17=\"\",\"\",'Calculs Impression'!C17)","v":1},null,{"$f":"IFERROR(VLOOKUP(G17&H17,Matériels!$J$1:$M$993,2,FALSE),\"\")","v":""},{"$f":"IF('Calculs Impression'!$F17=\"\",\"\",VLOOKUP('Calculs Impression'!$F17,Matériels!$B$1:$I$1004,4,FALSE))","v":""},{"$f":"IF('Calculs Impression'!$F17=\"\",\"\",IF(VLOOKUP('Calculs Impression'!$F17,Matériels!$B$2:$I$1004,5,FALSE)=0,\"\",VLOOKUP('Calculs Impression'!$F17,Matériels!$B$2:$I$1004,5,FALSE)))","v":""},{"$f":"IF('Calculs Impression'!G17=\"\",\"\",'Calculs Impression'!G17)","v":""}]
[{"$f":"IFERROR(VLOOKUP(B18&C18,Matériels!$J$1:$M$993,2,FALSE),\"\")","v":"Piece d'ancrage Câble"},{"$f":"IF('Calculs Impression'!$B18=\"\",\"\",VLOOKUP('Calculs Impression'!$B18,Matériels!$B$1:$I$1004,4,FALSE))","v":22173},{"$f":"IF('Calculs Impression'!$B18=\"\",\"\",IF(VLOOKUP('Calculs Impression'!$B18,Matériels!$B$2:$I$1004,5,FALSE)=0,\"\",VLOOKUP('Calculs Impression'!$B18,Matériels!$B$2:$I$1004,5,FALSE)))","v":""},{"$f":"IF('Calculs Impression'!C18=\"\",\"\",'Calculs Impression'!C18)","v":1},null,{"$f":"IFERROR(VLOOKUP(G18&H18,Matériels!$J$1:$M$993,2,FALSE),\"\")","v":""},{"$f":"IF('Calculs Impression'!$F18=\"\",\"\",VLOOKUP('Calculs Impression'!$F18,Matériels!$B$1:$I$1004,4,FALSE))","v":""},{"$f":"IF('Calculs Impression'!$F18=\"\",\"\",IF(VLOOKUP('Calculs Impression'!$F18,Matériels!$B$2:$I$1004,5,FALSE)=0,\"\",VLOOKUP('Calculs Impression'!$F18,Matériels!$B$2:$I$1004,5,FALSE)))","v":""},{"$f":"IF('Calculs Impression'!G18=\"\",\"\",'Calculs Impression'!G18)","v":""}]
[{"$f":"IFERROR(VLOOKUP(B19&C19,Matériels!$J$1:$M$993,2,FALSE),\"\")","v":""},{"$f":"IF('Calculs Impression'!$B19=\"\",\"\",VLOOKUP('Calculs Impression'!$B19,Matériels!$B$1:$I$1004,4,FALSE))","v":""},{"$f":"IF('Calculs Impression'!$B19=\"\",\"\",IF(VLOOKUP('Calculs Impression'!$B19,Matériels!$B$2:$I$1004,5,FALSE)=0,\"\",VLOOKUP('Calculs Impression'!$B19,Matériels!$B$2:$I$1004,5,FALSE)))","v":""},{"$f":"IF('Calculs Impression'!C19=\"\",\"\",'Calculs Impression'!C19)","v":""},null,{"$f":"IFERROR(VLOOKUP(G19&H19,Matériels!$J$1:$M$993,2,FALSE),\"\")","v":""},{"$f":"IF('Calculs Impression'!$F19=\"\",\"\",VLOOKUP('Calculs Impression'!$F19,Matériels!$B$1:$I$1004,4,FALSE))","v":""},{"$f":"IF('Calculs Impression'!$F19=\"\",\"\",IF(VLOOKUP('Calculs Impression'!$F19,Matériels!$B$2:$I$1004,5,FALSE)=0,\"\",VLOOKUP('Calculs Impression'!$F19,Matériels!$B$2:$I$1004,5,FALSE)))","v":""},{"$f":"IF('Calculs Impression'!G19=\"\",\"\",'Calculs Impression'!G19)","v":""}]
[{"$f":"IFERROR(VLOOKUP(B20&C20,Matériels!$J$1:$M$993,2,FALSE),\"\")","v":""},"Pieces de Reglages",null,null,null,null,"Pieces de Reglages"]
[{"$f":"IFERROR(VLOOKUP(B21&C21,Matériels!$J$1:$M$993,2,FALSE),\"\")","v":"Piece de Reglage"},{"$f":"IF('Calculs Impression'!$B21=\"\",\"\",VLOOKUP('Calculs Impression'!$B21,Matériels!$B$1:$I$1004,4,FALSE))","v":37606},{"$f":"IF('Calculs Impression'!$B21=\"\",\"\",IF(VLOOKUP('Calculs Impression'!$B21,Matériels!$B$2:$I$1004,5,FALSE)=0,\"\",VLOOKUP('Calculs Impression'!$B21,Matériels!$B$2:$I$1004,5,FALSE)))","v":""},{"$f":"IF('Calculs Impression'!C21=\"\",\"\",'Calculs Impression'!C21)","v":2},null,{"$f":"IFERROR(VLOOKUP(G21&H21,Matériels!$J$1:$M$993,2,FALSE),\"\")","v":""},{"$f":"IF('Calculs Impression'!$F21=\"\",\"\",VLOOKUP('Calculs Impression'!$F21,Matériels!$B$1:$I$1004,4,FALSE))","v":""},{"$f":"IF('Calculs Impression'!$F21=\"\",\"\",IF(VLOOKUP('Calculs Impression'!$F21,Matériels!$B$2:$I$1004,5,FALSE)=0,\"\",VLOOKUP('Calculs Impression'!$F21,Matériels!$B$2:$I$1004,5,FALSE)))","v":""},{"$f":"IF('Calculs Impression'!G21=\"\",\"\",'Calculs Impression'!G21)","v":""}]
[{"$f":"IFERROR(VLOOKUP(B22&C22,Matériels!$J$1:$M$993,2,FALSE),\"\")","v":""},{"$f":"IF('Calculs Impression'!$B22=\"\",\"\",VLOOKUP('Calculs Impression'!$B22,Matériels!$B$1:$I$1004,4,FALSE))","v":""},{"$f":"IF('Calculs Impression'!$B22=\"\",\"\",IF(VLOOKUP('Calculs Impression'!$B22,Matériels!$B$2:$I$1004,5,FALSE)=0,\"\",VLOOKUP('Calculs Impression'!$B22,Matériels!$B$2:$I$1004,5,FALSE)))","v":""},{"$f":"IF('Calculs Impression'!C22=\"\",\"\",'Calculs Impression'!C22)","v":""},null,{"$f":"IFERROR(VLOOKUP(G22&H22,Matériels!$J$1:$M$993,2,FALSE),\"\")","v":""},{"$f":"IF('Calculs Impression'!$F22=\"\",\"\",VLOOKUP('Calculs Impression'!$F22,Matériels!$B$1:$I$1004,4,FALSE))","v":""},{"$f":"IF('Calculs Impression'!$F22=\"\",\"\",IF(VLOOKUP('Calculs Impression'!$F22,Matériels!$B$2:$I$1004,5,FALSE)=0,\"\",VLOOKUP('Calculs Impression'!$F22,Matériels!$B$2:$I$1004,5,FALSE)))","v":""},{"$f":"IF('Calculs Impression'!G22=\"\",\"\",'Calculs Impression'!G22)","v":""}]
[{"$f":"IFERROR(VLOOKUP(B23&C23,Matériels!$J$1:$M$993,2,FALSE),\"\")","v":""},"Haubans d'Ancrages",null,null,null,null,"Haubans d'Ancrages"]
[{"$f":"IFERROR(VLOOKUP(B24&C24,Matériels!$J$1:$M$993,2,FALSE),\"\")","v":"hauban d'ancrage Ø36 de Lg= 8,75m"},{"$f":"IFERROR(IF('Calculs Impression'!$B24=\"\",\"\",VLOOKUP('Calculs Impression'!$B24,Matériels!$B$1:$I$1004,4,FALSE)),'Calculs Impression'!$B24)","v":37550},{"$f":"IFERROR(IF('Calculs Impression'!$B24=\"\",\"\",IF(VLOOKUP('Calculs Impression'!$B24,Matériels!$B$2:$I$1004,5,FALSE)=0,\"\",VLOOKUP('Calculs Impression'!$B24,Matériels!$B$2:$I$1004,5,FALSE))),\"\")","v":37556},{"$f":"IF('Calculs Impression'!C24=\"\",\"\",'Calculs Impression'!C24)","v":1},null,{"$f":"IFERROR(VLOOKUP(G24&H24,Matériels!$J$1:$M$993,2,FALSE),\"\")","v":""},{"$f":"IFERROR(IF('Calculs Impression'!$F24=\"\",\"\",VLOOKUP('Calculs Impression'!$F24,Matériels!$B$1:$I$1004,4,FALSE)),'Calculs Impression'!$F24)","v":""},{"$f":"IFERROR(IF('Calculs Impression'!$F24=\"\",\"\",IF(VLOOKUP('Calculs Impression'!$F24,Matériels!$B$2:$I$1004,5,FALSE)=0,\"\",VLOOKUP('Calculs Impression'!$F24,Matériels!$B$2:$I$1004,5,FALSE))),\"\")","v":""},{"$f":"IF('Calculs Impression'!G24=\"\",\"\",'Calculs Impression'!G24)","v":""}]
[{"$f":"IFERROR(VLOOKUP(B25&C25,Matériels!$J$1:$M$993,2,FALSE),\"\")","v":"hauban d'ancrage Ø36 de Lg= 8,75m"},{"$f":"IFERROR(IF('Calculs Impression'!$B25=\"\",\"\",VLOOKUP('Calculs Impression'!$B25,Matériels!$B$1:$I$1004,4,FALSE)),'Calculs Impression'!$B25)","v":37550},{"$f":"IFERROR(IF('Calculs Impression'!$B25=\"\",\"\",IF(VLOOKUP('Calculs Impression'!$B25,Matériels!$B$2:$I$1004,5,FALSE)=0,\"\",VLOOKUP('Calculs Impression'!$B25,Matériels!$B$2:$I$1004,5,FALSE))),\"\")","v":37556},{"$f":"IF('Calculs Impression'!C25=\"\",\"\",'Calculs Impression'!C25)","v":1},null,{"$f":"IFERROR(VLOOKUP(G25&H25,Matériels!$J$1:$M$993,2,FALSE),\"\")","v":""},{"$f":"IFERROR(IF('Calculs Impression'!$F25=\"\",\"\",VLOOKUP('Calculs Impression'!$F25,Matériels!$B$1:$I$1004,4,FALSE)),'Calculs Impression'!$F25)","v":""},{"$f":"IF('Calculs Impression'!$F25=\"\",\"\",IF(VLOOKUP('Calculs Impression'!$F25,Matériels!$B$2:$I$1004,5,FALSE)=0,\"\",VLOOKUP('Calculs Impression'!$F25,Matériels!$B$2:$I$1004,5,FALSE)))","v":""},{"$f":"IF('Calculs Impression'!G25=\"\",\"\",'Calculs Impression'!G25)","v":""}]
[{"$f":"IFERROR(VLOOKUP(B26&C26,Matériels!$J$1:$M$993,2,FALSE),\"\")","v":""},{"$f":"IFERROR(IF('Calculs Impression'!$B26=\"\",\"\",VLOOKUP('Calculs Impression'!$B26,Matériels!$B$1:$I$1004,4,FALSE)),'Calculs Impression'!$B26)","v":""},{"$f":"IFERROR(IF('Calculs Impression'!$B26=\"\",\"\",IF(VLOOKUP('Calculs Impression'!$B26,Matériels!$B$2:$I$1004,5,FALSE)=0,\"\",VLOOKUP('Calculs Impression'!$B26,Matériels!$B$2:$I$1004,5,FALSE))),\"\")","v":""},{"$f":"IF('Calculs Impression'!C26=\"\",\"\",'Calculs Impression'!C26)","v":""},null,{"$f":"IFERROR(VLOOKUP(G26&H26,Matériels!$J$1:$M$993,2,FALSE),\"\")","v":""},{"$f":"IFERROR(IF('Calculs Impression'!$F26=\"\",\"\",VLOOKUP('Calculs Impression'!$F26,Matériels!$B$1:$I$1004,4,FALSE)),'Calculs Impression'!$F26)","v":""},{"$f":"IF('Calculs Impression'!$F26=\"\",\"\",IF(VLOOKUP('Calculs Impression'!$F26,Matériels!$B$2:$I$1004,5,FALSE)=0,\"\",VLOOKUP('Calculs Impression'!$F26,Matériels!$B$2:$I$1004,5,FALSE)))","v":""},{"$f":"IF('Calculs Impression'!G26=\"\",\"\",'Calculs Impression'!G26)","v":""}]
[{"$f":"IFERROR(VLOOKUP(B27&C27,Matériels!$J$1:$M$993,2,FALSE),\"\")","v":""},{"$f":"IFERROR(IF('Calculs Impression'!$B27=\"\",\"\",VLOOKUP('Calculs Impression'!$B27,Matériels!$B$1:$I$1004,4,FALSE)),'Calculs Impression'!$B27)","v":""},{"$f":"IFERROR(IF('Calculs Impression'!$B27=\"\",\"\",IF(VLOOKUP('Calculs Impression'!$B27,Matériels!$B$2:$I$1004,5,FALSE)=0,\"\",VLOOKUP('Calculs Impression'!$B27,Matériels!$B$2:$I$1004,5,FALSE))),\"\")","v":""},{"$f":"IF('Calculs Impression'!C27=\"\",\"\",'Calculs Impression'!C27)","v":""},null,{"$f":"IFERROR(VLOOKUP(G27&H27,Matériels!$J$1:$M$993,2,FALSE),\"\")","v":""},{"$f":"IFERROR(IF('Calculs Impression'!$F27=\"\",\"\",VLOOKUP('Calculs Impression'!$F27,Matériels!$B$1:$I$1004,4,FALSE)),'Calculs Impression'!$F27)","v":""},{"$f":"IF('Calculs Impression'!$F27=\"\",\"\",IF(VLOOKUP('Calculs Impression'!$F27,Matériels!$B$2:$I$1004,5,FALSE)=0,\"\",VLOOKUP('Calculs Impression'!$F27,Matériels!$B$2:$I$1004,5,FALSE)))","v":""},{"$f":"IF('Calculs Impression'!G27=\"\",\"\",'Calculs Impression'!G27)","v":""}]
[{"$f":"IFERROR(VLOOKUP(B28&C28,Matériels!$J$1:$M$993,2,FALSE),\"\")","v":""},{"$f":"IFERROR(IF('Calculs Impression'!$B28=\"\",\"\",VLOOKUP('Calculs Impression'!$B28,Matériels!$B$1:$I$1004,4,FALSE)),'Calculs Impression'!$B28)","v":""},{"$f":"IFERROR(IF('Calculs Impression'!$B28=\"\",\"\",IF(VLOOKUP('Calculs Impression'!$B28,Matériels!$B$2:$I$1004,5,FALSE)=0,\"\",VLOOKUP('Calculs Impression'!$B28,Matériels!$B$2:$I$1004,5,FALSE))),\"\")","v":""},{"$f":"IF('Calculs Impression'!C28=\"\",\"\",'Calculs Impression'!C28)","v":""},null,{"$f":"IFERROR(VLOOKUP(G28&H28,Matériels!$J$1:$M$993,2,FALSE),\"\")","v":""},{"$f":"IFERROR(IF('Calculs Impression'!$F28=\"\",\"\",VLOOKUP('Calculs Impression'!$F28,Matériels!$B$1:$I$1004,4,FALSE)),'Calculs Impression'!$F28)","v":""},{"$f":"IF('Calculs Impression'!$F28=\"\",\"\",IF(VLOOKUP('Calculs Impression'!$F28,Matériels!$B$2:$I$1004,5,FALSE)=0,\"\",VLOOKUP('Calculs Impression'!$F28,Matériels!$B$2:$I$1004,5,FALSE)))","v":""},{"$f":"IF('Calculs Impression'!G28=\"\",\"\",'Calculs Impression'!G28)","v":""}]
[{"$f":"IFERROR(VLOOKUP(B29&C29,Matériels!$J$1:$M$993,2,FALSE),\"\")","v":""},{"$f":"IFERROR(IF('Calculs Impression'!$B29=\"\",\"\",VLOOKUP('Calculs Impression'!$B29,Matériels!$B$1:$I$1004,4,FALSE)),'Calculs Impression'!$B29)","v":""},{"$f":"IFERROR(IF('Calculs Impression'!$B29=\"\",\"\",IF(VLOOKUP('Calculs Impression'!$B29,Matériels!$B$2:$I$1004,5,FALSE)=0,\"\",VLOOKUP('Calculs Impression'!$B29,Matériels!$B$2:$I$1004,5,FALSE))),\"\")","v":""},{"$f":"IF('Calculs Impression'!C29=\"\",\"\",'Calculs Impression'!C29)","v":""},null,{"$f":"IFERROR(VLOOKUP(G29&H29,Matériels!$J$1:$M$993,2,FALSE),\"\")","v":""},{"$f":"IFERROR(IF('Calculs Impression'!$F29=\"\",\"\",VLOOKUP('Calculs Impression'!$F29,Matériels!$B$1:$I$1004,4,FALSE)),'Calculs Impression'!$F29)","v":""},{"$f":"IF('Calculs Impression'!$F29=\"\",\"\",IF(VLOOKUP('Calculs Impression'!$F29,Matériels!$B$2:$I$1004,5,FALSE)=0,\"\",VLOOKUP('Calculs Impression'!$F29,Matériels!$B$2:$I$1004,5,FALSE)))","v":""},{"$f":"IF('Calculs Impression'!G29=\"\",\"\",'Calculs Impression'!G29)","v":""}]
[{"$f":"IFERROR(VLOOKUP(B30&C30,Matériels!$J$1:$M$993,2,FALSE),\"\")","v":""},{"$f":"IFERROR(IF('Calculs Impression'!$B30=\"\",\"\",VLOOKUP('Calculs Impression'!$B30,Matériels!$B$1:$I$1004,4,FALSE)),'Calculs Impression'!$B30)","v":""},{"$f":"IFERROR(IF('Calculs Impression'!$B30=\"\",\"\",IF(VLOOKUP('Calculs Impression'!$B30,Matériels!$B$2:$I$1004,5,FALSE)=0,\"\",VLOOKUP('Calculs Impression'!$B30,Matériels!$B$2:$I$1004,5,FALSE))),\"\")","v":""},{"$f":"IF('Calculs Impression'!C30=\"\",\"\",'Calculs Impression'!C30)","v":""},null,{"$f":"IFERROR(VLOOKUP(G30&H30,Matériels!$J$1:$M$993,2,FALSE),\"\")","v":""},{"$f":"IFERROR(IF('Calculs Impression'!$F30=\"\",\"\",VLOOKUP('Calculs Impression'!$F30,Matériels!$B$1:$I$1004,4,FALSE)),'Calculs Impression'!$F30)","v":""},{"$f":"IF('Calculs Impression'!$F30=\"\",\"\",IF(VLOOKUP('Calculs Impression'!$F30,Matériels!$B$2:$I$1004,5,FALSE)=0,\"\",VLOOKUP('Calculs Impression'!$F30,Matériels!$B$2:$I$1004,5,FALSE)))","v":""},{"$f":"IF('Calculs Impression'!G30=\"\",\"\",'Calculs Impression'!G30)","v":""}]
[{"$f":"IFERROR(VLOOKUP(B31&C31,Matériels!$J$1:$M$993,2,FALSE),\"\")","v":""},"Jumelles",null,null,null,null,"Jumelles"]
[{"$f":"IFERROR(VLOOKUP(B32&C32,Matériels!$J$1:$M$993,2,FALSE),\"\")","v":"Jumelles de 1,00m"},{"$f":"IFERROR(IF('Calculs Impression'!$B32=\"\",\"\",VLOOKUP('Calculs Impression'!$B32,Matériels!$B$1:$I$1004,4,FALSE)),'Calculs Impression'!$B32)","v":37627},{"$f":"IFERROR(IF('Calculs Impression'!$B32=\"\",\"\",IF(VLOOKUP('Calculs Impression'!$B32,Matériels!$B$2:$I$1004,5,FALSE)=0,\"\",VLOOKUP('Calculs Impression'!$B32,Matériels!$B$2:$I$1004,5,FALSE))),\"\")","v":103},{"$f":"IF('Calculs Impression'!C32=\"\",\"\",'Calculs Impression'!C32)","v":1},null,{"$f":"IFERROR(VLOOKUP(G32&H32,Matériels!$J$1:$M$993,2,FALSE),\"\")","v":""},{"$f":"IFERROR(IF('Calculs Impression'!$F32=\"\",\"\",VLOOKUP('Calculs Impression'!$F32,Matériels!$B$1:$I$1004,4,FALSE)),'Calculs Impression'!$F32)","v":""},{"$f":"IFERROR(IF('Calculs Impression'!$F32=\"\",\"\",IF(VLOOKUP('Calculs Impression'!$F32,Matériels!$B$2:$I$1004,5,FALSE)=0,\"\",VLOOKUP('Calculs Impression'!$F32,Matériels!$B$2:$I$1004,5,FALSE))),\"\")","v":""},{"$f":"IF('Calculs Impression'!G32=\"\",\"\",'Calculs Impression'!G32)","v":""}]
[{"$f":"IFERROR(VLOOKUP(B33&C33,Matériels!$J$1:$M$993,2,FALSE),\"\")","v":"Jumelles de 0,12m"},{"$f":"IFERROR(IF('Calculs Impression'!$B33=\"\",\"\",VLOOKUP('Calculs Impression'!$B33,Matériels!$B$1:$I$1004,4,FALSE)),'Calculs Impression'!$B33)","v":37627},{"$f":"IFERROR(IF('Calculs Impression'!$B33=\"\",\"\",IF(VLOOKUP('Calculs Impression'!$B33,Matériels!$B$2:$I$1004,5,FALSE)=0,\"\",VLOOKUP('Calculs Impression'!$B33,Matériels!$B$2:$I$1004,5,FALSE))),\"\")","v":101},{"$f":"IF('Calculs Impression'!C33=\"\",\"\",'Calculs Impression'!C33)","v":1},null,{"$f":"IFERROR(VLOOKUP(G33&H33,Matériels!$J$1:$M$993,2,FALSE),\"\")","v":""},{"$f":"IFERROR(IF('Calculs Impression'!$F33=\"\",\"\",VLOOKUP('Calculs Impression'!$F33,Matériels!$B$1:$I$1004,4,FALSE)),'Calculs Impression'!$F33)","v":""},{"$f":"IF('Calculs Impression'!$F33=\"\",\"\",IF(VLOOKUP('Calculs Impression'!$F33,Matériels!$B$2:$I$1004,5,FALSE)=0,\"\",VLOOKUP('Calculs Impression'!$F33,Matériels!$B$2:$I$1004,5,FALSE)))","v":""},{"$f":"IF('Calculs Impression'!G33=\"\",\"\",'Calculs Impression'!G33)","v":""}]
[{"$f":"IFERROR(VLOOKUP(B34&C34,Matériels!$J$1:$M$993,2,FALSE),\"\")","v":""},{"$f":"IFERROR(IF('Calculs Impression'!$B34=\"\",\"\",VLOOKUP('Calculs Impression'!$B34,Matériels!$B$1:$I$1004,4,FALSE)),'Calculs Impression'!$B34)","v":""},{"$f":"IFERROR(IF('Calculs Impression'!$B34=\"\",\"\",IF(VLOOKUP('Calculs Impression'!$B34,Matériels!$B$2:$I$1004,5,FALSE)=0,\"\",VLOOKUP('Calculs Impression'!$B34,Matériels!$B$2:$I$1004,5,FALSE))),\"\")","v":""},{"$f":"IF('Calculs Impression'!C34=\"\",\"\",'Calculs Impression'!C34)","v":""},null,{"$f":"IFERROR(VLOOKUP(G34&H34,Matériels!$J$1:$M$993,2,FALSE),\"\")","v":""},{"$f":"IFERROR(IF('Calculs Impression'!$F34=\"\",\"\",VLOOKUP('Calculs Impression'!$F34,Matériels!$B$1:$I$1004,4,FALSE)),'Calculs Impression'!$F34)","v":""},{"$f":"IF('Calculs Impression'!$F34=\"\",\"\",IF(VLOOKUP('Calculs Impression'!$F34,Matériels!$B$2:$I$1004,5,FALSE)=0,\"\",VLOOKUP('Calculs Impression'!$F34,Matériels!$B$2:$I$1004,5,FALSE)))","v":""},{"$f":"IF('Calculs Impression'!G34=\"\",\"\",'Calculs Impression'!G34)","v":""}]
[{"$f":"IFERROR(VLOOKUP(B35&C35,Matériels!$J$1:$M$993,2,FALSE),\"\")","v":""},{"$f":"IFERROR(IF('Calculs Impression'!$B35=\"\",\"\",VLOOKUP('Calculs Impression'!$B35,Matériels!$B$1:$I$1004,4,FALSE)),'Calculs Impression'!$B35)","v":""},{"$f":"IFERROR(IF('Calculs Impression'!$B35=\"\",\"\",IF(VLOOKUP('Calculs Impression'!$B35,Matériels!$B$2:$I$1004,5,FALSE)=0,\"\",VLOOKUP('Calculs Impression'!$B35,Matériels!$B$2:$I$1004,5,FALSE))),\"\")","v":""},{"$f":"IF('Calculs Impression'!C35=\"\",\"\",'Calculs Impression'!C35)","v":""},null,{"$f":"IFERROR(VLOOKUP(G35&H35,Matériels!$J$1:$M$993,2,FALSE),\"\")","v":""},{"$f":"IFERROR(IF('Calculs Impression'!$F35=\"\",\"\",VLOOKUP('Calculs Impression'!$F35,Matériels!$B$1:$I$1004,4,FALSE)),'Calculs Impression'!$F35)","v":""},{"$f":"IF('Calculs Impression'!$F35=\"\",\"\",IF(VLOOKUP('Calculs Impression'!$F35,Matériels!$B$2:$I$1004,5,FALSE)=0,\"\",VLOOKUP('Calculs Impression'!$F35,Matériels!$B$2:$I$1004,5,FALSE)))","v":""},{"$f":"IF('Calculs Impression'!G35=\"\",\"\",'Calculs Impression'!G35)","v":""}]
[{"$f":"IFERROR(VLOOKUP(B36&C36,Matériels!$J$1:$M$993,2,FALSE),\"\")","v":""},"Etriers",null,null,null,null,"Etriers"]
[{"$f":"IFERROR(VLOOKUP(B37&C37,Matériels!$J$1:$M$993,2,FALSE),\"\")","v":"Etrier"},{"$f":"IF('Calculs Impression'!$B37=\"\",\"\",VLOOKUP('Calculs Impression'!$B37,Matériels!$B$1:$I$1004,4,FALSE))","v":39510},{"$f":"IF('Calculs Impression'!$B37=\"\",\"\",IF(VLOOKUP('Calculs Impression'!$B37,Matériels!$B$2:$I$1004,5,FALSE)=0,\"\",VLOOKUP('Calculs Impression'!$B37,Matériels!$B$2:$I$1004,5,FALSE)))","v":39513},{"$f":"IF('Calculs Impression'!C37=\"\",\"\",'Calculs Impression'!C37)","v":2},null,{"$f":"IFERROR(VLOOKUP(G37&H37,Matériels!$J$1:$M$993,2,FALSE),\"\")","v":""},{"$f":"IF('Calculs Impression'!$F37=\"\",\"\",VLOOKUP('Calculs Impression'!$F37,Matériels!$B$1:$I$1004,4,FALSE))","v":""},{"$f":"IF('Calculs Impression'!$F37=\"\",\"\",IF(VLOOKUP('Calculs Impression'!$F37,Matériels!$B$2:$I$1004,5,FALSE)=0,\"\",VLOOKUP('Calculs Impression'!$F37,Matériels!$B$2:$I$1004,5,FALSE)))","v":""},{"$f":"IF('Calculs Impression'!G37=\"\",\"\",'Calculs Impression'!G37)","v":""}]
[{"$f":"IFERROR(VLOOKUP(B38&C38,Matériels!$J$1:$M$993,2,FALSE),\"\")","v":""},"Poutrelle d'Ancrage",null,null,null,{"$f":"IFERROR(VLOOKUP(G38&H38,Matériels!$J$1:$M$993,2,FALSE),\"\")","v":""},"Poutrelle d'Ancrage"]
[{"$f":"IFERROR(VLOOKUP(B39&C39,Matériels!$J$1:$M$993,2,FALSE),\"\")","v":""},{"$f":"IF('Calculs Impression'!$B39=\"\",\"\",VLOOKUP('Calculs Impression'!$B39,Matériels!$B$1:$I$1004,4,FALSE))","v":""},{"$f":"IF('Calculs Impression'!$B39=\"\",\"\",IF(VLOOKUP('Calculs Impression'!$B39,Matériels!$B$2:$I$1004,5,FALSE)=0,\"\",VLOOKUP('Calculs Impression'!$B39,Matériels!$B$2:$I$1004,5,FALSE)))","v":""},{"$f":"IF('Calculs Impression'!C39=\"\",\"\",'Calculs Impression'!C39)","v":""},null,{"$f":"IFERROR(VLOOKUP(G39&H39,Matériels!$J$1:$M$993,2,FALSE),\"\")","v":""},{"$f":"IF('Calculs Impression'!$F39=\"\",\"\",VLOOKUP('Calculs Impression'!$F39,Matériels!$B$1:$I$1004,4,FALSE))","v":""},{"$f":"IF('Calculs Impression'!$F39=\"\",\"\",IF(VLOOKUP('Calculs Impression'!$F39,Matériels!$B$2:$I$1004,5,FALSE)=0,\"\",VLOOKUP('Calculs Impression'!$F39,Matériels!$B$2:$I$1004,5,FALSE)))","v":""},{"$f":"IF('Calculs Impression'!G39=\"\",\"\",'Calculs Impression'!G39)","v":""}]
[null,"Semelle d'Appui",null,null,null,{"$f":"IFERROR(VLOOKUP(G40&H40,Matériels!$J$1:$M$993,2,FALSE),\"\")","v":""},"Semelle d'Appui",null,{"$f":"IF('Calculs Impression'!G40=\"\",\"\",'Calculs Impression'!G40)","v":""}]
[{"$f":"IFERROR(VLOOKUP(B41&C41,Matériels!$J$1:$M$993,2,FALSE),\"\")","v":""},{"$f":"IF('Calculs Impression'!$B41=\"\",\"\",VLOOKUP('Calculs Impression'!$B41,Matériels!$B$1:$I$1004,4,FALSE))","v":""},{"$f":"IF('Calculs Impression'!$B41=\"\",\"\",IF(VLOOKUP('Calculs Impression'!$B41,Matériels!$B$2:$I$1004,5,FALSE)=0,\"\",VLOOKUP('Calculs Impression'!$B41,Matériels!$B$2:$I$1004,5,FALSE)))","v":""},{"$f":"IF('Calculs Impression'!C41=\"\",\"\",'Calculs Impression'!C41)","v":""},null,{"$f":"IFERROR(VLOOKUP(G41&H41,Matériels!$J$1:$M$993,2,FALSE),\"\")","v":""},{"$f":"IF('Calculs Impression'!$F41=\"\",\"\",VLOOKUP('Calculs Impression'!$F41,Matériels!$B$1:$I$1004,4,FALSE))","v":""},{"$f":"IF('Calculs Impression'!$F41=\"\",\"\",IF(VLOOKUP('Calculs Impression'!$F41,Matériels!$B$2:$I$1004,5,FALSE)=0,\"\",VLOOKUP('Calculs Impression'!$F41,Matériels!$B$2:$I$1004,5,FALSE)))","v":""},{"$f":"IF('Calculs Impression'!G41=\"\",\"\",'Calculs Impression'!G41)","v":""}]
[null,"Cuvette",null,null,null,{"$f":"IFERROR(VLOOKUP(G42&H42,Matériels!$J$1:$M$993,2,FALSE),\"\")","v":""},"Cuvette",null,{"$f":"IF('Calculs Impression'!G42=\"\",\"\",'Calculs Impression'!G42)","v":""}]
[{"$f":"IFERROR(VLOOKUP(B43&C43,Matériels!$J$1:$M$993,2,FALSE),\"\")","v":""},{"$f":"IF('Calculs Impression'!$B43=\"\",\"\",VLOOKUP('Calculs Impression'!$B43,Matériels!$B$1:$I$1004,4,FALSE))","v":""},{"$f":"IF('Calculs Impression'!$B43=\"\",\"\",IF(VLOOKUP('Calculs Impression'!$B43,Matériels!$B$2:$I$1004,5,FALSE)=0,\"\",VLOOKUP('Calculs Impression'!$B43,Matériels!$B$2:$I$1004,5,FALSE)))","v":""},{"$f":"IF('Calculs Impression'!C43=\"\",\"\",'Calculs Impression'!C43)","v":""},null,{"$f":"IFERROR(VLOOKUP(G43&H43,Matériels!$J$1:$M$993,2,FALSE),\"\")","v":""},{"$f":"IF('Calculs Impression'!$F43=\"\",\"\",VLOOKUP('Calculs Impression'!$F43,Matériels!$B$1:$I$1004,4,FALSE))","v":""},{"$f":"IF('Calculs Impression'!$F43=\"\",\"\",IF(VLOOKUP('Calculs Impression'!$F43,Matériels!$B$2:$I$1004,5,FALSE)=0,\"\",VLOOKUP('Calculs Impression'!$F43,Matériels!$B$2:$I$1004,5,FALSE)))","v":""},{"$f":"IF('Calculs Impression'!G43=\"\",\"\",'Calculs Impression'!G43)","v":""}]
[{"$f":"IFERROR(VLOOKUP(B44&C44,Matériels!$J$1:$M$993,2,FALSE),\"\")","v":""},"Tiges filetees",null,null,null,null,"Tiges filetees"]
[{"$f":"IFERROR(VLOOKUP(B45&C45,Matériels!$J$1:$M$993,2,FALSE),\"\")","v":""},{"$f":"IF('Calculs Impression'!$B45=\"\",\"\",VLOOKUP('Calculs Impression'!$B45,Matériels!$B$1:$I$1004,4,FALSE))","v":""},{"$f":"IF('Calculs Impression'!$B45=\"\",\"\",IF(VLOOKUP('Calculs Impression'!$B45,Matériels!$B$2:$I$1004,5,FALSE)=0,\"\",VLOOKUP('Calculs Impression'!$B45,Matériels!$B$2:$I$1004,5,FALSE)))","v":""},{"$f":"IF('Calculs Impression'!C45=\"\",\"\",'Calculs Impression'!C45)","v":""},null,{"$f":"IFERROR(VLOOKUP(G45&H45,Matériels!$J$1:$M$993,2,FALSE),\"\")","v":""},{"$f":"IF('Calculs Impression'!$F45=\"\",\"\",VLOOKUP('Calculs Impression'!$F45,Matériels!$B$1:$I$1004,4,FALSE))","v":""},{"$f":"IF('Calculs Impression'!$F45=\"\",\"\",IF(VLOOKUP('Calculs Impression'!$F45,Matériels!$B$2:$I$1004,5,FALSE)=0,\"\",VLOOKUP('Calculs Impression'!$F45,Matériels!$B$2:$I$1004,5,FALSE)))","v":""},{"$f":"IF('Calculs Impression'!G45=\"\",\"\",'Calculs Impression'!G45)","v":""}]
[{"$f":"IFERROR(VLOOKUP(B46&C46,Matériels!$J$1:$M$993,2,FALSE),\"\")","v":"B. H M22-100/50"},{"$f":"IF('Calculs Impression'!$B46=\"\",\"\",VLOOKUP('Calculs Impression'!$B46,Matériels!$B$1:$I$1004,4,FALSE))","v":"01602487"},{"$f":"IF('Calculs Impression'!$B46=\"\",\"\",IF(VLOOKUP('Calculs Impression'!$B46,Matériels!$B$2:$I$1004,5,FALSE)=0,\"\",VLOOKUP('Calculs Impression'!$B46,Matériels!$B$2:$I$1004,5,FALSE)))","v":""},{"$f":"IF('Calculs Impression'!C46=\"\",\"\",'Calculs Impression'!C46)","v":4},null,{"$f":"IFERROR(VLOOKUP(G46&H46,Matériels!$J$1:$M$993,2,FALSE),\"\")","v":""},{"$f":"IF('Calculs Impression'!$F46=\"\",\"\",VLOOKUP('Calculs Impression'!$F46,Matériels!$B$1:$I$1004,4,FALSE))","v":""},{"$f":"IF('Calculs Impression'!$F46=\"\",\"\",IF(VLOOKUP('Calculs Impression'!$F46,Matériels!$B$2:$I$1004,5,FALSE)=0,\"\",VLOOKUP('Calculs Impression'!$F46,Matériels!$B$2:$I$1004,5,FALSE)))","v":""},{"$f":"IF('Calculs Impression'!G46=\"\",\"\",'Calculs Impression'!G46)","v":""}]
[{"$f":"IFERROR(VLOOKUP(B47&C47,Matériels!$J$1:$M$993,2,FALSE),\"\")","v":"B. H M22-100/50"},{"$f":"IF('Calculs Impression'!$B47=\"\",\"\",VLOOKUP('Calculs Impression'!$B47,Matériels!$B$1:$I$1004,4,FALSE))","v":"01602487"},{"$f":"IF('Calculs Impression'!$B47=\"\",\"\",IF(VLOOKUP('Calculs Impression'!$B47,Matériels!$B$2:$I$1004,5,FALSE)=0,\"\",VLOOKUP('Calculs Impression'!$B47,Matériels!$B$2:$I$1004,5,FALSE)))","v":""},{"$f":"IF('Calculs Impression'!C47=\"\",\"\",'Calculs Impression'!C47)","v":4},null,{"$f":"IFERROR(VLOOKUP(G47&H47,Matériels!$J$1:$M$993,2,FALSE),\"\")","v":""},{"$f":"IF('Calculs Impression'!$F47=\"\",\"\",VLOOKUP('Calculs Impression'!$F47,Matériels!$B$1:$I$1004,4,FALSE))","v":""},{"$f":"IF('Calculs Impression'!$F47=\"\",\"\",IF(VLOOKUP('Calculs Impression'!$F47,Matériels!$B$2:$I$1004,5,FALSE)=0,\"\",VLOOKUP('Calculs Impression'!$F47,Matériels!$B$2:$I$1004,5,FALSE)))","v":""},{"$f":"IF('Calculs Impression'!G47=\"\",\"\",'Calculs Impression'!G47)","v":""}]
[{"$f":"IFERROR(VLOOKUP(B48&C48,Matériels!$J$1:$M$993,2,FALSE),\"\")","v":""},{"$f":"IF('Calculs Impression'!$B48=\"\",\"\",VLOOKUP('Calculs Impression'!$B48,Matériels!$B$1:$I$1004,4,FALSE))","v":""},{"$f":"IF('Calculs Impression'!$B48=\"\",\"\",IF(VLOOKUP('Calculs Impression'!$B48,Matériels!$B$2:$I$1004,5,FALSE)=0,\"\",VLOOKUP('Calculs Impression'!$B48,Matériels!$B$2:$I$1004,5,FALSE)))","v":""},{"$f":"IF('Calculs Impression'!C48=\"\",\"\",'Calculs Impression'!C48)","v":""},null,{"$f":"IFERROR(VLOOKUP(G48&H48,Matériels!$J$1:$M$993,2,FALSE),\"\")","v":""},{"$f":"IF('Calculs Impression'!$F48=\"\",\"\",VLOOKUP('Calculs Impression'!$F48,Matériels!$B$1:$I$1004,4,FALSE))","v":""},{"$f":"IF('Calculs Impression'!$F48=\"\",\"\",IF(VLOOKUP('Calculs Impression'!$F48,Matériels!$B$2:$I$1004,5,FALSE)=0,\"\",VLOOKUP('Calculs Impression'!$F48,Matériels!$B$2:$I$1004,5,FALSE)))","v":""},{"$f":"IF('Calculs Impression'!G48=\"\",\"\",'Calculs Impression'!G48)","v":""}]
[{"$f":"IFERROR(VLOOKUP(B49&C49,Matériels!$J$1:$M$993,2,FALSE),\"\")","v":""},{"$f":"IF('Calculs Impression'!$B49=\"\",\"\",VLOOKUP('Calculs Impression'!$B49,Matériels!$B$1:$I$1004,4,FALSE))","v":""},{"$f":"IF('Calculs Impression'!$B49=\"\",\"\",IF(VLOOKUP('Calculs Impression'!$B49,Matériels!$B$2:$I$1004,5,FALSE)=0,\"\",VLOOKUP('Calculs Impression'!$B49,Matériels!$B$2:$I$1004,5,FALSE)))","v":""},{"$f":"IF('Calculs Impression'!C49=\"\",\"\",'Calculs Impression'!C49)","v":""},null,{"$f":"IFERROR(VLOOKUP(G49&H49,Matériels!$J$1:$M$993,2,FALSE),\"\")","v":""},{"$f":"IF('Calculs Impression'!$F49=\"\",\"\",VLOOKUP('Calculs Impression'!$F49,Matériels!$B$1:$I$1004,4,FALSE))","v":""},{"$f":"IF('Calculs Impression'!$F49=\"\",\"\",IF(VLOOKUP('Calculs Impression'!$F49,Matériels!$B$2:$I$1004,5,FALSE)=0,\"\",VLOOKUP('Calculs Impression'!$F49,Matériels!$B$2:$I$1004,5,FALSE)))","v":""},{"$f":"IF('Calculs Impression'!G49=\"\",\"\",'Calculs Impression'!G49)","v":""}]
[{"$f":"IFERROR(VLOOKUP(B50&C50,Matériels!$J$1:$M$993,2,FALSE),\"\")","v":""},{"$f":"IF('Calculs Impression'!$B50=\"\",\"\",VLOOKUP('Calculs Impression'!$B50,Matériels!$B$1:$I$1004,4,FALSE))","v":""},{"$f":"IF('Calculs Impression'!$B50=\"\",\"\",IF(VLOOKUP('Calculs Impression'!$B50,Matériels!$B$2:$I$1004,5,FALSE)=0,\"\",VLOOKUP('Calculs Impression'!$B50,Matériels!$B$2:$I$1004,5,FALSE)))","v":""},{"$f":"IF('Calculs Impression'!C50=\"\",\"\",'Calculs Impression'!C50)","v":""},null,{"$f":"IFERROR(VLOOKUP(G50&H50,Matériels!$J$1:$M$993,2,FALSE),\"\")","v":""},{"$f":"IF('Calculs Impression'!$F50=\"\",\"\",VLOOKUP('Calculs Impression'!$F50,Matériels!$B$1:$I$1004,4,FALSE))","v":""},{"$f":"IF('Calculs Impression'!$F50=\"\",\"\",IF(VLOOKUP('Calculs Impression'!$F50,Matériels!$B$2:$I$1004,5,FALSE)=0,\"\",VLOOKUP('Calculs Impression'!$F50,Matériels!$B$2:$I$1004,5,FALSE)))","v":""},{"$f":"IF('Calculs Impression'!G50=\"\",\"\",'Calculs Impression'!G50)","v":""}]
[{"$f":"IFERROR(VLOOKUP(B51&C51,Matériels!$J$1:$M$993,2,FALSE),\"\")","v":""},{"$f":"IF('Calculs Impression'!$B51=\"\",\"\",VLOOKUP('Calculs Impression'!$B51,Matériels!$B$1:$I$1004,4,FALSE))","v":""},{"$f":"IF('Calculs Impression'!$B51=\"\",\"\",IF(VLOOKUP('Calculs Impression'!$B51,Matériels!$B$2:$I$1004,5,FALSE)=0,\"\",VLOOKUP('Calculs Impression'!$B51,Matériels!$B$2:$I$1004,5,FALSE)))","v":""},{"$f":"IF('Calculs Impression'!C51=\"\",\"\",'Calculs Impression'!C51)","v":""},null,{"$f":"IFERROR(VLOOKUP(G51&H51,Matériels!$J$1:$M$993,2,FALSE),\"\")","v":""},{"$f":"IF('Calculs Impression'!$F51=\"\",\"\",VLOOKUP('Calculs Impression'!$F51,Matériels!$B$1:$I$1004,4,FALSE))","v":""},{"$f":"IF('Calculs Impression'!$F51=\"\",\"\",IF(VLOOKUP('Calculs Impression'!$F51,Matériels!$B$2:$I$1004,5,FALSE)=0,\"\",VLOOKUP('Calculs Impression'!$F51,Matériels!$B$2:$I$1004,5,FALSE)))","v":""},{"$f":"IF('Calculs Impression'!G51=\"\",\"\",'Calculs Impression'!G51)","v":""}]
[{"$f":"IFERROR(VLOOKUP(B52&C52,Matériels!$J$1:$M$993,2,FALSE),\"\")","v":""},{"$f":"IF('Calculs Impression'!$B52=\"\",\"\",VLOOKUP('Calculs Impression'!$B52,Matériels!$B$1:$I$1004,4,FALSE))","v":""},{"$f":"IF('Calculs Impression'!$B52=\"\",\"\",IF(VLOOKUP('Calculs Impression'!$B52,Matériels!$B$2:$I$1004,5,FALSE)=0,\"\",VLOOKUP('Calculs Impression'!$B52,Matériels!$B$2:$I$1004,5,FALSE)))","v":""},{"$f":"IF('Calculs Impression'!C52=\"\",\"\",'Calculs Impression'!C52)","v":""},null,{"$f":"IFERROR(VLOOKUP(G52&H52,Matériels!$J$1:$M$993,2,FALSE),\"\")","v":""},{"$f":"IF('Calculs Impression'!$F52=\"\",\"\",VLOOKUP('Calculs Impression'!$F52,Matériels!$B$1:$I$1004,4,FALSE))","v":""},{"$f":"IF('Calculs Impression'!$F52=\"\",\"\",IF(VLOOKUP('Calculs Impression'!$F52,Matériels!$B$2:$I$1004,5,FALSE)=0,\"\",VLOOKUP('Calculs Impression'!$F52,Matériels!$B$2:$I$1004,5,FALSE)))","v":""},{"$f":"IF('Calculs Impression'!G52=\"\",\"\",'Calculs Impression'!G52)","v":""}]
[null,"Rondelles",null,null,null,null,"Rondelles"]
[null,{"$f":"IF('Calculs Impression'!$B54=\"\",\"\",VLOOKUP('Calculs Impression'!$B54,Matériels!$B$1:$I$1004,4,FALSE))","v":""},{"$f":"IF('Calculs Impression'!$B54=\"\",\"\",IF(VLOOKUP('Calculs Impression'!$B54,Matériels!$B$2:$I$1004,5,FALSE)=0,\"\",VLOOKUP('Calculs Impression'!$B54,Matériels!$B$2:$I$1004,5,FALSE)))","v":""},{"$f":"IF('Calculs Impression'!C54=\"\",\"\",'Calculs Impression'!C54)","v":""},null,null,{"$f":"IF('Calculs Impression'!$F54=\"\",\"\",VLOOKUP('Calculs Impression'!$F54,Matériels!$B$1:$I$1004,4,FALSE))","v":""},{"$f":"IF('Calculs Impression'!$F54=\"\",\"\",IF(VLOOKUP('Calculs Impression'!$F54,Matériels!$B$2:$I$1004,5,FALSE)=0,\"\",VLOOKUP('Calculs Impression'!$F54,Matériels!$B$2:$I$1004,5,FALSE)))","v":""},{"$f":"IF('Calculs Impression'!G54=\"\",\"\",'Calculs Impression'!G54)","v":""}]
[{"$f":"IFERROR(VLOOKUP(B55&C55,Matériels!$J$1:$M$993,2,FALSE),\"\")","v":""},"Appareil Tendeur",null,null,null,null,"Appareil Tendeur"]
[{"$f":"IFERROR(VLOOKUP(B56&C56,Matériels!$J$1:$M$993,2,FALSE),\"\")","v":"Ens. Montage Appareil Tendeur"},{"$f":"IF('Calculs Impression'!$B56=\"\",\"\",VLOOKUP('Calculs Impression'!$B56,Matériels!$B$1:$I$1004,4,FALSE))","v":222940},{"$f":"IF('Calculs Impression'!$B56=\"\",\"\",IF(VLOOKUP('Calculs Impression'!$B56,Matériels!$B$2:$I$1004,5,FALSE)=0,\"\",VLOOKUP('Calculs Impression'!$B56,Matériels!$B$2:$I$1004,5,FALSE)))","v":222942},{"$f":"IF('Calculs Impression'!C56=\"\",\"\",'Calculs Impression'!C56)","v":1},null,{"$f":"IFERROR(VLOOKUP(G56&H56,Matériels!$J$1:$M$993,2,FALSE),\"\")","v":""},{"$f":"IF('Calculs Impression'!$F56=\"\",\"\",VLOOKUP('Calculs Impression'!$F56,Matériels!$B$1:$I$1004,4,FALSE))","v":""},{"$f":"IF('Calculs Impression'!$F56=\"\",\"\",IF(VLOOKUP('Calculs Impression'!$F56,Matériels!$B$2:$I$1004,5,FALSE)=0,\"\",VLOOKUP('Calculs Impression'!$F56,Matériels!$B$2:$I$1004,5,FALSE)))","v":""},{"$f":"IF('Calculs Impression'!G56=\"\",\"\",'Calculs Impression'!G56)","v":""}]
[{"$f":"IFERROR(VLOOKUP(B57&C57,Matériels!$J$1:$M$993,2,FALSE),\"\")","v":""},{"$f":"IF('Calculs Impression'!$B57=\"\",\"\",VLOOKUP('Calculs Impression'!$B57,Matériels!$B$1:$I$1004,4,FALSE))","v":""},{"$f":"IF('Calculs Impression'!$B57=\"\",\"\",IF(VLOOKUP('Calculs Impression'!$B57,Matériels!$B$2:$I$1004,5,FALSE)=0,\"\",VLOOKUP('Calculs Impression'!$B57,Matériels!$B$2:$I$1004,5,FALSE)))","v":""},{"$f":"IF('Calculs Impression'!C57=\"\",\"\",'Calculs Impression'!C57)","v":""},null,{"$f":"IFERROR(VLOOKUP(G57&H57,Matériels!$J$1:$M$993,2,FALSE),\"\")","v":""},{"$f":"IF('Calculs Impression'!$F57=\"\",\"\",VLOOKUP('Calculs Impression'!$F57,Matériels!$B$1:$I$1004,4,FALSE))","v":""},{"$f":"IF('Calculs Impression'!$F57=\"\",\"\",IF(VLOOKUP('Calculs Impression'!$F57,Matériels!$B$2:$I$1004,5,FALSE)=0,\"\",VLOOKUP('Calculs Impression'!$F57,Matériels!$B$2:$I$1004,5,FALSE)))","v":""},{"$f":"IF('Calculs Impression'!G57=\"\",\"\",'Calculs Impression'!G57)","v":""}]
[{"$f":"IFERROR(VLOOKUP(B58&C58,Matériels!$J$1:$M$993,2,FALSE),\"\")","v":""},"Ancrage Conducteurs",null,null,null,null,"Ancrage Conducteurs"]
[{"$f":"IFERROR(VLOOKUP(B59&C59,Matériels!$J$1:$M$993,2,FALSE),\"\")","v":"Ancrage de 2 Porteurs CR"},{"$f":"IF('Calculs Impression'!$B59=\"\",\"\",VLOOKUP('Calculs Impression'!$B59,Matériels!$B$1:$I$1004,4,FALSE))","v":10985},{"$f":"IF('Calculs Impression'!$B59=\"\",\"\",IF(VLOOKUP('Calculs Impression'!$B59,Matériels!$B$2:$I$1004,5,FALSE)=0,\"\",VLOOKUP('Calculs Impression'!$B59,Matériels!$B$2:$I$1004,5,FALSE)))","v":352},{"$f":"IF('Calculs Impression'!C59=\"\",\"\",'Calculs Impression'!C59)","v":1},null,{"$f":"IFERROR(VLOOKUP(G59&H59,Matériels!$J$1:$M$993,2,FALSE),\"\")","v":""},{"$f":"IF('Calculs Impression'!$F59=\"\",\"\",VLOOKUP('Calculs Impression'!$F59,Matériels!$B$1:$I$1004,4,FALSE))","v":""},{"$f":"IF('Calculs Impression'!$F59=\"\",\"\",IF(VLOOKUP('Calculs Impression'!$F59,Matériels!$B$2:$I$1004,5,FALSE)=0,\"\",VLOOKUP('Calculs Impression'!$F59,Matériels!$B$2:$I$1004,5,FALSE)))","v":""},{"$f":"IF('Calculs Impression'!G59=\"\",\"\",'Calculs Impression'!G59)","v":""}]
[{"$f":"IFERROR(VLOOKUP(B60&C60,Matériels!$J$1:$M$993,2,FALSE),\"\")","v":"Ancrage de 2 Porteurs CR"},{"$f":"IF('Calculs Impression'!$B60=\"\",\"\",VLOOKUP('Calculs Impression'!$B60,Matériels!$B$1:$I$1004,4,FALSE))","v":10985},{"$f":"IF('Calculs Impression'!$B60=\"\",\"\",IF(VLOOKUP('Calculs Impression'!$B60,Matériels!$B$2:$I$1004,5,FALSE)=0,\"\",VLOOKUP('Calculs Impression'!$B60,Matériels!$B$2:$I$1004,5,FALSE)))","v":352},{"$f":"IF('Calculs Impression'!C60=\"\",\"\",'Calculs Impression'!C60)","v":1},null,{"$f":"IFERROR(VLOOKUP(G60&H60,Matériels!$J$1:$M$993,2,FALSE),\"\")","v":""},{"$f":"IF('Calculs Impression'!$F60=\"\",\"\",VLOOKUP('Calculs Impression'!$F60,Matériels!$B$1:$I$1004,4,FALSE))","v":""},{"$f":"IF('Calculs Impression'!$F60=\"\",\"\",IF(VLOOKUP('Calculs Impression'!$F60,Matériels!$B$2:$I$1004,5,FALSE)=0,\"\",VLOOKUP('Calculs Impression'!$F60,Matériels!$B$2:$I$1004,5,FALSE)))","v":""},{"$f":"IF('Calculs Impression'!G60=\"\",\"\",'Calculs Impression'!G60)","v":""}]
[{"$f":"IFERROR(VLOOKUP(B61&C61,Matériels!$J$1:$M$993,2,FALSE),\"\")","v":""},{"$f":"IF('Calculs Impression'!$B61=\"\",\"\",VLOOKUP('Calculs Impression'!$B61,Matériels!$B$1:$I$1004,4,FALSE))","v":""},{"$f":"IF('Calculs Impression'!$B61=\"\",\"\",IF(VLOOKUP('Calculs Impression'!$B61,Matériels!$B$2:$I$1004,5,FALSE)=0,\"\",VLOOKUP('Calculs Impression'!$B61,Matériels!$B$2:$I$1004,5,FALSE)))","v":""},{"$f":"IF('Calculs Impression'!C61=\"\",\"\",'Calculs Impression'!C61)","v":""},null,{"$f":"IFERROR(VLOOKUP(G61&H61,Matériels!$J$1:$M$993,2,FALSE),\"\")","v":""},{"$f":"IF('Calculs Impression'!$F61=\"\",\"\",VLOOKUP('Calculs Impression'!$F61,Matériels!$B$1:$I$1004,4,FALSE))","v":""},{"$f":"IF('Calculs Impression'!$F61=\"\",\"\",IF(VLOOKUP('Calculs Impression'!$F61,Matériels!$B$2:$I$1004,5,FALSE)=0,\"\",VLOOKUP('Calculs Impression'!$F61,Matériels!$B$2:$I$1004,5,FALSE)))","v":""},{"$f":"IF('Calculs Impression'!G61=\"\",\"\",'Calculs Impression'!G61)","v":""}]
[{"$f":"IFERROR(VLOOKUP(B62&C62,Matériels!$J$1:$M$993,2,FALSE),\"\")","v":""},{"$f":"IF('Calculs Impression'!$B62=\"\",\"\",VLOOKUP('Calculs Impression'!$B62,Matériels!$B$1:$I$1004,4,FALSE))","v":""},{"$f":"IF('Calculs Impression'!$B62=\"\",\"\",IF(VLOOKUP('Calculs Impression'!$B62,Matériels!$B$2:$I$1004,5,FALSE)=0,\"\",VLOOKUP('Calculs Impression'!$B62,Matériels!$B$2:$I$1004,5,FALSE)))","v":""},{"$f":"IF('Calculs Impression'!C62=\"\",\"\",'Calculs Impression'!C62)","v":""},null,{"$f":"IFERROR(VLOOKUP(G62&H62,Matériels!$J$1:$M$993,2,FALSE),\"\")","v":""},{"$f":"IF('Calculs Impression'!$F62=\"\",\"\",VLOOKUP('Calculs Impression'!$F62,Matériels!$B$1:$I$1004,4,FALSE))","v":""},{"$f":"IF('Calculs Impression'!$F62=\"\",\"\",IF(VLOOKUP('Calculs Impression'!$F62,Matériels!$B$2:$I$1004,5,FALSE)=0,\"\",VLOOKUP('Calculs Impression'!$F62,Matériels!$B$2:$I$1004,5,FALSE)))","v":""},{"$f":"IF('Calculs Impression'!G62=\"\",\"\",'Calculs Impression'!G62)","v":""}]
[{"$f":"IFERROR(VLOOKUP(B63&C63,Matériels!$J$1:$M$993,2,FALSE),\"\")","v":""},"Isolement Supplémentaire",null,null,null,null,"Isolement Supplémentaire"]
[{"$f":"IFERROR(VLOOKUP(B64&C64,Matériels!$J$1:$M$993,2,FALSE),\"\")","v":""},{"$f":"IF('Calculs Impression'!$B64=\"\",\"\",VLOOKUP('Calculs Impression'!$B64,Matériels!$B$1:$I$1004,4,FALSE))","v":""},{"$f":"IF('Calculs Impression'!$B64=\"\",\"\",IF(VLOOKUP('Calculs Impression'!$B64,Matériels!$B$2:$I$1004,5,FALSE)=0,\"\",VLOOKUP('Calculs Impression'!$B64,Matériels!$B$2:$I$1004,5,FALSE)))","v":""},{"$f":"IF('Calculs Impression'!C64=\"\",\"\",'Calculs Impression'!C64)","v":""},null,{"$f":"IFERROR(VLOOKUP(G64&H64,Matériels!$J$1:$M$993,2,FALSE),\"\")","v":""},{"$f":"IF('Calculs Impression'!$F64=\"\",\"\",VLOOKUP('Calculs Impression'!$F64,Matériels!$B$1:$I$1004,4,FALSE))","v":""},{"$f":"IF('Calculs Impression'!$F64=\"\",\"\",IF(VLOOKUP('Calculs Impression'!$F64,Matériels!$B$2:$I$1004,5,FALSE)=0,\"\",VLOOKUP('Calculs Impression'!$F64,Matériels!$B$2:$I$1004,5,FALSE)))","v":""},{"$f":"IF('Calculs Impression'!G64=\"\",\"\",'Calculs Impression'!G64)","v":""}]
[{"$f":"IFERROR(VLOOKUP(B65&C65,Matériels!$J$1:$M$993,2,FALSE),\"\")","v":""},{"$f":"IF('Calculs Impression'!$B65=\"\",\"\",VLOOKUP('Calculs Impression'!$B65,Matériels!$B$1:$I$1004,4,FALSE))","v":""},{"$f":"IF('Calculs Impression'!$B65=\"\",\"\",IF(VLOOKUP('Calculs Impression'!$B65,Matériels!$B$2:$I$1004,5,FALSE)=0,\"\",VLOOKUP('Calculs Impression'!$B65,Matériels!$B$2:$I$1004,5,FALSE)))","v":""},{"$f":"IF('Calculs Impression'!C65=\"\",\"\",'Calculs Impression'!C65)","v":""},null,{"$f":"IFERROR(VLOOKUP(G65&H65,Matériels!$J$1:$M$993,2,FALSE),\"\")","v":""},{"$f":"IF('Calculs Impression'!$F65=\"\",\"\",VLOOKUP('Calculs Impression'!$F65,Matériels!$B$1:$I$1004,4,FALSE))","v":""},{"$f":"IF('Calculs Impression'!$F65=\"\",\"\",IF(VLOOKUP('Calculs Impression'!$F65,Matériels!$B$2:$I$1004,5,FALSE)=0,\"\",VLOOKUP('Calculs Impression'!$F65,Matériels!$B$2:$I$1004,5,FALSE)))","v":""},{"$f":"IF('Calculs Impression'!G65=\"\",\"\",'Calculs Impression'!G65)","v":""}]
[{"$f":"IFERROR(VLOOKUP(B66&C66,Matériels!$J$1:$M$993,2,FALSE),\"\")","v":""},{"$f":"IF('Calculs Impression'!$B66=\"\",\"\",VLOOKUP('Calculs Impression'!$B66,Matériels!$B$1:$I$1004,4,FALSE))","v":""},{"$f":"IF('Calculs Impression'!$B66=\"\",\"\",IF(VLOOKUP('Calculs Impression'!$B66,Matériels!$B$2:$I$1004,5,FALSE)=0,\"\",VLOOKUP('Calculs Impression'!$B66,Matériels!$B$2:$I$1004,5,FALSE)))","v":""},{"$f":"IF('Calculs Impression'!C66=\"\",\"\",'Calculs Impression'!C66)","v":""},null,{"$f":"IFERROR(VLOOKUP(G66&H66,Matériels!$J$1:$M$993,2,FALSE),\"\")","v":""},{"$f":"IF('Calculs Impression'!$F66=\"\",\"\",VLOOKUP('Calculs Impression'!$F66,Matériels!$B$1:$I$1004,4,FALSE))","v":""},{"$f":"IF('Calculs Impression'!$F66=\"\",\"\",IF(VLOOKUP('Calculs Impression'!$F66,Matériels!$B$2:$I$1004,5,FALSE)=0,\"\",VLOOKUP('Calculs Impression'!$F66,Matériels!$B$2:$I$1004,5,FALSE)))","v":""},{"$f":"IF('Calculs Impression'!G66=\"\",\"\",'Calculs Impression'!G66)","v":""}]
[{"$f":"IFERROR(VLOOKUP(B67&C67,Matériels!$J$1:$M$993,2,FALSE),\"\")","v":""},{"$f":"IF('Calculs Impression'!$B67=\"\",\"\",VLOOKUP('Calculs Impression'!$B67,Matériels!$B$1:$I$1004,4,FALSE))","v":""},{"$f":"IF('Calculs Impression'!$B67=\"\",\"\",IF(VLOOKUP('Calculs Impression'!$B67,Matériels!$B$2:$I$1004,5,FALSE)=0,\"\",VLOOKUP('Calculs Impression'!$B67,Matériels!$B$2:$I$1004,5,FALSE)))","v":""},{"$f":"IF('Calculs Impression'!C67=\"\",\"\",'Calculs Impression'!C67)","v":""},null,{"$f":"IFERROR(VLOOKUP(G67&H67,Matériels!$J$1:$M$993,2,FALSE),\"\")","v":""},{"$f":"IF('Calculs Impression'!$F67=\"\",\"\",VLOOKUP('Calculs Impression'!$F67,Matériels!$B$1:$I$1004,4,FALSE))","v":""},{"$f":"IF('Calculs Impression'!$F67=\"\",\"\",IF(VLOOKUP('Calculs Impression'!$F67,Matériels!$B$2:$I$1004,5,FALSE)=0,\"\",VLOOKUP('Calculs Impression'!$F67,Matériels!$B$2:$I$1004,5,FALSE)))","v":""},{"$f":"IF('Calculs Impression'!G67=\"\",\"\",'Calculs Impression'!G67)","v":""}]
[{"$f":"IFERROR(VLOOKUP(B68&C68,Matériels!$J$1:$M$993,2,FALSE),\"\")","v":""},{"$f":"IF('Calculs Impression'!$B68=\"\",\"\",VLOOKUP('Calculs Impression'!$B68,Matériels!$B$1:$I$1004,4,FALSE))","v":""},{"$f":"IF('Calculs Impression'!$B68=\"\",\"\",IF(VLOOKUP('Calculs Impression'!$B68,Matériels!$B$2:$I$1004,5,FALSE)=0,\"\",VLOOKUP('Calculs Impression'!$B68,Matériels!$B$2:$I$1004,5,FALSE)))","v":""},{"$f":"IF('Calculs Impression'!C68=\"\",\"\",'Calculs Impression'!C68)","v":""},null,{"$f":"IFERROR(VLOOKUP(G68&H68,Matériels!$J$1:$M$993,2,FALSE),\"\")","v":""},{"$f":"IF('Calculs Impression'!$F68=\"\",\"\",VLOOKUP('Calculs Impression'!$F68,Matériels!$B$1:$I$1004,4,FALSE))","v":""},{"$f":"IF('Calculs Impression'!$F68=\"\",\"\",IF(VLOOKUP('Calculs Impression'!$F68,Matériels!$B$2:$I$1004,5,FALSE)=0,\"\",VLOOKUP('Calculs Impression'!$F68,Matériels!$B$2:$I$1004,5,FALSE)))","v":""},{"$f":"IF('Calculs Impression'!G68=\"\",\"\",'Calculs Impression'!G68)","v":""}]
[{"$f":"IFERROR(VLOOKUP(B69&C69,Matériels!$J$1:$M$993,2,FALSE),\"\")","v":""},{"$f":"IF('Calculs Impression'!$B69=\"\",\"\",VLOOKUP('Calculs Impression'!$B69,Matériels!$B$1:$I$1004,4,FALSE))","v":""},{"$f":"IF('Calculs Impression'!$B69=\"\",\"\",IF(VLOOKUP('Calculs Impression'!$B69,Matériels!$B$2:$I$1004,5,FALSE)=0,\"\",VLOOKUP('Calculs Impression'!$B69,Matériels!$B$2:$I$1004,5,FALSE)))","v":""},{"$f":"IF('Calculs Impression'!C69=\"\",\"\",'Calculs Impression'!C69)","v":""},null,{"$f":"IFERROR(VLOOKUP(G69&H69,Matériels!$J$1:$M$993,2,FALSE),\"\")","v":""},{"$f":"IF('Calculs Impression'!$F69=\"\",\"\",VLOOKUP('Calculs Impression'!$F69,Matériels!$B$1:$I$1004,4,FALSE))","v":""},{"$f":"IF('Calculs Impression'!$F69=\"\",\"\",IF(VLOOKUP('Calculs Impression'!$F69,Matériels!$B$2:$I$1004,5,FALSE)=0,\"\",VLOOKUP('Calculs Impression'!$F69,Matériels!$B$2:$I$1004,5,FALSE)))","v":""},{"$f":"IF('Calculs Impression'!G69=\"\",\"\",'Calculs Impression'!G69)","v":""}]
[{"$f":"IFERROR(VLOOKUP(B70&C70,Matériels!$J$1:$M$993,2,FALSE),\"\")","v":""},{"$f":"IF('Calculs Impression'!$B70=\"\",\"\",VLOOKUP('Calculs Impression'!$B70,Matériels!$B$1:$I$1004,4,FALSE))","v":""},{"$f":"IF('Calculs Impression'!$B70=\"\",\"\",IF(VLOOKUP('Calculs Impression'!$B70,Matériels!$B$2:$I$1004,5,FALSE)=0,\"\",VLOOKUP('Calculs Impression'!$B70,Matériels!$B$2:$I$1004,5,FALSE)))","v":""},{"$f":"IF('Calculs Impression'!C70=\"\",\"\",'Calculs Impression'!C70)","v":""},null,{"$f":"IFERROR(VLOOKUP(G70&H70,Matériels!$J$1:$M$993,2,FALSE),\"\")","v":""},{"$f":"IF('Calculs Impression'!$F70=\"\",\"\",VLOOKUP('Calculs Impression'!$F70,Matériels!$B$1:$I$1004,4,FALSE))","v":""},{"$f":"IF('Calculs Impression'!$F70=\"\",\"\",IF(VLOOKUP('Calculs Impression'!$F70,Matériels!$B$2:$I$1004,5,FALSE)=0,\"\",VLOOKUP('Calculs Impression'!$F70,Matériels!$B$2:$I$1004,5,FALSE)))","v":""},{"$f":"IF('Calculs Impression'!G70=\"\",\"\",'Calculs Impression'!G70)","v":""}]
[{"$f":"IFERROR(VLOOKUP(B71&C71,Matériels!$J$1:$M$993,2,FALSE),\"\")","v":""},{"$f":"IF('Calculs Impression'!$B71=\"\",\"\",VLOOKUP('Calculs Impression'!$B71,Matériels!$B$1:$I$1004,4,FALSE))","v":""},{"$f":"IF('Calculs Impression'!$B71=\"\",\"\",IF(VLOOKUP('Calculs Impression'!$B71,Matériels!$B$2:$I$1004,5,FALSE)=0,\"\",VLOOKUP('Calculs Impression'!$B71,Matériels!$B$2:$I$1004,5,FALSE)))","v":""},{"$f":"IF('Calculs Impression'!C71=\"\",\"\",'Calculs Impression'!C71)","v":""},null,{"$f":"IFERROR(VLOOKUP(G71&H71,Matériels!$J$1:$M$993,2,FALSE),\"\")","v":""},{"$f":"IF('Calculs Impression'!$F71=\"\",\"\",VLOOKUP('Calculs Impression'!$F71,Matériels!$B$1:$I$1004,4,FALSE))","v":""},{"$f":"IF('Calculs Impression'!$F71=\"\",\"\",IF(VLOOKUP('Calculs Impression'!$F71,Matériels!$B$2:$I$1004,5,FALSE)=0,\"\",VLOOKUP('Calculs Impression'!$F71,Matériels!$B$2:$I$1004,5,FALSE)))","v":""},{"$f":"IF('Calculs Impression'!G71=\"\",\"\",'Calculs Impression'!G71)","v":""}]
[{"$f":"IFERROR(VLOOKUP(B72&C72,Matériels!$J$1:$M$993,2,FALSE),\"\")","v":""},{"$f":"IF('Calculs Impression'!$B72=\"\",\"\",VLOOKUP('Calculs Impression'!$B72,Matériels!$B$1:$I$1004,4,FALSE))","v":""},{"$f":"IF('Calculs Impression'!$B72=\"\",\"\",IF(VLOOKUP('Calculs Impression'!$B72,Matériels!$B$2:$I$1004,5,FALSE)=0,\"\",VLOOKUP('Calculs Impression'!$B72,Matériels!$B$2:$I$1004,5,FALSE)))","v":""},{"$f":"IF('Calculs Impression'!C72=\"\",\"\",'Calculs Impression'!C72)","v":""},null,{"$f":"IFERROR(VLOOKUP(G72&H72,Matériels!$J$1:$M$993,2,FALSE),\"\")","v":""},{"$f":"IF('Calculs Impression'!$F72=\"\",\"\",VLOOKUP('Calculs Impression'!$F72,Matériels!$B$1:$I$1004,4,FALSE))","v":""},{"$f":"IF('Calculs Impression'!$F72=\"\",\"\",IF(VLOOKUP('Calculs Impression'!$F72,Matériels!$B$2:$I$1004,5,FALSE)=0,\"\",VLOOKUP('Calculs Impression'!$F72,Matériels!$B$2:$I$1004,5,FALSE)))","v":""},{"$f":"IF('Calculs Impression'!G72=\"\",\"\",'Calculs Impression'!G72)","v":""}]

{"sheet":"Resultats","index":6,"n_rows":72,"n_cols":11,"rows_kept":72,"cut":false,"hidden":false,"merged":[[0,0,1,8],[2,3,2,5]]}
["DETERMINATION D'ANCRAGES"]
[]
[null,null,null,{"$f":"\"Support \"&Numero","v":"Support 265-4"}]
[null,null,null,"Echantillon :",null,"HEA300J"]
[null,null,null,"Massif :",null,"4Pn"]
[null,null,null,"Arrasement :",null,0.08]
[]
[null,"Ancrage N°1",{"$f":"\"(\"&Carac1&\")\"","v":"(Droit)"},null,null,null,"Ancrage N°2",{"$f":"\"(\"&Carac2&\")\"","v":"(Gauche)"},null,null,{"$f":"IF(K9=\"\",\"\",\"Percages :\")","v":"Percages :"}]
["Tension Mécanique :",null,90.8,null,null,"Tension Mécanique :",null,0,null,null,{"$f":"IF(Résultats!N92<>\"\",Résultats!N92,\"\")","v":"E1: L=8.9 m"}]
["Massif :",9,"Api",null,null,"Massif :",null,null,"",null,{"$f":"IF(Résultats!N93<>\"\",Résultats!N93,\"\")","v":"E2: L=7.9 m"}]
[null,null,null,null,null,null,null,null,null,null,{"$f":"IF(Résultats!N94<>\"\",Résultats!N94,\"\")","v":""}]
["Designations","Plan","Repere","Quantités",null,"Designations","Plan","Repere","Quantités",null,{"$f":"IF(Résultats!N95<>\"\",Résultats!N95,\"\")","v":""}]
[{"$f":"IFERROR(VLOOKUP(B13&C13,Matériels!$J$1:$M$1004,2,FALSE),\"\")","v":"Piece d'ancrage Hauban"},22155,null,1,null,{"$f":"IFERROR(VLOOKUP(G13&H13,Matériels!$J$1:$M$1004,2,FALSE),\"\")","v":""},"",null,null,null,{"$f":"IF(Résultats!N96<>\"\",Résultats!N96,\"\")","v":""}]
[{"$f":"IFERROR(VLOOKUP(B14&C14,Matériels!$J$1:$M$1004,2,FALSE),\"\")","v":"Piece d'ancrage Hauban"},22155,null,1,null,{"$f":"IFERROR(VLOOKUP(G14&H14,Matériels!$J$1:$M$1004,2,FALSE),\"\")","v":""},"",null,null,null,{"$f":"IF(Résultats!N97<>\"\",Résultats!N97,\"\")","v":""}]
[{"$f":"IFERROR(VLOOKUP(B15&C15,Matériels!$J$1:$M$1004,2,FALSE),\"\")","v":""},"",null,null,null,{"$f":"IFERROR(VLOOKUP(G15&H15,Matériels!$J$1:$M$1004,2,FALSE),\"\")","v":""},"",null,null,null,{"$f":"IF(Résultats!N98<>\"\",Résultats!N98,\"\")","v":""}]
[{"$f":"IFERROR(VLOOKUP(B16&C16,Matériels!$J$1:$M$1004,2,FALSE),\"\")","v":""},"",null,null,null,{"$f":"IFERROR(VLOOKUP(G16&H16,Matériels!$J$1:$M$1004,2,FALSE),\"\")","v":""},"",null,null,null,{"$f":"IF(Résultats!N99<>\"\",Résultats!N99,\"\")","v":""}]
[{"$f":"IFERROR(VLOOKUP(B17&C17,Matériels!$J$1:$M$1004,2,FALSE),\"\")","v":"Piece d'ancrage Câble"},22173,null,1,null,{"$f":"IFERROR(VLOOKUP(G17&H17,Matériels!$J$1:$M$1004,2,FALSE),\"\")","v":""},"",null,null,null,{"$f":"IF(Résultats!N100<>\"\",Résultats!N100,\"\")","v":""}]
[{"$f":"IFERROR(VLOOKUP(B18&C18,Matériels!$J$1:$M$1004,2,FALSE),\"\")","v":"Piece d'ancrage Câble"},22173,null,1,null,{"$f":"IFERROR(VLOOKUP(G18&H18,Matériels!$J$1:$M$1004,2,FALSE),\"\")","v":""},"",null,null,null,{"$f":"IF(Résultats!N101<>\"\",Résultats!N101,\"\")","v":""}]
[{"$f":"IFERROR(VLOOKUP(B19&C19,Matériels!$J$1:$M$1004,2,FALSE),\"\")","v":""},"",null,null,null,{"$f":"IFERROR(VLOOKUP(G19&H19,Matériels!$J$1:$M$1004,2,FALSE),\"\")","v":""},"",null,null,null,{"$f":"IF(Résultats!N102<>\"\",Résultats!N102,\"\")","v":""}]
["------------------------------------------------","Pieces de Reglages","-----------------------------------------------------------",null,null,"------------------------------------------------","Pieces de Reglages","-----------------------------------------------------------",null,null,{"$f":"IF(Résultats!N103<>\"\",Résultats!N103,\"\")","v":""}]
[{"$f":"IFERROR(VLOOKUP(B21&C21,Matériels!$J$1:$M$1004,2,FALSE),\"\")","v":"Piece de Reglage"},37606,null,2,null,{"$f":"IFERROR(VLOOKUP(G21&H21,Matériels!$J$1:$M$1004,2,FALSE),\"\")","v":""},"",null,null,null,{"$f":"IF(Résultats!N104<>\"\",Résultats!N104,\"\")","v":""}]
[{"$f":"IFERROR(VLOOKUP(B22&C22,Matériels!$J$1:$M$1004,2,FALSE),\"\")","v":""},"",null,null,null,{"$f":"IFERROR(VLOOKUP(G22&H22,Matériels!$J$1:$M$1004,2,FALSE),\"\")","v":""},"",null,null,null,{"$f":"IF(Résultats!N105<>\"\",Résultats!N105,\"\")","v":""}]
["------------------------------------------------","Haubans d'Ancrages","-----------------------------------------------------------",null,null,"------------------------------------------------","Haubans d'Ancrages","-----------------------------------------------------------"]
[{"$f":"IFERROR(VLOOKUP(B24&C24,Matériels!$J$1:$M$1004,2,FALSE),\"\")","v":"hauban d'ancrage Ø36 de Lg= 8,75m"},37550,37556,1,null,{"$f":"IFERROR(VLOOKUP(G24&H24,Matériels!$J$1:$M$1004,2,FALSE),\"\")","v":""},""]
[{"$f":"IFERROR(VLOOKUP(B25&C25,Matériels!$J$1:$M$1004,2,FALSE),\"\")","v":"hauban d'ancrage Ø36 de Lg= 8,75m"},37550,37556,1,null,{"$f":"IFERROR(VLOOKUP(G25&H25,Matériels!$J$1:$M$1004,2,FALSE),\"\")","v":""},""]
[{"$f":"IFERROR(VLOOKUP(B26&C26,Matériels!$J$1:$M$1004,2,FALSE),\"\")","v":""},"",null,null,null,{"$f":"IFERROR(VLOOKUP(G26&H26,Matériels!$J$1:$M$1004,2,FALSE),\"\")","v":""},""]
[{"$f":"IFERROR(VLOOKUP(B27&C27,Matériels!$J$1:$M$1004,2,FALSE),\"\")","v":""},"",null,null,null,{"$f":"IFERROR(VLOOKUP(G27&H27,Matériels!$J$1:$M$1004,2,FALSE),\"\")","v":""},""]
[{"$f":"IFERROR(VLOOKUP(B28&C28,Matériels!$J$1:$M$1004,2,FALSE),\"\")","v":""},"",null,null,null,{"$f":"IFERROR(VLOOKUP(G28&H28,Matériels!$J$1:$M$1004,2,FALSE),\"\")","v":""},""]
[{"$f":"IFERROR(VLOOKUP(B29&C29,Matériels!$J$1:$M$1004,2,FALSE),\"\")","v":""},"",null,null,null,{"$f":"IFERROR(VLOOKUP(G29&H29,Matériels!$J$1:$M$1004,2,FALSE),\"\")","v":""},""]
[{"$f":"IFERROR(VLOOKUP(B30&C30,Matériels!$J$1:$M$1004,2,FALSE),\"\")","v":""},"",null,null,null,{"$f":"IFERROR(VLOOKUP(G30&H30,Matériels!$J$1:$M$1004,2,FALSE),\"\")","v":""},""]
["------------------------------------------------","Jumelles","-----------------------------------------------------------",null,null,"------------------------------------------------","Jumelles","-----------------------------------------------------------"]
[{"$f":"IFERROR(VLOOKUP(B32&C32,Matériels!$J$1:$M$1004,2,FALSE),\"\")","v":"Jumelles de 1,00m"},37627,103,1,null,{"$f":"IFERROR(VLOOKUP(G32&H32,Matériels!$J$1:$M$1004,2,FALSE),\"\")","v":""},""]
[{"$f":"IFERROR(VLOOKUP(B33&C33,Matériels!$J$1:$M$1004,2,FALSE),\"\")","v":"Jumelles de 0,12m"},37627,101,1,null,{"$f":"IFERROR(VLOOKUP(G33&H33,Matériels!$J$1:$M$1004,2,FALSE),\"\")","v":""},""]
[{"$f":"IFERROR(VLOOKUP(B34&C34,Matériels!$J$1:$M$1004,2,FALSE),\"\")","v":""},"",null,null,null,{"$f":"IFERROR(VLOOKUP(G34&H34,Matériels!$J$1:$M$1004,2,FALSE),\"\")","v":""},""]
[{"$f":"IFERROR(VLOOKUP(B35&C35,Matériels!$J$1:$M$1004,2,FALSE),\"\")","v":""},"",null,null,null,{"$f":"IFERROR(VLOOKUP(G35&H35,Matériels!$J$1:$M$1004,2,FALSE),\"\")","v":""},""]
["------------------------------------------------","Etriers",null,null,null,"------------------------------------------------","Etriers"]
[{"$f":"IFERROR(VLOOKUP(B37&C37,Matériels!$J$1:$M$1004,2,FALSE),\"\")","v":"Etrier"},39510,39513,2,null,{"$f":"IFERROR(VLOOKUP(G37&H37,Matériels!$J$1:$M$1004,2,FALSE),\"\")","v":""},""]
["------------------------------------------------","Poutrelle d'Ancrage","-----------------------------------------------------------",null,null,"------------------------------------------------","Poutrelle d'Ancrage","-----------------------------------------------------------"]
[{"$f":"IFERROR(VLOOKUP(B39&C39,Matériels!$J$1:$M$1004,2,FALSE),\"\")","v":""},"",null,null,null,{"$f":"IFERROR(VLOOKUP(G39&H39,Matériels!$J$1:$M$1004,2,FALSE),\"\")","v":""},""]
["------------------------------------------------","Semelle d'Appui","-----------------------------------------------------------",null,null,"------------------------------------------------","Semelle d'Appui","-----------------------------------------------------------"]
[{"$f":"IFERROR(VLOOKUP(B41&C41,Matériels!$J$1:$M$1004,2,FALSE),\"\")","v":""},"",null,null,null,{"$f":"IFERROR(VLOOKUP(G41&H41,Matériels!$J$1:$M$1004,2,FALSE),\"\")","v":""},""]
["------------------------------------------------","Cuvette","-----------------------------------------------------------",null,null,"------------------------------------------------","Cuvette","-----------------------------------------------------------"]
[{"$f":"IFERROR(VLOOKUP(B43&C43,Matériels!$J$1:$M$1004,2,FALSE),\"\")","v":""},"",null,null,null,{"$f":"IFERROR(VLOOKUP(G43&H43,Matériels!$J$1:$M$1004,2,FALSE),\"\")","v":""},""]
["------------------------------------------------","Boulons / TF","-----------------------------------------------------------",null,null,"------------------------------------------------","Boulons / TF","-----------------------------------------------------------"]
[{"$f":"IFERROR(VLOOKUP(B45&C45,Matériels!$J$1:$M$1004,2,FALSE),\"\")","v":""},"",null,null,null,{"$f":"IFERROR(VLOOKUP(G45&H45,Matériels!$J$1:$M$1004,2,FALSE),\"\")","v":""},""]
[{"$f":"IFERROR(VLOOKUP(B46&C46,Matériels!$J$1:$M$1004,2,FALSE),\"\")","v":"B. H M22-100/50"},"01602487",null,4,null,{"$f":"IFERROR(VLOOKUP(G46&H46,Matériels!$J$1:$M$1004,2,FALSE),\"\")","v":""},""]
[{"$f":"IFERROR(VLOOKUP(B47&C47,Matériels!$J$1:$M$1004,2,FALSE),\"\")","v":"B. H M22-100/50"},"01602487",null,4,null,{"$f":"IFERROR(VLOOKUP(G47&H47,Matériels!$J$1:$M$1004,2,FALSE),\"\")","v":""},""]
[{"$f":"IFERROR(VLOOKUP(B48&C48,Matériels!$J$1:$M$1004,2,FALSE),\"\")","v":""},"",null,null,null,{"$f":"IFERROR(VLOOKUP(G48&H48,Matériels!$J$1:$M$1004,2,FALSE),\"\")","v":""},""]
[{"$f":"IFERROR(VLOOKUP(B49&C49,Matériels!$J$1:$M$1004,2,FALSE),\"\")","v":""},"",null,null,null,{"$f":"IFERROR(VLOOKUP(G49&H49,Matériels!$J$1:$M$1004,2,FALSE),\"\")","v":""},""]
[{"$f":"IFERROR(VLOOKUP(B50&C50,Matériels!$J$1:$M$1004,2,FALSE),\"\")","v":""},"",null,null,null,{"$f":"IFERROR(VLOOKUP(G50&H50,Matériels!$J$1:$M$1004,2,FALSE),\"\")","v":""},""]
[{"$f":"IFERROR(VLOOKUP(B51&C51,Matériels!$J$1:$M$1004,2,FALSE),\"\")","v":""},"",null,null,null,{"$f":"IFERROR(VLOOKUP(G51&H51,Matériels!$J$1:$M$1004,2,FALSE),\"\")","v":""},""]
[{"$f":"IFERROR(VLOOKUP(B52&C52,Matériels!$J$1:$M$1004,2,FALSE),\"\")","v":""},"",null,null,null,{"$f":"IFERROR(VLOOKUP(G52&H52,Matériels!$J$1:$M$1004,2,FALSE),\"\")","v":""},""]
["------------------------------------------------","Rondelles","-----------------------------------------------------------",null,null,"------------------------------------------------","Rondelles","-----------------------------------------------------------"]
[{"$f":"IFERROR(VLOOKUP(B54&C54,Matériels!$J$1:$M$1004,2,FALSE),\"\")","v":""},"",null,null,null,{"$f":"IFERROR(VLOOKUP(G54&H54,Matériels!$J$1:$M$1004,2,FALSE),\"\")","v":""},""]
["------------------------------------------------","Appareil Tendeur","-----------------------------------------------------------",null,null,"------------------------------------------------","Appareil Tendeur","-----------------------------------------------------------"]
[{"$f":"IFERROR(VLOOKUP(B56&C56,Matériels!$J$1:$M$1004,2,FALSE),\"\")","v":"Ens. Montage Appareil Tendeur"},222940,222942,1,null,{"$f":"IFERROR(VLOOKUP(G56&H56,Matériels!$J$1:$M$1004,2,FALSE),\"\")","v":""},""]
[{"$f":"IFERROR(VLOOKUP(B57&C57,Matériels!$J$1:$M$1004,2,FALSE),\"\")","v":""},"",null,null,null,{"$f":"IFERROR(VLOOKUP(G57&H57,Matériels!$J$1:$M$1004,2,FALSE),\"\")","v":""},""]
["------------------------------------------------","Ancrage Conducteurs","-----------------------------------------------------------",null,null,"------------------------------------------------","Ancrage Conducteurs","-----------------------------------------------------------"]
[{"$f":"IFERROR(VLOOKUP(B59&C59,Matériels!$J$1:$M$1004,2,FALSE),\"\")","v":"Ancrage de 2 Porteurs CR"},10985,352,1,null,{"$f":"IFERROR(VLOOKUP(G59&H59,Matériels!$J$1:$M$1004,2,FALSE),\"\")","v":""},""]
[{"$f":"IFERROR(VLOOKUP(B60&C60,Matériels!$J$1:$M$1004,2,FALSE),\"\")","v":"Ancrage de 2 Porteurs CR"},10985,352,1,null,{"$f":"IFERROR(VLOOKUP(G60&H60,Matériels!$J$1:$M$1004,2,FALSE),\"\")","v":""},""]
[{"$f":"IFERROR(VLOOKUP(B61&C61,Matériels!$J$1:$M$1004,2,FALSE),\"\")","v":""},"",null,null,null,{"$f":"IFERROR(VLOOKUP(G61&H61,Matériels!$J$1:$M$1004,2,FALSE),\"\")","v":""},""]
[{"$f":"IFERROR(VLOOKUP(B62&C62,Matériels!$J$1:$M$1004,2,FALSE),\"\")","v":""},"",null,null,null,{"$f":"IFERROR(VLOOKUP(G62&H62,Matériels!$J$1:$M$1004,2,FALSE),\"\")","v":""},""]
["------------------------------------------------","Isolement Supp.","-----------------------------------------------------------",null,null,"------------------------------------------------","Isolement Supp.","-----------------------------------------------------------"]
[{"$f":"IFERROR(VLOOKUP(B64&C64,Matériels!$J$1:$M$1004,2,FALSE),\"\")","v":""},"",null,null,null,{"$f":"IFERROR(VLOOKUP(G64&H64,Matériels!$J$1:$M$1004,2,FALSE),\"\")","v":""},""]
[{"$f":"IFERROR(VLOOKUP(B65&C65,Matériels!$J$1:$M$1004,2,FALSE),\"\")","v":""},"",null,null,null,{"$f":"IFERROR(VLOOKUP(G65&H65,Matériels!$J$1:$M$1004,2,FALSE),\"\")","v":""},""]
[{"$f":"IFERROR(VLOOKUP(B66&C66,Matériels!$J$1:$M$1004,2,FALSE),\"\")","v":""},"",null,null,null,{"$f":"IFERROR(VLOOKUP(G66&H66,Matériels!$J$1:$M$1004,2,FALSE),\"\")","v":""},""]
[{"$f":"IFERROR(VLOOKUP(B67&C67,Matériels!$J$1:$M$1004,2,FALSE),\"\")","v":""},"",null,null,null,{"$f":"IFERROR(VLOOKUP(G67&H67,Matériels!$J$1:$M$1004,2,FALSE),\"\")","v":""},""]
[{"$f":"IFERROR(VLOOKUP(B68&C68,Matériels!$J$1:$M$1004,2,FALSE),\"\")","v":""},"",null,null,null,{"$f":"IFERROR(VLOOKUP(G68&H68,Matériels!$J$1:$M$1004,2,FALSE),\"\")","v":""},""]
[{"$f":"IFERROR(VLOOKUP(B69&C69,Matériels!$J$1:$M$1004,2,FALSE),\"\")","v":""},"",null,null,null,{"$f":"IFERROR(VLOOKUP(G69&H69,Matériels!$J$1:$M$1004,2,FALSE),\"\")","v":""},""]
[{"$f":"IFERROR(VLOOKUP(B70&C70,Matériels!$J$1:$M$1004,2,FALSE),\"\")","v":""},"",null,null,null,{"$f":"IFERROR(VLOOKUP(G70&H70,Matériels!$J$1:$M$1004,2,FALSE),\"\")","v":""},""]
[{"$f":"IFERROR(VLOOKUP(B71&C71,Matériels!$J$1:$M$1004,2,FALSE),\"\")","v":""},"",null,null,null,{"$f":"IFERROR(VLOOKUP(G71&H71,Matériels!$J$1:$M$1004,2,FALSE),\"\")","v":""},""]
[{"$f":"IFERROR(VLOOKUP(B72&C72,Matériels!$J$1:$M$1004,2,FALSE),\"\")","v":""},"",null,null,null,{"$f":"IFERROR(VLOOKUP(G72&H72,Matériels!$J$1:$M$1004,2,FALSE),\"\")","v":""},""]

{"sheet":"X,Y","index":7,"n_rows":102,"n_cols":31,"rows_kept":102,"cut":false,"hidden":true,"merged":[[0,14,0,15],[26,24,26,25],[12,12,12,13],[11,15,11,22],[11,23,11,30],[21,12,21,13]]}
[{"$f":"IFERROR(IF(Orientation=1,IF(LEFT(A2,3)<>\"JHE\",Parametres!$D$87/2,0.275+Parametres!$D$87/2),IFERROR(VLOOKUP('X,Y'!A2,Parametres!F58:H112,3,TRUE)/1000,0)),0)","v":4.2500000000000003E-3},"XPt1","YPt1","XPt2","YPt2",{"$f":"Résultats!C4","v":"N"},"XPt1","YPt1","XPt2","YPt2",{"$f":"IF(AND(F1=\"O\"),\"Oui\",\"\")","v":""},null,null,null,"Lien de la Base :",null,{"$f":"IF(Calculs!$V$55=\"\",VLOOKUP(Site,'X,Y'!$T$2:$U$4,2,FALSE),Calculs!$V$55)","v":"C:\\Users\\Julien Verdier\\Documents\\_DATA\\Outils\\Dessins\\Ancrage\\"}]
[{"$f":"Support","v":"HEA300"},0,0,{"$f":"IF(Orientationb=\"Noriente\",VLOOKUP('X,Y'!$A$2,Parametres!$F$58:$H$150,3,FALSE),VLOOKUP('X,Y'!$A$2,Parametres!$J$58:$L$150,3,FALSE))","v":145},null,"Position 0",null,null,null,null,null,null,"Support",{"$f":"LEFT(A2,3)","v":"HEA"},null,null,{"$f":"Q1&\"Haubans\\\"","v":"C:\\Users\\Julien Verdier\\Documents\\_DATA\\Outils\\Dessins\\Ancrage\\Haubans\\"},null,null,"C2F","C:\\Users\\Julien Verdier\\Documents\\_DATA\\Outils\\Dessins\\Ancrage\\",null,null,null,null,"C2F"]
[{"$f":"Hsupport","v":10.95},{"$f":"B2","v":0},{"$f":"(C2+A3)*1000","v":10950},null,null,"Position haut du sup",null,null,null,null,null,null,"Ancrage 1",{"$f":"Résultats!B7","v":"Api"},null,null,{"$f":"Q1&\"Massifs\\\"","v":"C:\\Users\\Julien Verdier\\Documents\\_DATA\\Outils\\Dessins\\Ancrage\\Massifs\\"},null,null,"St Genis Laval","//srvsglnas01\\doc-outils\\Boite à outils\\Spécial Ferroviaire\\Ancrage\\",null,null,null,null,"St Genis Laval"]
[{"$f":"CoteA","v":1.45},{"$f":"B2","v":0},{"$f":"(C2-A4)*1000","v":-1450},null,null,"Position basse du sup",null,null,null,null,null,null,"Ancrage 2",{"$f":"Résultats!C7","v":0},null,null,{"$f":"Q1&\"Pieces\\\"","v":"C:\\Users\\Julien Verdier\\Documents\\_DATA\\Outils\\Dessins\\Ancrage\\Pieces\\"},null,null,"Toulouse","//srvtlcatnas01\\doc-outils\\Boite à outils\\Spécial Ferroviaire\\Ancrage\\",null,null,null,null,"Toulouse"]
[{"$f":"Resultats!$F$6","v":0.08},{"$f":"B2","v":0},{"$f":"(C2+A5)*1000","v":80},null,null,"Position du massif",null,null,null,null,null,null,null,null,null,null,{"$f":"Q1&\"Conducteurs\\\"","v":"C:\\Users\\Julien Verdier\\Documents\\_DATA\\Outils\\Dessins\\Ancrage\\Conducteurs\\"},null,null,null,"Z:\\lamoureux\\Autre\\",null,null,null,null,"Test 01"]
[{"$f":"Impression!E5","v":"4Pn"},{"$f":"VLOOKUP($A$6,Massifs!$P$3:$T$1000,3,FALSE)*1000","v":900},{"$f":"VLOOKUP($A$6,Massifs!$P$3:$T$1000,4,FALSE)*1000","v":1500},{"$f":"VLOOKUP($A$6,Massifs!$P$3:$T$1000,5,FALSE)*1000","v":1800},null,null,null,null,null,null,null,null,null,null,null,null,{"$f":"Q1&\"Autre\\\"","v":"C:\\Users\\Julien Verdier\\Documents\\_DATA\\Outils\\Dessins\\Ancrage\\Autre\\"},null,null,null,"F:\\Catenaire\\Dessin Ancrage\\Ancrage\\",null,null,null,null,"Test 02"]
["Ancrage n°1",{"$f":"IF(Carac1=\"Droit\",1,IF(Carac1=\"Gauche\",-1,1))","v":1},{"$f":"IF(B7>0,\"D\",\"G\")","v":"D"},null,null,"Ancrage n°2",{"$f":"IF(Carac2=\"Droit\",1,IF(Carac2=\"Gauche\",-1,1))","v":-1},{"$f":"IF(G7>0,\"D\",\"G\")","v":"G"}]
[{"$f":"Impression!B10&Impression!C10","v":"9Api"},{"$f":"MassifD1*'X,Y'!B7*1000","v":7000},{"$f":"AraseM1*1000","v":80},null,null,{"$f":"Impression!F10&Impression!G10","v":""},{"$f":"IF(F8=\"\",\"\",MassifD2*'X,Y'!G7*1000)","v":""},{"$f":"IF(F1=\"N\",\"\",AraseM2*1000)","v":""}]
[{"$f":"IF(Impression!B13=\"\",\"\",Impression!B13)","v":"08820565"},{"$f":"IF(A9=\"\",\"\",$A$1*-$B$7*1000)","v":-4.25},{"$f":"IF(A9=\"\",\"\",Résultats!B14*1000)","v":7450},null,null,{"$f":"IF(Impression!F13=\"\",\"\",Impression!F13)","v":""},{"$f":"IF(F9=\"\",\"\",$A$1*-$G$7*1000)","v":""},{"$f":"IFERROR(IF(F9=\"\",\"\",Résultats!C14*1000),\"\")","v":""}]
[{"$f":"IF(Impression!B14=\"\",\"\",Impression!B14)","v":"08820565"},{"$f":"IF(A10=\"\",\"\",$A$1*-$B$7*1000)","v":-4.25},{"$f":"IF(A10=\"\",\"\",Résultats!B15*1000)","v":6450},null,null,{"$f":"IF(Impression!F14=\"\",\"\",Impression!F14)","v":""},{"$f":"IF(F10=\"\",\"\",$A$1*-$G$7*1000)","v":""},{"$f":"IFERROR(IF(F10=\"\",\"\",Résultats!C15*1000),\"\")","v":""}]
[{"$f":"IF(Impression!B15=\"\",\"\",Impression!B15)","v":""},{"$f":"IF(A11=\"\",\"\",$A$1*-$B$7*1000)","v":""},{"$f":"IF(A11=\"\",\"\",Résultats!B16*1000)","v":""},null,null,{"$f":"IF(Impression!F15=\"\",\"\",Impression!F15)","v":""},"",{"$f":"IFERROR(IF(F11=\"\",\"\",Résultats!C16*1000),\"\")","v":""},null,null,null,null,null,null,null,null,null,null,null,null,null,null,{"$f":"IF(ISERR(S22),3,4)","v":4},null,null,null,null,null,null,null,{"$f":"IF(ISERR(AA22),3,4)","v":3}]
[{"$f":"IF(Impression!B16=\"\",\"\",Impression!B16)","v":""},{"$f":"IF(A12=\"\",\"\",$A$1*-$B$7*1000)","v":""},{"$f":"IF(A12=\"\",\"\",Résultats!B17*1000)","v":""},null,null,{"$f":"IF(Impression!F16=\"\",\"\",Impression!F16)","v":""},"",{"$f":"IFERROR(IF(F12=\"\",\"\",Résultats!C17*1000),\"\")","v":""},null,null,null,null,null,null,null,"Ancrage 1",null,null,null,null,null,null,null,"Ancrage 2"]
[{"$f":"IF(Impression!B17=\"\",\"\",Impression!B17)","v":"08820583"},{"$f":"IF(A13=\"\",\"\",$A$1*$B$7*1000)","v":4.25},{"$f":"IF(A13=\"\",\"\",Résultats!B11*1000)","v":7450},null,null,{"$f":"IF(Impression!F17=\"\",\"\",Impression!F17)","v":""},{"$f":"IF(F13=\"\",\"\",$A$1*$G$7*1000)","v":""},{"$f":"IF(F13=\"\",\"\",Résultats!C11*1000)","v":""},null,null,null,null,"Jumelles",null,null,{"$f":"VLOOKUP(A25,$M$14:$N$21,2,FALSE)","v":1000},{"$f":"IFERROR(IF(OR(A17=\"00986713\",A17=\"00986715\"),\"NON\",IF($B$7>=0,B25-P13,B25+P13)),\"NON\")","v":-1124.25},{"$f":"IF(A26=\"\",\"\",VLOOKUP(A26,$M$14:$N$21,2,FALSE))","v":120},{"$f":"IFERROR(IF(OR(A18=\"00986713\",A18=\"00986715\"),\"NON\",IF($B$7>=0,B26-R13,B26+R13)),\"NON\")","v":-244.25},{"$f":"IF(A27=\"\",\"\",VLOOKUP(A27,$M$14:$N$21,2,FALSE))","v":""},{"$f":"IFERROR(IF(OR(A19=\"00986713\",A19=\"00986715\"),\"NON\",IF($B$7>=0,B27-T13,B27+T13)),\"NON\")","v":"NON"},{"$f":"IF(A28=\"\",\"\",VLOOKUP(A28,$M$14:$N$21,2,FALSE))","v":""},{"$f":"IFERROR(IF(OR(A20=\"00986713\",A20=\"00986715\"),\"NON\",IF($B$7>=0,B28-V13,B28+V13)),\"NON\")","v":"NON"},{"$f":"IF(F25=\"\",\"\",VLOOKUP(F25,$M$14:$N$21,2,FALSE))","v":""},{"$f":"IFERROR(IF(OR(F17=\"00986713\",F17=\"00986715\"),\"NON\",IF($G$7>=0,G25-X13,G25+X13)),\"NON\")","v":"NON"},{"$f":"IF(F26=\"\",\"\",VLOOKUP(F26,$M$14:$N$21,2,FALSE))","v":""},{"$f":"IFERROR(IF(OR(F18=\"00986713\",F18=\"00986715\"),\"NON\",IF($G$7>=0,G26-Z13,G26+Z13)),\"NON\")","v":"NON"},{"$f":"IF(F27=\"\",\"\",VLOOKUP(F27,$M$14:$N$21,2,FALSE))","v":""},{"$f":"IFERROR(IF(OR(F19=\"00986713\",F19=\"00986715\"),\"NON\",IF($G$7>=0,G27-AB13,G27+AB13)),\"NON\")","v":"NON"},{"$f":"IF(F28=\"\",\"\",VLOOKUP(F28,$M$14:$N$21,2,FALSE))","v":""},{"$f":"IFERROR(IF(OR(F20=\"00986713\",F20=\"00986715\"),\"NON\",IF($G$7>=0,G28-AD13,G28+AD13)),\"NON\")","v":"NON"}]
[{"$f":"IF(Impression!B18=\"\",\"\",Impression!B18)","v":"08820583"},{"$f":"IF(A14=\"\",\"\",$A$1*$B$7*1000)","v":4.25},{"$f":"IF(A14=\"\",\"\",Résultats!B12*1000)","v":6450},null,null,{"$f":"IF(Impression!F18=\"\",\"\",Impression!F18)","v":""},{"$f":"IF(F14=\"\",\"\",$A$1*$G$7*1000)","v":""},{"$f":"IF(F14=\"\",\"\",Résultats!C12*1000)","v":""},null,null,null,null,"00986721",120,"P1",{"$f":"IF($B$7<=0,B25-50,B25+50)","v":-74.25},{"$f":"C25+20","v":7350},{"$f":"IF($B$7<=0,B26-50,B26+50)","v":-74.25},{"$f":"C26+20","v":6350},{"$f":"IF($B$7<=0,B27-50,B27+50)","v":{"$error":"#VALUE!"}},{"$f":"C27+20","v":{"$error":"#VALUE!"}},{"$f":"IF($B$7<=0,B28-50,B28+50)","v":{"$error":"#VALUE!"}},{"$f":"C28+20","v":{"$error":"#VALUE!"}},{"$f":"IF($G$7<=0,G25-50,G25+50)","v":{"$error":"#VALUE!"}},{"$f":"H25+20","v":{"$error":"#VALUE!"}},{"$f":"IF($G$7<=0,G26-50,G26+50)","v":{"$error":"#VALUE!"}},{"$f":"H26+20","v":{"$error":"#VALUE!"}},{"$f":"IF($G$7<=0,G27-50,G27+50)","v":{"$error":"#VALUE!"}},{"$f":"H27+20","v":{"$error":"#VALUE!"}},{"$f":"IF($G$7<=0,G28-50,G28+50)","v":{"$error":"#VALUE!"}},{"$f":"H28+20","v":{"$error":"#VALUE!"}}]
[{"$f":"IF(Impression!B19=\"\",\"\",Impression!B19)","v":""},{"$f":"IF(A15=\"\",\"\",$A$1*$B$7*1000)","v":""},{"$f":"IF(A15=\"\",\"\",Résultats!B13*1000)","v":""},null,null,{"$f":"IF(Impression!F19=\"\",\"\",Impression!F19)","v":""},"",{"$f":"IF(F15=\"\",\"\",Résultats!C13*1000)","v":""},null,null,null,null,"00986722",500,"P2",{"$f":"IF($B$7<=0,B25-20,B25+20)","v":-104.25},{"$f":"C25+50","v":7380},{"$f":"IF($B$7<=0,B26-20,B26+20)","v":-104.25},{"$f":"C26+50","v":6380},{"$f":"IF($B$7<=0,B27-20,B27+20)","v":{"$error":"#VALUE!"}},{"$f":"C27+50","v":{"$error":"#VALUE!"}},{"$f":"IF($B$7<=0,B28-20,B28+20)","v":{"$error":"#VALUE!"}},{"$f":"C28+50","v":{"$error":"#VALUE!"}},{"$f":"IF($G$7<=0,G25-20,G25+20)","v":{"$error":"#VALUE!"}},{"$f":"H25+50","v":{"$error":"#VALUE!"}},{"$f":"IF($G$7<=0,G26-20,G26+20)","v":{"$error":"#VALUE!"}},{"$f":"H26+50","v":{"$error":"#VALUE!"}},{"$f":"IF($G$7<=0,G27-20,G27+20)","v":{"$error":"#VALUE!"}},{"$f":"H27+50","v":{"$error":"#VALUE!"}},{"$f":"IF($G$7<=0,G28-20,G28+20)","v":{"$error":"#VALUE!"}},{"$f":"H28+50","v":{"$error":"#VALUE!"}}]
[{"$f":"Impression!B23","v":"Haubans d'Ancrages"},"xxx","xxx","Distance X1","Distance Y1",{"$f":"Impression!F23","v":"Haubans d'Ancrages"},"xxx","xxx","Distance X1","Distance Y1",null,null,"00986723",1000,"P3",{"$f":"IF($B$7<=0,Q13+20,Q13-20)","v":-1144.25},{"$f":"C25+50","v":7380},{"$f":"IF($B$7<=0,S13+20,S13-20)","v":-264.25},{"$f":"C26+50","v":6380},{"$f":"IF($B$7<=0,U13+20,U13-20)","v":{"$error":"#VALUE!"}},{"$f":"C27+50","v":{"$error":"#VALUE!"}},{"$f":"IF($B$7<=0,W13+20,W13-20)","v":{"$error":"#VALUE!"}},{"$f":"C28+50","v":{"$error":"#VALUE!"}},{"$f":"IF($G$7<=0,Y13+20,Y13-20)","v":{"$error":"#VALUE!"}},{"$f":"H25+50","v":{"$error":"#VALUE!"}},{"$f":"IF($G$7<=0,AA13+20,AA13-20)","v":{"$error":"#VALUE!"}},{"$f":"H26+50","v":{"$error":"#VALUE!"}},{"$f":"IF($G$7<=0,AC13+20,AC13-20)","v":{"$error":"#VALUE!"}},{"$f":"H27+50","v":{"$error":"#VALUE!"}},{"$f":"IF($G$7<=0,AE13+20,AE13-20)","v":{"$error":"#VALUE!"}},{"$f":"H28+50","v":{"$error":"#VALUE!"}}]
[{"$f":"Impression!B24","v":"08828752"},{"$f":"IF(A17=\"\",\"\",IF(Q13=\"NON\",B25,D25))","v":-825.21905657967909},{"$f":"IF(A17=\"\",\"\",IF(Q13=\"NON\",C25,E25))","v":6616.8083134824165},{"$f":"IF(A17=\"\",\"\",IF(AND(Resultats!$C$10=\"Apns\",Résultats!B6=\"Câble\"),($T$33+B17-(61.534*B7))*B7,(($T$33+B17+(IF(AND(R13<>\"\",$N$3<>\"Acn\"),250,0))*$B$7)*$B$7)))","v":6424.7809434203209},{"$f":"IF(A17=\"\",\"\",C17-$C$8-IF(AND(Resultats!$C$10=\"Apns\",Résultats!B6=\"Câble\"),2508.081,0))","v":6536.8083134824165},{"$f":"Impression!F24","v":""},{"$f":"IF(F17=\"\",\"\",IF(Y13=\"NON\",G25,I25))","v":""},{"$f":"IF(F17=\"\",\"\",IF(Y13=\"NON\",H25,J25))","v":""},{"$f":"IF(F17=\"\",\"\",IF(AND(Resultats!H10=\"Apns\",Résultats!C6=\"Câble\"),($V$33+G17-(80.5337*G7))*G7,(($V$33+G17+(IF(AND(N4<>\"Acn\",Z13<>\"\"),250,0))*$G$7)*$G$7)))","v":""},{"$f":"IF(F17=\"\",\"\",H17-$H$8-IF(AND(Resultats!H10=\"Apns\",Résultats!C6=\"Câble\"),2508.081,0))","v":""},null,null,"00986724",1500,"P4",{"$f":"IF($B$7<=0,Q13+50,Q13-50)","v":-1174.25},{"$f":"C25+20","v":7350},{"$f":"IF($B$7<=0,S13+50,S13-50)","v":-294.25},{"$f":"C26+20","v":6350},{"$f":"IF($B$7<=0,U13+50,U13-50)","v":{"$error":"#VALUE!"}},{"$f":"C27+20","v":{"$error":"#VALUE!"}},{"$f":"IF($B$7<=0,W13+50,W13-50)","v":{"$error":"#VALUE!"}},{"$f":"C28+20","v":{"$error":"#VALUE!"}},{"$f":"IF($G$7<=0,Y13+50,Y13-50)","v":{"$error":"#VALUE!"}},{"$f":"H25+20","v":{"$error":"#VALUE!"}},{"$f":"IF($G$7<=0,AA13+50,AA13-50)","v":{"$error":"#VALUE!"}},{"$f":"H26+20","v":{"$error":"#VALUE!"}},{"$f":"IF($G$7<=0,AC13+50,AC13-50)","v":{"$error":"#VALUE!"}},{"$f":"H27+20","v":{"$error":"#VALUE!"}},{"$f":"IF($G$7<=0,AE13+50,AE13-50)","v":{"$error":"#VALUE!"}},{"$f":"H28+20","v":{"$error":"#VALUE!"}}]
[{"$f":"Impression!B25","v":"08828752"},{"$f":"IF(A18=\"\",\"\",IF(S13=\"NON\",B26,D26))","v":-213.04719144120099},{"$f":"IF(A18=\"\",\"\",IF($Q$13=\"NON\",C26,E26))","v":6249.2840858804484},{"$f":"IF(A18=\"\",\"\",IF(AND(Resultats!$C$10=\"Apns\",Résultats!B6=\"Câble\"),(($U$33+B18-(58.034*B7))*B7),((($U$33+B18)+IF(AND($N$3<>\"Acn\",R13<>\"\"),250*IF(R22=\"Cable\",-1,1)*B7,0))*$B$7)))","v":7286.952808558799},{"$f":"IF(A18=\"\",\"\",C18-$C$8-IF(AND(Resultats!$C$10=\"Apns\",Résultats!B6=\"Câble\"),2008.081,0)+IF($N$3=\"Acn\",100,0))","v":6169.2840858804484},{"$f":"Impression!F25","v":""},{"$f":"IF(F18=\"\",\"\",IF(AA13=\"NON\",G26,I26))","v":""},{"$f":"IF(F18=\"\",\"\",IF(AA13=\"NON\",H26,J26))","v":""},{"$f":"IF(F18=\"\",\"\",IF(AND(Resultats!H10=\"Apns\",Résultats!C6=\"Câble\"),(($W$33+G18-(78.0337*G7))*G7),((($W$33+G18)+IF(AND(N4<>\"Acn\",Z13<>\"\"),250*IF(Z22=\"Cable\",-1,1)*G7,0))*$G$7)))","v":""},{"$f":"IF(F18=\"\",\"\",H18-$H$8-IF(AND(Resultats!H10=\"Apns\",Résultats!C6=\"Câble\"),2008.081,0)+IF($N$4=\"Acn\",100,0))","v":""},null,null,"00986725",2000,"P5",{"$f":"IF($B$7<=0,Q13+50,Q13-50)","v":-1174.25},{"$f":"C25-20","v":7310},{"$f":"IF($B$7<=0,S13+50,S13-50)","v":-294.25},{"$f":"C26-20","v":6310},{"$f":"IF($B$7<=0,U13+50,U13-50)","v":{"$error":"#VALUE!"}},{"$f":"C27-20","v":{"$error":"#VALUE!"}},{"$f":"IF($B$7<=0,W13+50,W13-50)","v":{"$error":"#VALUE!"}},{"$f":"C28-20","v":{"$error":"#VALUE!"}},{"$f":"IF($G$7<=0,Y13+50,Y13-50)","v":{"$error":"#VALUE!"}},{"$f":"H25-20","v":{"$error":"#VALUE!"}},{"$f":"IF($G$7<=0,AA13+50,AA13-50)","v":{"$error":"#VALUE!"}},{"$f":"H26-20","v":{"$error":"#VALUE!"}},{"$f":"IF($G$7<=0,AC13+50,AC13-50)","v":{"$error":"#VALUE!"}},{"$f":"H27-20","v":{"$error":"#VALUE!"}},{"$f":"IF($G$7<=0,AE13+50,AE13-50)","v":{"$error":"#VALUE!"}},{"$f":"H28-20","v":{"$error":"#VALUE!"}}]
[{"$f":"IF(Impression!B26=\"\",\"\",Impression!B26)","v":""},{"$f":"IF(A19=\"\",\"\",IF(U13=\"NON\",B27,D27))","v":""},{"$f":"IF(A19=\"\",\"\",IF($Q$13=\"NON\",C27,E27))","v":""},{"$f":"IF(A19=\"\",\"\",IF(AND(Resultats!$C$10=\"Apns\",Résultats!B6=\"Câble\"),($T$33+B19-(80.5337*B7))*B7,(($T$33+B19+(IF(AND(V13<>\"\",N3<>\"Acn\"),250,0))*$B$7)*$B$7)))","v":""},{"$f":"IF(A19=\"\",\"\",C19-$C$8-IF(AND(Resultats!$C$10=\"Apns\",Résultats!B6=\"Câble\"),2508.081,0))","v":""},{"$f":"Impression!F26","v":""},{"$f":"IF(F19=\"\",\"\",IF(AC13=\"NON\",G27,I27))","v":""},{"$f":"IF(F19=\"\",\"\",IF(AC13=\"NON\",H27,J27))","v":""},{"$f":"IF(F19=\"\",\"\",IF(AND(Resultats!H10=\"Apns\",Résultats!C6=\"Câble\"),($V$33+G19-(80.5337*G7))*G7,(($V$33+G19+(IF(AND(N4<>\"Acn\",AD13<>\"\"),250,0))*$G$7)*$G$7)))","v":""},{"$f":"IF(F19=\"\",\"\",H19-$H$8-IF(AND(Resultats!H10=\"Apns\",Résultats!C6=\"Câble\"),2508.081,0))","v":""},null,null,"00986726",2500,"P6",{"$f":"IF($B$7<=0,Q13+20,Q13-20)","v":-1144.25},{"$f":"C25-50","v":7280},{"$f":"IF($B$7<=0,S13+20,S13-20)","v":-264.25},{"$f":"C26-50","v":6280},{"$f":"IF($B$7<=0,U13+20,U13-20)","v":{"$error":"#VALUE!"}},{"$f":"C27-50","v":{"$error":"#VALUE!"}},{"$f":"IF($B$7<=0,W13+20,W13-20)","v":{"$error":"#VALUE!"}},{"$f":"C28-50","v":{"$error":"#VALUE!"}},{"$f":"IF($G$7<=0,Y13+20,Y13-20)","v":{"$error":"#VALUE!"}},{"$f":"H25-50","v":{"$error":"#VALUE!"}},{"$f":"IF($G$7<=0,AA13+20,AA13-20)","v":{"$error":"#VALUE!"}},{"$f":"H26-50","v":{"$error":"#VALUE!"}},{"$f":"IF($G$7<=0,AC13+20,AC13-20)","v":{"$error":"#VALUE!"}},{"$f":"H27-50","v":{"$error":"#VALUE!"}},{"$f":"IF($G$7<=0,AE13+20,AE13-20)","v":{"$error":"#VALUE!"}},{"$f":"H28-50","v":{"$error":"#VALUE!"}}]
[{"$f":"IF(Impression!B27=\"\",\"\",Impression!B27)","v":""},{"$f":"IF(A20=\"\",\"\",IF(W13=\"NON\",B28,D28))","v":""},{"$f":"IF(A20=\"\",\"\",IF($Q$13=\"NON\",C28,E28))","v":""},{"$f":"IF(A20=\"\",\"\",IF(AND(Resultats!$C$10=\"Apns\",Résultats!B6=\"Câble\"),($U$33+B20-(80.5337*B7))*B7,((($U$33+B20)+IF(AND(N3<>\"Acn\",R13<>\"\"),250*IF(R22=\"Cable\",-1,1)*B7,0))*$B$7)))","v":""},{"$f":"IF(A20=\"\",\"\",C20-$C$8-IF(AND(Resultats!$C$10=\"Apns\",Résultats!B6=\"Câble\"),2008.081,0)+IF($N$3=\"Acn\",100,0))","v":""},{"$f":"Impression!F27","v":""},{"$f":"IF(F20=\"\",\"\",IF(AE13=\"NON\",G28,I28))","v":""},{"$f":"IF(F20=\"\",\"\",IF(AE13=\"NON\",H28,J28))","v":""},{"$f":"IF(F20=\"\",\"\",IF(AND(Resultats!H10=\"Apns\",Résultats!C6=\"Câble\"),($W$33+G20-(78.0337*G7))*G7,((($W$33+G20)+IF(AND(N4<>\"Acn\",Z13<>\"\"),250*IF(Z22=\"Cable\",-1,1)*G7,0))*$G$7)))","v":""},{"$f":"IF(F20=\"\",\"\",H20-$H$8-IF(AND(Resultats!H10=\"Apns\",Résultats!C6=\"Câble\"),2008.081,0)+IF($N$4=\"Acn\",100,0))","v":""},null,null,"00986727",3000,"P7",{"$f":"IF($B$7<=0,B25-20,B25+20)","v":-104.25},{"$f":"C25-50","v":7280},{"$f":"IF($B$7<=0,B26-20,B26+20)","v":-104.25},{"$f":"C26-50","v":6280},{"$f":"IF($B$7<=0,B27-20,B27+20)","v":{"$error":"#VALUE!"}},{"$f":"C27-50","v":{"$error":"#VALUE!"}},{"$f":"IF($B$7<=0,B28-20,B28+20)","v":{"$error":"#VALUE!"}},{"$f":"C28-50","v":{"$error":"#VALUE!"}},{"$f":"IF($G$7<=0,G25-20,G25+20)","v":{"$error":"#VALUE!"}},{"$f":"H25-50","v":{"$error":"#VALUE!"}},{"$f":"IF($G$7<=0,G26-20,G26+20)","v":{"$error":"#VALUE!"}},{"$f":"H26-50","v":{"$error":"#VALUE!"}},{"$f":"IF($G$7<=0,G27-20,G27+20)","v":{"$error":"#VALUE!"}},{"$f":"H27-50","v":{"$error":"#VALUE!"}},{"$f":"IF($G$7<=0,G28-20,G28+20)","v":{"$error":"#VALUE!"}},{"$f":"H28-50","v":{"$error":"#VALUE!"}}]
[null,null,null,null,null,null,null,null,null,null,null,null,"00986728",3500,"P8",{"$f":"IF($B$7<=0,B25-50,B25+50)","v":-74.25},{"$f":"C25-20","v":7310},{"$f":"IF($B$7<=0,B26-50,B26+50)","v":-74.25},{"$f":"C26-20","v":6310},{"$f":"IF($B$7<=0,B27-50,B27+50)","v":{"$error":"#VALUE!"}},{"$f":"C27-20","v":{"$error":"#VALUE!"}},{"$f":"IF($B$7<=0,B28-50,B28+50)","v":{"$error":"#VALUE!"}},{"$f":"C28-20","v":{"$error":"#VALUE!"}},{"$f":"IF($G$7<=0,G25-50,G25+50)","v":{"$error":"#VALUE!"}},{"$f":"H25-20","v":{"$error":"#VALUE!"}},{"$f":"IF($G$7<=0,G26-50,G26+50)","v":{"$error":"#VALUE!"}},{"$f":"H26-20","v":{"$error":"#VALUE!"}},{"$f":"IF($G$7<=0,G27-50,G27+50)","v":{"$error":"#VALUE!"}},{"$f":"H27-20","v":{"$error":"#VALUE!"}},{"$f":"IF($G$7<=0,G28-50,G28+50)","v":{"$error":"#VALUE!"}},{"$f":"H28-20","v":{"$error":"#VALUE!"}}]
[null,null,null,null,null,null,null,null,null,null,null,null,"Angle",null,null,{"$f":"IF(A17=\"\",\"\",IF(OR(A17=\"00986713\",A17=\"00986715\"),\"Cable\",\"Rigide\"))","v":"Rigide"},{"$f":"IF($Q$13>=0,-(1.570797-ACOS(((D25-B25)*0+(E25-C25)*(-C25))/((SQRT((D25-B25)^2+(E25-C25)^2))*(SQRT((0)^2+(C25)^2))))),1.570797-ACOS(((D25-B25)*0+(E25-C25)*(-C25))/((SQRT((D25-B25)^2+(E25-C25)^2))*(SQRT((0)^2+(C25)^2)))))","v":0.79404164871559557},{"$f":"IF(A18=\"\",\"\",IF(OR(A18=\"00986713\",A18=\"00986715\"),\"Cable\",\"Rigide\"))","v":"Rigide"},{"$f":"IF($S$13>=0,-(1.570797-ACOS(((D26-B26)*0+((E26-C26)*(-C26)))/((SQRT((D26-B26)^2+(E26-C26)^2))*(SQRT((0)^2+(C26)^2))))),1.570797-ACOS(((D26-B26)*0+(E26-C26)*(-C26))/((SQRT((D26-B26)^2+(E26-C26)^2))*(SQRT((0)^2+(C26)^2)))))","v":0.73776143792607163},{"$f":"IF(A19=\"\",\"\",IF(OR(A19=\"00986713\",A19=\"00986715\"),\"Cable\",\"Rigide\"))","v":""},{"$f":"IF($U$13>=0,-(1.570797-ACOS(((D27-B27)*0+(E27-C27)*(-C27))/((SQRT((D27-B27)^2+(E27-C27)^2))*(SQRT((0)^2+(C27)^2))))),1.570797-ACOS(((D27-B27)*0+(E27-C27)*(-C27))/((SQRT((D27-B27)^2+(E27-C27)^2))*(SQRT((0)^2+(C27)^2)))))","v":{"$error":"#VALUE!"}},{"$f":"IF(A20=\"\",\"\",IF(OR(A20=\"00986713\",A20=\"00986715\"),\"Cable\",\"Rigide\"))","v":""},{"$f":"IF($W$13>=0,-(1.570797-ACOS(((D28-B28)*0+(E28-C28)*(-C28))/((SQRT((D28-B28)^2+(E28-C28)^2))*(SQRT((0)^2+(C28)^2))))),1.570797-ACOS(((D28-B28)*0+(E28-C28)*(-C28))/((SQRT((D28-B28)^2+(E28-C28)^2))*(SQRT((0)^2+(C28)^2)))))","v":{"$error":"#VALUE!"}},{"$f":"IF(F17=\"\",\"\",IF(OR(F17=\"00986713\",F17=\"00986715\"),\"Cable\",\"Rigide\"))","v":""},{"$f":"IF($Y$13>=0,-(1.570797-ACOS(((I25-G25)*0+(J25-H25)*(-H25))/((SQRT((I25-G25)^2+(J25-H25)^2))*(SQRT((0)^2+(H25)^2))))),1.570797-ACOS(((I25-G25)*0+(J25-H25)*(-H25))/((SQRT((I25-G25)^2+(J25-H25)^2))*(SQRT((0)^2+(H25)^2)))))","v":{"$error":"#VALUE!"}},{"$f":"IF(F18=\"\",\"\",IF(OR(F18=\"00986713\",F18=\"00986715\"),\"Cable\",\"Rigide\"))","v":""},{"$f":"IF($AA$13>=0,-(1.570797-ACOS(((I26-G26)*0+(J26-H26)*(-H26))/((SQRT((I26-G26)^2+(J26-H26)^2))*(SQRT((0)^2+(H26)^2))))),1.570797-ACOS(((I26-G26)*0+(J26-H26)*(-H26))/((SQRT((I26-G26)^2+(J26-H26)^2))*(SQRT((0)^2+(H26)^2)))))","v":{"$error":"#VALUE!"}},{"$f":"IF(F19=\"\",\"\",IF(OR(F19=\"00986713\",F19=\"00986715\"),\"Cable\",\"Rigide\"))","v":""},{"$f":"IF($AC$13>=0,-(1.570797-ACOS(((I27-G27)*0+(J27-H27)*(-H27))/((SQRT((I27-G27)^2+(J27-H27)^2))*(SQRT((0)^2+(H27)^2))))),1.570797-ACOS(((I27-G27)*0+(J27-H27)*(-H27))/((SQRT((I27-G27)^2+(J27-H27)^2))*(SQRT((0)^2+(H27)^2)))))","v":{"$error":"#VALUE!"}},{"$f":"IF(F20=\"\",\"\",IF(OR(F20=\"00986713\",F20=\"00986715\"),\"Cable\",\"Rigide\"))","v":""},{"$f":"IF($AE$13>=0,-(1.570797-ACOS(((I28-G28)*0+(J28-H28)*(-H28))/((SQRT((I28-G28)^2+(J28-H28)^2))*(SQRT((0)^2+(H28)^2))))),1.570797-ACOS(((I28-G28)*0+(J28-H28)*(-H28))/((SQRT((I28-G28)^2+(J28-H28)^2))*(SQRT((0)^2+(H28)^2)))))","v":{"$error":"#VALUE!"}}]
[null,null,null,null,null,null,null,null,null,null,null,null,null,null,null,"Degres",{"$f":"ROUND(IF($C$7=\"G\",DEGREES(Q22)+360,ABS(DEGREES(Q22))),0)","v":45},null,{"$f":"ROUND(IF($C$7=\"G\",DEGREES(S22)+360,ABS(DEGREES(S22))),0)","v":42},null,{"$f":"ROUND(IF($C$7=\"G\",DEGREES(U22)+360,ABS(DEGREES(U22))),0)","v":{"$error":"#VALUE!"}},null,{"$f":"ROUND(IF($C$7=\"G\",DEGREES(W22)+360,ABS(DEGREES(W22))),0)","v":{"$error":"#VALUE!"}},null,{"$f":"ROUND(IF($H$7=\"D\",DEGREES(Y22)+360,ABS(DEGREES(Y22))),0)","v":{"$error":"#VALUE!"}},null,{"$f":"ROUND(IF($H$7=\"D\",DEGREES(AA22)+360,ABS(DEGREES(AA22))),0)","v":{"$error":"#VALUE!"}},null,{"$f":"ROUND(IF($H$7=\"D\",DEGREES(AC22)+360,ABS(DEGREES(AC22))),0)","v":{"$error":"#VALUE!"}},null,{"$f":"ROUND(IF($H$7=\"D\",DEGREES(AE22)+360,ABS(DEGREES(AE22))),0)","v":{"$error":"#VALUE!"}}]
[{"$f":"Impression!B31","v":"Jumelles"},"xxx","xxx",null,null,{"$f":"Impression!F31","v":"Jumelles"},"xxx","xxx",null,null,null,null,null,null,null,null,{"$f":"IF(ISERR(Q22),\"\",\"Angle\"&Q25)","v":"Angle1"},null,{"$f":"IF(ISERR(S22),\"\",\"Angle\"&S25)","v":"Angle2"},null,{"$f":"IF(ISERR(U22),\"\",\"Angle\"&U25)","v":""},null,{"$f":"IF(ISERR(W22),\"\",\"Angle\"&W25)","v":""},null,{"$f":"IF(ISERR(Y22),\"\",\"Angle\"&Y25)","v":""},null,{"$f":"IF(ISERR(AA22),\"\",\"Angle\"&AA25)","v":""},null,{"$f":"IF(ISERR(AC22),\"\",\"Angle\"&AC25)","v":""},null,{"$f":"IF(ISERR(AE22),\"\",\"Angle\"&AE25)","v":""}]
[{"$f":"IF(Résultats!$B$7=\"Api\",Résultats!Y3,IF(Résultats!$B$7=\"Apns\",Résultats!Y11,IF(Résultats!$B$7=\"Acn\",Résultats!Y19,\"\")))","v":"00986723"},{"$f":"IF(A25=\"\",\"\",B9-(120*$B$7))","v":-124.25},{"$f":"IF(A25=\"\",\"\",(Résultats!B14*1000)-IF(Résultats!$A$1=\"1500 V\",120,122))","v":7330},{"$f":"IFERROR(IF($B$7>0,-$B$7*U33+(((SQRT((B25-(-$B$7*U33))^2+(C25-$Y$31)^2))-VLOOKUP(A25,$M$14:$N$21,2,FALSE))/(VLOOKUP(A25,$M$14:$N$21,2,FALSE)+((SQRT((B25-(-$B$7*U33))^2+(C25-$Y$31)^2))-VLOOKUP(A25,$M$14:$N$21,2,FALSE))))*(B25-(-$B$7*U33)),$B$7*U33+(((SQRT((B25-($B$7*U33))^2+(C25-$Y$31)^2))-VLOOKUP(A25,$M$14:$N$21,2,FALSE))/(VLOOKUP(A25,$M$14:$N$21,2,FALSE)+((SQRT((B25-($B$7*U33))^2+(C25-$Y$31)^2))-VLOOKUP(A25,$M$14:$N$21,2,FALSE))))*(B25-($B$7*U33))),\"\")","v":-825.21905657967909},{"$f":"IFERROR(IF($B$7>0,$Y$31+(((SQRT((B25-(-$B$7*U33))^2+(C25-$Y$31)^2))-VLOOKUP(A25,$M$14:$N$21,2,FALSE))/(((SQRT((B25-(-$B$7*U33))^2+(C25-$Y$31)^2))-VLOOKUP(A25,$M$14:$N$21,2,FALSE))+(VLOOKUP(A25,$M$14:$N$21,2,FALSE))))*(C25-$Y$31),$Y$31+(((SQRT((B25-($B$7*U33))^2+(C25-$Y$31)^2))-VLOOKUP(A25,$M$14:$N$21,2,FALSE))/(((SQRT((B25-($B$7*U33))^2+(C25-$Y$31)^2))-VLOOKUP(A25,$M$14:$N$21,2,FALSE))+(VLOOKUP(A25,$M$14:$N$21,2,FALSE))))*(C25-$Y$31)),\"\")","v":6616.8083134824165},{"$f":"IF(Résultats!$C$7=\"Api\",Résultats!Z3,IF(Résultats!$C$7=\"Apns\",Résultats!Z11,IF(Résultats!$C$7=\"Acn\",Résultats!Z19,\"\")))","v":""},{"$f":"IF(F25=\"\",\"\",G9-(120*$G$7))","v":""},{"$f":"IF(F25=\"\",\"\",(Résultats!C14*1000)-IF(Résultats!$A$1=\"1500 V\",120,122))","v":""},{"$f":"IFERROR(IF($G$7>0,-$G$7*W33+(((SQRT((G25-(-$G$7*W33))^2+(H25-$Z$31)^2))-VLOOKUP(F25,$M$14:$N$21,2,FALSE))/(VLOOKUP(F25,$M$14:$N$21,2,FALSE)+((SQRT((G25-(-$G$7*W33))^2+(H25-$Z$31)^2))-VLOOKUP(F25,$M$14:$N$21,2,FALSE))))*(G25-(-$G$7*W33)),$G$7*W33+(((SQRT((G25-($G$7*W33))^2+(H25-$Z$31)^2))-VLOOKUP(F25,$M$14:$N$21,2,FALSE))/(VLOOKUP(F25,$M$14:$N$21,2,FALSE)+((SQRT((G25-($G$7*W33))^2+(H25-$Z$31)^2))-VLOOKUP(F25,$M$14:$N$21,2,FALSE))))*(G25-($G$7*W33))),\"\")","v":""},{"$f":"IFERROR(IF($G$7>0,$Z$31+(((SQRT((G25-(-$G$7*W33))^2+(H25-$Z$31)^2))-VLOOKUP(F25,$M$14:$N$21,2,FALSE))/(((SQRT((G25-(-$G$7*W33))^2+(H25-$Z$31)^2))-VLOOKUP(F25,$M$14:$N$21,2,FALSE))+(VLOOKUP(F25,$M$14:$N$21,2,FALSE))))*(H25-$Z$31),$Z$31+(((SQRT((G25-($G$7*W33))^2+(H25-$Z$31)^2))-VLOOKUP(F25,$M$14:$N$21,2,FALSE))/(((SQRT((G25-($G$7*W33))^2+(H25-$Z$31)^2))-VLOOKUP(F25,$M$14:$N$21,2,FALSE))+(VLOOKUP(F25,$M$14:$N$21,2,FALSE))))*(H25-$Z$31)),\"\")","v":""},null,null,null,null,null,null,1,null,{"$f":"IF(ISERR(S22),Q25,Q25+1)","v":2},null,{"$f":"IF(ISERR(U22),S25,S25+1)","v":2},null,{"$f":"IF(ISERR(W22),U25,U25+1)","v":2},null,1,null,{"$f":"IF(ISERR(AA22),Y25,Y25+1)","v":1},null,{"$f":"IF(ISERR(AC22),AA25,AA25+1)","v":1},null,{"$f":"IF(ISERR(AE22),AC25,AC25+1)","v":1}]
[{"$f":"IF(Résultats!B9=1,\"\",IF(Résultats!$B$7=\"Api\",Résultats!Y4,IF(Résultats!$B$7=\"Apns\",Résultats!Y12,IF(Résultats!$B$7=\"Acn\",Résultats!Y20,\"\"))))","v":"00986721"},{"$f":"IF(A26=\"\",\"\",B10-(120*$B$7))","v":-124.25},{"$f":"IF(A26=\"\",\"\",(Résultats!B15*1000)-IF(Résultats!$A$1=\"1500 V\",120,122))","v":6330},{"$f":"IFERROR(IF($B$7>0,-$B$7*T33+(((SQRT((B26-(-$B$7*T33))^2+(C26-$Y$33)^2))-VLOOKUP(A26,$M$14:$N$21,2,FALSE))/(VLOOKUP(A26,$M$14:$N$21,2,FALSE)+((SQRT((B26-(-$B$7*T33))^2+(C26-$Y$33)^2))-VLOOKUP(A26,$M$14:$N$21,2,FALSE))))*(B26-(-$B$7*T33)),$B$7*T33+(((SQRT((B26-($B$7*T33))^2+(C26-$Y$33)^2))-VLOOKUP(A26,$M$14:$N$21,2,FALSE))/(VLOOKUP(A26,$M$14:$N$21,2,FALSE)+((SQRT((B26-($B$7*T33))^2+(C26-$Y$33)^2))-VLOOKUP(A26,$M$14:$N$21,2,FALSE))))*(B26-($B$7*T33))),\"\")","v":-213.04719144120099},{"$f":"IFERROR(IF($B$7>0,$Y$33+(((SQRT((B26-(-$B$7*T33))^2+(C26-$Y$33)^2))-VLOOKUP(A26,$M$14:$N$21,2,FALSE))/(((SQRT((B26-(-$B$7*T33))^2+(C26-$Y$33)^2))-VLOOKUP(A26,$M$14:$N$21,2,FALSE))+(VLOOKUP(A26,$M$14:$N$21,2,FALSE))))*(C26-$Y$33),$Y$33+(((SQRT((B26-($B$7*T33))^2+(C26-$Y$33)^2))-VLOOKUP(A26,$M$14:$N$21,2,FALSE))/(((SQRT((B26-($B$7*T33))^2+(C26-$Y$33)^2))-VLOOKUP(A26,$M$14:$N$21,2,FALSE))+(VLOOKUP(A26,$M$14:$N$21,2,FALSE))))*(C26-$Y$33)),\"\")","v":6249.2840858804484},{"$f":"IF(Résultats!$C$7=\"Api\",Résultats!Z4,IF(Résultats!$C$7=\"Apns\",Résultats!Z12,IF(Résultats!$C$7=\"Acn\",Résultats!Z20,\"\")))","v":""},{"$f":"IF(F26=\"\",\"\",G10-(120*$G$7))","v":""},{"$f":"IF(F26=\"\",\"\",(Résultats!C15*1000)-IF(Résultats!$A$1=\"1500 V\",120,122))","v":""},{"$f":"IFERROR(IF($G$7>0,-$G$7*V33+(((SQRT((G26-(-$G$7*V33))^2+(H26-$Z$33)^2))-VLOOKUP(F26,$M$14:$N$21,2,FALSE))/(VLOOKUP(F26,$M$14:$N$21,2,FALSE)+((SQRT((G26-(-$G$7*V33))^2+(H26-$Z$33)^2))-VLOOKUP(F26,$M$14:$N$21,2,FALSE))))*(G26-(-$G$7*V33)),$G$7*V33+(((SQRT((G26-($G$7*V33))^2+(H26-$Z$33)^2))-VLOOKUP(F26,$M$14:$N$21,2,FALSE))/(VLOOKUP(F26,$M$14:$N$21,2,FALSE)+((SQRT((G26-($G$7*V33))^2+(H26-$Z$33)^2))-VLOOKUP(F26,$M$14:$N$21,2,FALSE))))*(G26-($G$7*V33))),\"\")","v":""},{"$f":"IFERROR(IF($G$7>0,$Z$33+(((SQRT((G26-(-$G$7*V33))^2+(H26-$Z$33)^2))-VLOOKUP(F26,$M$14:$N$21,2,FALSE))/(((SQRT((G26-(-$G$7*V33))^2+(H26-$Z$33)^2))-VLOOKUP(F26,$M$14:$N$21,2,FALSE))+(VLOOKUP(F26,$M$14:$N$21,2,FALSE))))*(H26-$Z$33),$Z$33+(((SQRT((G26-($G$7*V33))^2+(H26-$Z$33)^2))-VLOOKUP(F26,$M$14:$N$21,2,FALSE))/(((SQRT((G26-($G$7*V33))^2+(H26-$Z$33)^2))-VLOOKUP(F26,$M$14:$N$21,2,FALSE))+(VLOOKUP(F26,$M$14:$N$21,2,FALSE))))*(H26-$Z$33)),\"\")","v":""}]
[{"$f":"IF(Impression!B34=\"\",\"\",Impression!B34)","v":""},"",{"$f":"IF(A27=\"\",\"\",(Résultats!B16*1000)-IF(Résultats!$A$1=\"1500 V\",120,122))","v":""},{"$f":"IFERROR(IF($B$7>0,-$B$7*U33+(((SQRT((B27-(-$B$7*U33))^2+(C27-$Y$31)^2))-VLOOKUP(A27,$M$14:$N$21,2,FALSE))/(VLOOKUP(A27,$M$14:$N$21,2,FALSE)+((SQRT((B27-(-$B$7*U33))^2+(C27-$Y$31)^2))-VLOOKUP(A27,$M$14:$N$21,2,FALSE))))*(B27-(-$B$7*U33)),$B$7*U33+(((SQRT((B27-($B$7*U33))^2+(C27-$Y$31)^2))-VLOOKUP(A27,$M$14:$N$21,2,FALSE))/(VLOOKUP(A27,$M$14:$N$21,2,FALSE)+((SQRT((B27-($B$7*U33))^2+(C27-$Y$31)^2))-VLOOKUP(A27,$M$14:$N$21,2,FALSE))))*(B27-($B$7*U33))),\"\")","v":""},{"$f":"IFERROR(IF($B$7>0,$Y$31+(((SQRT((B27-(-$B$7*U33))^2+(C27-$Y$31)^2))-VLOOKUP(A27,$M$14:$N$21,2,FALSE))/(((SQRT((B27-(-$B$7*U33))^2+(C27-$Y$31)^2))-VLOOKUP(A27,$M$14:$N$21,2,FALSE))+(VLOOKUP(A27,$M$14:$N$21,2,FALSE))))*(C27-$Y$31),$Y$31+(((SQRT((B27-($B$7*U33))^2+(C27-$Y$31)^2))-VLOOKUP(A27,$M$14:$N$21,2,FALSE))/(((SQRT((B27-($B$7*U33))^2+(C27-$Y$31)^2))-VLOOKUP(A27,$M$14:$N$21,2,FALSE))+(VLOOKUP(A27,$M$14:$N$21,2,FALSE))))*(C27-$Y$31)),\"\")","v":""},{"$f":"IF(Résultats!$C$7=\"Api\",Résultats!Z5,IF(Résultats!$C$7=\"Apns\",Résultats!Z13,IF(Résultats!$C$7=\"Acn\",Résultats!Z21,\"\")))","v":""},"",{"$f":"IF(F27=\"\",\"\",(Résultats!C16*1000)-IF(Résultats!$A$1=\"1500 V\",120,122))","v":""},{"$f":"IFERROR(IF($G$7>0,-$G$7*W33+(((SQRT((G27-(-$G$7*W33))^2+(H27-$Z$31)^2))-VLOOKUP(F27,$M$14:$N$21,2,FALSE))/(VLOOKUP(F27,$M$14:$N$21,2,FALSE)+((SQRT((G27-(-$G$7*W33))^2+(H27-$Z$31)^2))-VLOOKUP(F27,$M$14:$N$21,2,FALSE))))*(G27-(-$G$7*W33)),$G$7*W33+(((SQRT((G27-($G$7*W33))^2+(H27-$Z$31)^2))-VLOOKUP(F27,$M$14:$N$21,2,FALSE))/(VLOOKUP(F27,$M$14:$N$21,2,FALSE)+((SQRT((G27-($G$7*W33))^2+(H27-$Z$31)^2))-VLOOKUP(F27,$M$14:$N$21,2,FALSE))))*(G27-($G$7*W33))),\"\")","v":""},{"$f":"IFERROR(IF($G$7>0,$Z$31+(((SQRT((G27-(-$G$7*W33))^2+(H27-$Z$31)^2))-VLOOKUP(F27,$M$14:$N$21,2,FALSE))/(((SQRT((G27-(-$G$7*W33))^2+(H27-$Z$31)^2))-VLOOKUP(F27,$M$14:$N$21,2,FALSE))+(VLOOKUP(F27,$M$14:$N$21,2,FALSE))))*(H27-$Z$31),$Z$31+(((SQRT((G27-($G$7*W33))^2+(H27-$Z$31)^2))-VLOOKUP(F27,$M$14:$N$21,2,FALSE))/(((SQRT((G27-($G$7*W33))^2+(H27-$Z$31)^2))-VLOOKUP(F27,$M$14:$N$21,2,FALSE))+(VLOOKUP(F27,$M$14:$N$21,2,FALSE))))*(H27-$Z$31)),\"\")","v":""},null,null,null,null,null,null,null,null,null,null,null,null,null,null,"Position Massif"]
[{"$f":"IF(Impression!B35=\"\",\"\",Impression!B35)","v":""},"",{"$f":"IF(A28=\"\",\"\",(Résultats!B17*1000)-IF(Résultats!$A$1=\"1500 V\",120,122))","v":""},{"$f":"IFERROR(IF($B$7>0,-$B$7*T33+(((SQRT((B28-(-$B$7*T33))^2+(C28-$Y$33)^2))-VLOOKUP(A28,$M$14:$N$21,2,FALSE))/(VLOOKUP(A28,$M$14:$N$21,2,FALSE)+((SQRT((B28-(-$B$7*T33))^2+(C28-$Y$33)^2))-VLOOKUP(A28,$M$14:$N$21,2,FALSE))))*(B28-(-$B$7*T33)),$B$7*T33+(((SQRT((B28-($B$7*T33))^2+(C28-$Y$33)^2))-VLOOKUP(A28,$M$14:$N$21,2,FALSE))/(VLOOKUP(A28,$M$14:$N$21,2,FALSE)+((SQRT((B28-($B$7*T33))^2+(C28-$Y$33)^2))-VLOOKUP(A28,$M$14:$N$21,2,FALSE))))*(B28-($B$7*T33))),\"\")","v":""},{"$f":"IFERROR(IF($B$7>0,$Y$33+(((SQRT((B28-(-$B$7*T33))^2+(C28-$Y$33)^2))-VLOOKUP(A28,$M$14:$N$21,2,FALSE))/(((SQRT((B28-(-$B$7*T33))^2+(C28-$Y$33)^2))-VLOOKUP(A28,$M$14:$N$21,2,FALSE))+(VLOOKUP(A28,$M$14:$N$21,2,FALSE))))*(C28-$Y$33),$Y$33+(((SQRT((B28-($B$7*T33))^2+(C28-$Y$33)^2))-VLOOKUP(A28,$M$14:$N$21,2,FALSE))/(((SQRT((B28-($B$7*T33))^2+(C28-$Y$33)^2))-VLOOKUP(A28,$M$14:$N$21,2,FALSE))+(VLOOKUP(A28,$M$14:$N$21,2,FALSE))))*(C28-$Y$33)),\"\")","v":""},{"$f":"IF(Résultats!$C$7=\"Api\",Résultats!Z6,IF(Résultats!$C$7=\"Apns\",Résultats!Z14,IF(Résultats!$C$7=\"Acn\",Résultats!Z22,\"\")))","v":""},"",{"$f":"IF(F28=\"\",\"\",(Résultats!C17*1000)-IF(Résultats!$A$1=\"1500 V\",120,122))","v":""},{"$f":"IFERROR(IF($G$7>0,-$G$7*V33+(((SQRT((G28-(-$G$7*V33))^2+(H28-$Z$33)^2))-VLOOKUP(F28,$M$14:$N$21,2,FALSE))/(VLOOKUP(F28,$M$14:$N$21,2,FALSE)+((SQRT((G28-(-$G$7*V33))^2+(H28-$Z$33)^2))-VLOOKUP(F28,$M$14:$N$21,2,FALSE))))*(G28-(-$G$7*V33)),$G$7*V33+(((SQRT((G28-($G$7*V33))^2+(H28-$Z$33)^2))-VLOOKUP(F28,$M$14:$N$21,2,FALSE))/(VLOOKUP(F28,$M$14:$N$21,2,FALSE)+((SQRT((G28-($G$7*V33))^2+(H28-$Z$33)^2))-VLOOKUP(F28,$M$14:$N$21,2,FALSE))))*(G28-($G$7*V33))),\"\")","v":""},{"$f":"IFERROR(IF($G$7>0,$Z$33+(((SQRT((G28-(-$G$7*V33))^2+(H28-$Z$33)^2))-VLOOKUP(F28,$M$14:$N$21,2,FALSE))/(((SQRT((G28-(-$G$7*V33))^2+(H28-$Z$33)^2))-VLOOKUP(F28,$M$14:$N$21,2,FALSE))+(VLOOKUP(F28,$M$14:$N$21,2,FALSE))))*(H28-$Z$33),$Z$33+(((SQRT((G28-($G$7*V33))^2+(H28-$Z$33)^2))-VLOOKUP(F28,$M$14:$N$21,2,FALSE))/(((SQRT((G28-($G$7*V33))^2+(H28-$Z$33)^2))-VLOOKUP(F28,$M$14:$N$21,2,FALSE))+(VLOOKUP(F28,$M$14:$N$21,2,FALSE))))*(H28-$Z$33)),\"\")","v":""},null,null,null,null,null,null,null,null,null,"Ancrage 1",null,"Ancrage 2",null,null,"Ancrage1","Ancrage2"]
[null,null,null,null,null,null,null,null,null,null,null,null,null,null,null,null,null,null,null,"Pts 1","Pts 2","Pts 1","Pts 2",null,{"$f":"Impression!C10","v":"Api"},{"$f":"Impression!G10","v":""}]
[{"$f":"Impression!B36","v":"Etriers"},"xxx","xxx",null,null,{"$f":"Impression!F36","v":"Etriers"},"xxx","xxx",null,null,null,null,null,null,null,null,null,null,"Acn",{"$f":"B8-(360.72*B7)","v":6639.28},{"$f":"T30","v":6639.28},{"$f":"G8-(360.72*G7)","v":{"$error":"#VALUE!"}},{"$f":"V30","v":{"$error":"#VALUE!"}},null,"Y :","Y :"]
[{"$f":"Impression!B37","v":"08828922"},{"$f":"B8","v":7000},{"$f":"C8","v":80},null,null,{"$f":"Impression!F37","v":""},{"$f":"G8","v":""},{"$f":"H8","v":""},null,null,null,null,null,null,null,null,null,null,"Api",{"$f":"B8","v":7000},{"$f":"B8+(250*B7)","v":7250},{"$f":"G8","v":""},{"$f":"G8+(250*G7)","v":{"$error":"#VALUE!"}},null,{"$f":"IF(Y29=\"Apns\",C8+2405,C8)","v":80},{"$f":"IF(Z29=\"Apns\",H8+2405+200,H8)","v":""}]
[null,null,null,null,null,null,null,null,null,null,null,null,null,null,null,null,null,null,"Apns",{"$f":"B8","v":7000},{"$f":"T32","v":7000},{"$f":"G8","v":""},{"$f":"V32","v":""},null,"Y2 :","Y2 :"]
[{"$f":"Impression!B38","v":"Poutrelle d'Ancrage"},"xxx","xxx",null,null,{"$f":"Impression!F38","v":"Poutrelle d'Ancrage"},"xxx","xxx",null,null,null,null,null,null,null,null,null,null,null,{"$f":"IFERROR(VLOOKUP(N3,$S$30:$U$32,2,FALSE),\"\")","v":7000},{"$f":"IFERROR(IF(A26=\"\",VLOOKUP(N3,$S$30:$U$32,2,FALSE),VLOOKUP(N3,$S$30:$U$32,3,FALSE)),\"\")","v":7250},{"$f":"IFERROR(VLOOKUP(N4,$S$30:$W$32,4,FALSE),\"\")","v":""},{"$f":"IFERROR(IF(F26=\"\",VLOOKUP(N4,$S$30:$W$32,4,FALSE),VLOOKUP(N4,$S$30:$W$32,5,FALSE)),\"\")","v":""},null,{"$f":"IF(Y29=\"Apns\",C8+1922.5,C8)","v":80},{"$f":"IF(Z29=\"Apns\",H8+1922.5+200,H8)","v":""}]
[{"$f":"Impression!B39","v":""},null,null,null,null,{"$f":"Impression!F39","v":""}]
[{"$f":"Impression!B40","v":"Semelle d'Appui"},null,null,null,null,{"$f":"Impression!F40","v":"Semelle d'Appui"}]
[{"$f":"Impression!B41","v":""},null,null,null,null,{"$f":"Impression!F41","v":""}]
[{"$f":"Impression!B42","v":"Cuvette"},null,null,null,null,{"$f":"Impression!F42","v":"Cuvette"}]
[{"$f":"Impression!B43","v":""},null,null,null,null,{"$f":"Impression!F43","v":""}]
[{"$f":"Impression!B44","v":"Tiges filetees"},"xxx","xxx",null,null,{"$f":"Impression!F44","v":"Tiges filetees"},"xxx","xxx"]
[{"$f":"Impression!B45","v":""},{"$f":"IF(A40=\"\",\"\",0)","v":""},{"$f":"IF(A40=\"\",\"\",0)","v":""},null,null,{"$f":"Impression!F45","v":""},{"$f":"IF(F40=\"\",\"\",0)","v":""},{"$f":"IF(F40=\"\",\"\",0)","v":""}]
[]
[1,2,3,4,5,6,7,8,9,10,11,12,13,14,15,16,17,18,19,20,21,22,23,24,25,26,27,28,29,30,31]
[]
["Conducteurs","Symbole","Plan","Repere","Iso supp","Appareil Tendeur ?","Pt X","Pt Y","Plan Si ZP","Val Plan NZP","Nom du bloc","Dessin ?","Symetrie ?",null,"Longueur AT","X","Y"]
["Anc 1 Pts 1",{"$f":"IF(Impression!B59=\"\",\"\",Impression!B59)","v":"30982805"},{"$f":"IF(Tableau1[[#This Row],[Symbole]]=\"\",\"\",IF(Tableau1[[#This Row],[Val Plan NZP]]=\"\",VLOOKUP(Tableau1[[#This Row],[Symbole]],Matériels!$B$3:$F$993,4,FALSE),Tableau1[[#This Row],[Val Plan NZP]]))","v":10985},{"$f":"IF(Tableau1[[#This Row],[Plan]]=\"\",\"\",VLOOKUP(Tableau1[[#This Row],[Symbole]],Matériels!$B$3:$F$993,5,FALSE))","v":352},{"$f":"IF(Résultats!L57=\"\",\"\",Résultats!L57)","v":""},{"$f":"IF(OR(Résultats!$B$51='X,Y'!O48,Résultats!$B$52='X,Y'!O48),\"Oui\",\"Non\")","v":"Non"},{"$f":"IF(Tableau1[[#This Row],[Plan]]=\"\",\"\",B13+(120*$B$7)+IF(Tableau1[[#This Row],[Appareil Tendeur ?]]=\"Oui\",(VLOOKUP($C$54,$O$45:$Q$46,2,TRUE)*$B$7),0))","v":124.25},{"$f":"IF(Tableau1[[#This Row],[Plan]]=\"\",\"\",C13-IF(Tableau1[[#This Row],[Appareil Tendeur ?]]=\"Oui\",(VLOOKUP($C$54,$O$45:$Q$46,3,FALSE)),0))","v":7450},{"$f":"IF(Zone=2,IF(Tableau1[[#This Row],[Symbole]]=\"\",\"\",VLOOKUP(Tableau1[[#This Row],[Symbole]],Matériels!$B$3:$F$993,4,FALSE)),\"\")","v":""},{"$f":"IF(Tableau1[[#This Row],[Plan Si ZP]]=\"\",\"\",IF(Tableau1[[#This Row],[Plan Si ZP]]=Parametres!$W$59,Parametres!$U$59,IF(Tableau1[[#This Row],[Plan Si ZP]]=Parametres!$Y$59,Parametres!$X$59,IF(Tableau1[[#This Row],[Plan Si ZP]]=Parametres!$AA$59,Parametres!$Z$59,IF(Tableau1[[#This Row],[Plan Si ZP]]=Parametres!$AC$59,Parametres!$AB$59,IF(Tableau1[[#This Row],[Plan Si ZP]]=Parametres!$AE$59,Parametres!$AD$59,IF(Tableau1[[#This Row],[Plan Si ZP]]=Parametres!$AG$59,Parametres!$AF$59,IF(Tableau1[[#This Row],[Plan Si ZP]]=Parametres!$AI$59,Parametres!$AH$59,\"Erreur\"))))))))","v":""},{"$f":"IF(Tableau1[[#This Row],[Symbole]]=\"\",\"\",Tableau1[[#This Row],[Plan]]&\"_\"&Tableau1[[#This Row],[Repere]]&IF(Tableau1[[#This Row],[Iso supp]]=\"\",\"\",\"_\"&Tableau1[[#This Row],[Iso supp]]))","v":"10985_352"},{"$f":"IF(Tableau1[[#This Row],[Symbole]]=\"\",\"Non\",\"Oui\")","v":"Oui"},{"$f":"IF($C$7=\"D\",\"Non\",IF($C$7=\"G\",\"Oui\",\"Erreur\"))","v":"Non"},null,222940,2081.14,14.2052,2061.13,90.73]
["Anc 1 Pts 2",{"$f":"IF(Impression!B60=\"\",\"\",Impression!B60)","v":"30982805"},{"$f":"IF(Tableau1[[#This Row],[Symbole]]=\"\",\"\",IF(Tableau1[[#This Row],[Val Plan NZP]]=\"\",VLOOKUP(Tableau1[[#This Row],[Symbole]],Matériels!$B$3:$F$993,4,FALSE),Tableau1[[#This Row],[Val Plan NZP]]))","v":10985},{"$f":"IF(Tableau1[[#This Row],[Plan]]=\"\",\"\",VLOOKUP(Tableau1[[#This Row],[Symbole]],Matériels!$B$3:$F$993,5,FALSE))","v":352},{"$f":"IF(Résultats!L58=\"\",\"\",Résultats!L58)","v":""},{"$f":"IF(OR(Résultats!$B$51='X,Y'!O49,Résultats!$B$52='X,Y'!O49),\"Oui\",\"Non\")","v":"Oui"},{"$f":"IF(Tableau1[[#This Row],[Plan]]=\"\",\"\",B14+(120*$B$7)+IF(Tableau1[[#This Row],[Appareil Tendeur ?]]=\"Oui\",(VLOOKUP($C$54,$O$45:$Q$46,2,TRUE)*$B$7),0))","v":2205.39},{"$f":"IF(Tableau1[[#This Row],[Plan]]=\"\",\"\",C14-IF(Tableau1[[#This Row],[Appareil Tendeur ?]]=\"Oui\",(VLOOKUP($C$54,$O$45:$Q$46,3,FALSE)),0))","v":6435.7947999999997},{"$f":"IF(Zone=2,IF(Tableau1[[#This Row],[Symbole]]=\"\",\"\",VLOOKUP(Tableau1[[#This Row],[Symbole]],Matériels!$B$3:$F$993,4,FALSE)),\"\")","v":""},{"$f":"IF(Tableau1[[#This Row],[Plan Si ZP]]=\"\",\"\",IF(Tableau1[[#This Row],[Plan Si ZP]]=Parametres!$W$59,Parametres!$U$59,IF(Tableau1[[#This Row],[Plan Si ZP]]=Parametres!$Y$59,Parametres!$X$59,IF(Tableau1[[#This Row],[Plan Si ZP]]=Parametres!$AA$59,Parametres!$Z$59,IF(Tableau1[[#This Row],[Plan Si ZP]]=Parametres!$AC$59,Parametres!$AB$59,IF(Tableau1[[#This Row],[Plan Si ZP]]=Parametres!$AE$59,Parametres!$AD$59,IF(Tableau1[[#This Row],[Plan Si ZP]]=Parametres!$AG$59,Parametres!$AF$59,IF(Tableau1[[#This Row],[Plan Si ZP]]=Parametres!$AI$59,Parametres!$AH$59,\"Erreur\"))))))))","v":""},{"$f":"IF(Tableau1[[#This Row],[Symbole]]=\"\",\"\",Tableau1[[#This Row],[Plan]]&\"_\"&Tableau1[[#This Row],[Repere]]&IF(Tableau1[[#This Row],[Iso supp]]=\"\",\"\",\"_\"&Tableau1[[#This Row],[Iso supp]]))","v":"10985_352"},{"$f":"IF(Tableau1[[#This Row],[Symbole]]=\"\",\"Non\",\"Oui\")","v":"Oui"},{"$f":"IF($C$7=\"D\",\"Non\",IF($C$7=\"G\",\"Oui\",\"Erreur\"))","v":"Non"},null,223015,1705,42.5,1705,42.5]
["Anc 1 Pts 3",{"$f":"IF(Impression!B61=\"\",\"\",Impression!B61)","v":""},{"$f":"IF(Tableau1[[#This Row],[Symbole]]=\"\",\"\",IF(Tableau1[[#This Row],[Val Plan NZP]]=\"\",VLOOKUP(Tableau1[[#This Row],[Symbole]],Matériels!$B$3:$F$993,4,FALSE),Tableau1[[#This Row],[Val Plan NZP]]))","v":""},{"$f":"IF(Tableau1[[#This Row],[Plan]]=\"\",\"\",VLOOKUP(Tableau1[[#This Row],[Symbole]],Matériels!$B$3:$F$993,5,FALSE))","v":""},{"$f":"IF(Résultats!L59=\"\",\"\",Résultats!L59)","v":""},{"$f":"IF(OR(Résultats!$B$51='X,Y'!O50,Résultats!$B$52='X,Y'!O50),\"Oui\",\"Non\")","v":"Non"},{"$f":"IF(Tableau1[[#This Row],[Plan]]=\"\",\"\",B15+(120*$B$7)+IF(Tableau1[[#This Row],[Appareil Tendeur ?]]=\"Oui\",(VLOOKUP($C$54,$O$45:$Q$46,2,TRUE)*$B$7),0))","v":""},{"$f":"IF(Tableau1[[#This Row],[Plan]]=\"\",\"\",C15-IF(Tableau1[[#This Row],[Appareil Tendeur ?]]=\"Oui\",(VLOOKUP($C$54,$O$45:$Q$46,3,FALSE)),0))","v":""},{"$f":"IF(Zone=2,IF(Tableau1[[#This Row],[Symbole]]=\"\",\"\",VLOOKUP(Tableau1[[#This Row],[Symbole]],Matériels!$B$3:$F$993,4,FALSE)),\"\")","v":""},{"$f":"IF(Tableau1[[#This Row],[Plan Si ZP]]=\"\",\"\",IF(Tableau1[[#This Row],[Plan Si ZP]]=Parametres!$W$59,Parametres!$U$59,IF(Tableau1[[#This Row],[Plan Si ZP]]=Parametres!$Y$59,Parametres!$X$59,IF(Tableau1[[#This Row],[Plan Si ZP]]=Parametres!$AA$59,Parametres!$Z$59,IF(Tableau1[[#This Row],[Plan Si ZP]]=Parametres!$AC$59,Parametres!$AB$59,IF(Tableau1[[#This Row],[Plan Si ZP]]=Parametres!$AE$59,Parametres!$AD$59,IF(Tableau1[[#This Row],[Plan Si ZP]]=Parametres!$AG$59,Parametres!$AF$59,IF(Tableau1[[#This Row],[Plan Si ZP]]=Parametres!$AI$59,Parametres!$AH$59,\"Erreur\"))))))))","v":""},{"$f":"IF(Tableau1[[#This Row],[Symbole]]=\"\",\"\",Tableau1[[#This Row],[Plan]]&\"_\"&Tableau1[[#This Row],[Repere]]&IF(Tableau1[[#This Row],[Iso supp]]=\"\",\"\",\"_\"&Tableau1[[#This Row],[Iso supp]]))","v":""},{"$f":"IF(Tableau1[[#This Row],[Symbole]]=\"\",\"Non\",\"Oui\")","v":"Non"},"Non"]
["Anc 2 Pts 1",{"$f":"IF(Impression!F59=\"\",\"\",Impression!F59)","v":""},{"$f":"IF(Tableau1[[#This Row],[Symbole]]=\"\",\"\",IF(Tableau1[[#This Row],[Val Plan NZP]]=\"\",VLOOKUP(Tableau1[[#This Row],[Symbole]],Matériels!$B$3:$F$993,4,FALSE),Tableau1[[#This Row],[Val Plan NZP]]))","v":""},{"$f":"IF(Tableau1[[#This Row],[Plan]]=\"\",\"\",VLOOKUP(Tableau1[[#This Row],[Symbole]],Matériels!$B$3:$F$993,5,FALSE))","v":""},{"$f":"IF(Résultats!L60=\"\",\"\",Résultats!L60)","v":""},{"$f":"IF(OR(Résultats!$C$51='X,Y'!O48,Résultats!$C$52='X,Y'!O48),\"Oui\",\"Non\")","v":"Non"},{"$f":"IF(Tableau1[[#This Row],[Plan]]=\"\",\"\",G13+(120*$G$7)+IF(Tableau1[[#This Row],[Appareil Tendeur ?]]=\"Oui\",(VLOOKUP($C$55,$O$45:$Q$46,2,TRUE)*$G$7),0))","v":""},{"$f":"IF(Tableau1[[#This Row],[Plan]]=\"\",\"\",H13-IF(Tableau1[[#This Row],[Appareil Tendeur ?]]=\"Oui\",(VLOOKUP($C$55,$O$45:$Q$46,3,FALSE)),0))","v":""},{"$f":"IF(Zone=2,IF(Tableau1[[#This Row],[Symbole]]=\"\",\"\",VLOOKUP(Tableau1[[#This Row],[Symbole]],Matériels!$B$3:$F$993,4,FALSE)),\"\")","v":""},{"$f":"IF(Tableau1[[#This Row],[Plan Si ZP]]=\"\",\"\",IF(Tableau1[[#This Row],[Plan Si ZP]]=Parametres!$W$59,Parametres!$U$59,IF(Tableau1[[#This Row],[Plan Si ZP]]=Parametres!$Y$59,Parametres!$X$59,IF(Tableau1[[#This Row],[Plan Si ZP]]=Parametres!$AA$59,Parametres!$Z$59,IF(Tableau1[[#This Row],[Plan Si ZP]]=Parametres!$AC$59,Parametres!$AB$59,IF(Tableau1[[#This Row],[Plan Si ZP]]=Parametres!$AE$59,Parametres!$AD$59,IF(Tableau1[[#This Row],[Plan Si ZP]]=Parametres!$AG$59,Parametres!$AF$59,IF(Tableau1[[#This Row],[Plan Si ZP]]=Parametres!$AI$59,Parametres!$AH$59,\"Erreur\"))))))))","v":""},{"$f":"IF(Tableau1[[#This Row],[Symbole]]=\"\",\"\",Tableau1[[#This Row],[Plan]]&\"_\"&Tableau1[[#This Row],[Repere]]&IF(Tableau1[[#This Row],[Iso supp]]=\"\",\"\",\"_\"&Tableau1[[#This Row],[Iso supp]]))","v":""},{"$f":"IF(Tableau1[[#This Row],[Symbole]]=\"\",\"Non\",\"Oui\")","v":"Non"},{"$f":"IF($H$7=\"D\",\"Non\",IF($H$7=\"G\",\"Oui\",\"Erreur\"))","v":"Oui"},null,"Point n°1"]
["Anc 2 Pts 2",{"$f":"IF(Impression!F60=\"\",\"\",Impression!F60)","v":""},{"$f":"IF(Tableau1[[#This Row],[Symbole]]=\"\",\"\",IF(Tableau1[[#This Row],[Val Plan NZP]]=\"\",VLOOKUP(Tableau1[[#This Row],[Symbole]],Matériels!$B$3:$F$993,4,FALSE),Tableau1[[#This Row],[Val Plan NZP]]))","v":""},{"$f":"IF(Tableau1[[#This Row],[Plan]]=\"\",\"\",VLOOKUP(Tableau1[[#This Row],[Symbole]],Matériels!$B$3:$F$993,5,FALSE))","v":""},{"$f":"IF(Résultats!L61=\"\",\"\",Résultats!L61)","v":""},{"$f":"IF(OR(Résultats!$C$51='X,Y'!O49,Résultats!$C$52='X,Y'!O49),\"Oui\",\"Non\")","v":"Non"},{"$f":"IF(Tableau1[[#This Row],[Plan]]=\"\",\"\",G14+(120*$G$7)+IF(Tableau1[[#This Row],[Appareil Tendeur ?]]=\"Oui\",(VLOOKUP($C$55,$O$45:$Q$46,2,TRUE)*$G$7),0))","v":""},{"$f":"IF(Tableau1[[#This Row],[Plan]]=\"\",\"\",H14-IF(Tableau1[[#This Row],[Appareil Tendeur ?]]=\"Oui\",(VLOOKUP($C$55,$O$45:$Q$46,3,FALSE)),0))","v":""},{"$f":"IF(Zone=2,IF(Tableau1[[#This Row],[Symbole]]=\"\",\"\",VLOOKUP(Tableau1[[#This Row],[Symbole]],Matériels!$B$3:$F$993,4,FALSE)),\"\")","v":""},{"$f":"IF(Tableau1[[#This Row],[Plan Si ZP]]=\"\",\"\",IF(Tableau1[[#This Row],[Plan Si ZP]]=Parametres!$W$59,Parametres!$U$59,IF(Tableau1[[#This Row],[Plan Si ZP]]=Parametres!$Y$59,Parametres!$X$59,IF(Tableau1[[#This Row],[Plan Si ZP]]=Parametres!$AA$59,Parametres!$Z$59,IF(Tableau1[[#This Row],[Plan Si ZP]]=Parametres!$AC$59,Parametres!$AB$59,IF(Tableau1[[#This Row],[Plan Si ZP]]=Parametres!$AE$59,Parametres!$AD$59,IF(Tableau1[[#This Row],[Plan Si ZP]]=Parametres!$AG$59,Parametres!$AF$59,IF(Tableau1[[#This Row],[Plan Si ZP]]=Parametres!$AI$59,Parametres!$AH$59,\"Erreur\"))))))))","v":""},{"$f":"IF(Tableau1[[#This Row],[Symbole]]=\"\",\"\",Tableau1[[#This Row],[Plan]]&\"_\"&Tableau1[[#This Row],[Repere]]&IF(Tableau1[[#This Row],[Iso supp]]=\"\",\"\",\"_\"&Tableau1[[#This Row],[Iso supp]]))","v":""},{"$f":"IF(Tableau1[[#This Row],[Symbole]]=\"\",\"Non\",\"Oui\")","v":"Non"},{"$f":"IF($H$7=\"D\",\"Non\",IF($H$7=\"G\",\"Oui\",\"Erreur\"))","v":"Oui"},null,"Point n°2"]
["Anc 2 Pts 3",{"$f":"IF(Impression!F61=\"\",\"\",Impression!F61)","v":""},{"$f":"IF(Tableau1[[#This Row],[Symbole]]=\"\",\"\",IF(Tableau1[[#This Row],[Val Plan NZP]]=\"\",VLOOKUP(Tableau1[[#This Row],[Symbole]],Matériels!$B$3:$F$993,4,FALSE),Tableau1[[#This Row],[Val Plan NZP]]))","v":""},{"$f":"IF(Tableau1[[#This Row],[Plan]]=\"\",\"\",VLOOKUP(Tableau1[[#This Row],[Symbole]],Matériels!$B$3:$F$993,5,FALSE))","v":""},{"$f":"IF(Résultats!L62=\"\",\"\",Résultats!L62)","v":""},{"$f":"IF(OR(Résultats!$C$51='X,Y'!O50,Résultats!$C$52='X,Y'!O50),\"Oui\",\"Non\")","v":"Non"},{"$f":"IF(Tableau1[[#This Row],[Plan]]=\"\",\"\",G15+(120*$G$7)+IF(Tableau1[[#This Row],[Appareil Tendeur ?]]=\"Oui\",(VLOOKUP($C$55,$O$45:$Q$46,2,TRUE)*$G$7),0))","v":""},{"$f":"IF(Tableau1[[#This Row],[Plan]]=\"\",\"\",H15-IF(Tableau1[[#This Row],[Appareil Tendeur ?]]=\"Oui\",(VLOOKUP($C$55,$O$45:$Q$46,3,FALSE)),0))","v":""},{"$f":"IF(Zone=2,IF(Tableau1[[#This Row],[Symbole]]=\"\",\"\",VLOOKUP(Tableau1[[#This Row],[Symbole]],Matériels!$B$3:$F$993,4,FALSE)),\"\")","v":""},{"$f":"IF(Tableau1[[#This Row],[Plan Si ZP]]=\"\",\"\",IF(Tableau1[[#This Row],[Plan Si ZP]]=Parametres!$W$59,Parametres!$U$59,IF(Tableau1[[#This Row],[Plan Si ZP]]=Parametres!$Y$59,Parametres!$X$59,IF(Tableau1[[#This Row],[Plan Si ZP]]=Parametres!$AA$59,Parametres!$Z$59,IF(Tableau1[[#This Row],[Plan Si ZP]]=Parametres!$AC$59,Parametres!$AB$59,IF(Tableau1[[#This Row],[Plan Si ZP]]=Parametres!$AE$59,Parametres!$AD$59,IF(Tableau1[[#This Row],[Plan Si ZP]]=Parametres!$AG$59,Parametres!$AF$59,IF(Tableau1[[#This Row],[Plan Si ZP]]=Parametres!$AI$59,Parametres!$AH$59,\"Erreur\"))))))))","v":""},{"$f":"IF(Tableau1[[#This Row],[Symbole]]=\"\",\"\",Tableau1[[#This Row],[Plan]]&\"_\"&Tableau1[[#This Row],[Repere]]&IF(Tableau1[[#This Row],[Iso supp]]=\"\",\"\",\"_\"&Tableau1[[#This Row],[Iso supp]]))","v":""},{"$f":"IF(Tableau1[[#This Row],[Symbole]]=\"\",\"Non\",\"Oui\")","v":"Non"},"Oui",null,"Point n°3"]
[]
["Appareil Tendeur"]
["Ancrage","Symbole","Plan","Repere","Pt X","Pt Y","Dessin","Symetrie","Nom du bloc","Pts Ancrage"]
["N°1",{"$f":"IF(Impression!$B$56=\"\",\"\",Impression!$B$56)","v":"10984102"},{"$f":"IF(B54=\"\",\"\",VLOOKUP(B54,Matériels!$B$3:$F$993,4,FALSE))","v":222940},{"$f":"IF(C54=\"\",\"\",VLOOKUP(B54,Matériels!$B$3:$F$993,5,FALSE))","v":222942},{"$f":"IF(J54=$O$48,B13+(120*$B$7),IF(J54=$O$49,B14+(120*$B$7),IF(J54=$O$50,B15+(120*$B$7),\"\")))","v":124.25},{"$f":"IF(J54=$O$48,C13,IF(J54=$O$49,C14,IF(J54=$O$50,C15,\"\")))","v":6450},{"$f":"IF(B54=\"\",\"Non\",\"Oui\")","v":"Oui"},{"$f":"IF($C$7=\"D\",\"Non\",IF($C$7=\"G\",\"Oui\",\"Erreur\"))","v":"Non"},{"$f":"IF(B54=\"\",\"\",C54&\"_\"&D54)","v":"222940_222942"},{"$f":"IF(B54=\"\",\"\",PtATa1)","v":"Point n°2"},"AT n1"]
["N°2",{"$f":"IF(Impression!$F$56=\"\",\"\",Impression!$F$56)","v":""},{"$f":"IF(B55=\"\",\"\",VLOOKUP(B55,Matériels!$B$3:$F$993,4,FALSE))","v":""},{"$f":"IF(C55=\"\",\"\",VLOOKUP(B55,Matériels!$B$3:$F$993,5,FALSE))","v":""},{"$f":"IF(J55=$O$48,G13+(120*$G$7),IF(J55=$O$49,G14+(120*$G$7),IF(J55=$O$50,G15+(120*$G$7),\"\")))","v":""},{"$f":"IF(J55=$O$48,H13,IF(J55=$O$49,H14,IF(J55=$O$50,H15,\"\")))","v":""},{"$f":"IF(B55=\"\",\"Non\",\"Oui\")","v":"Non"},{"$f":"IF($H$7=\"D\",\"Non\",IF($H$7=\"G\",\"Oui\",\"Erreur\"))","v":"Oui"},{"$f":"IF(B55=\"\",\"\",C55&\"_\"&D55)","v":""},{"$f":"IF(B55=\"\",\"\",PtATb1)","v":""},"AT n1"]
["N°1",{"$f":"IF(Impression!$B$57=\"\",\"\",Impression!$B$57)","v":""},{"$f":"IF(B56=\"\",\"\",VLOOKUP(B56,Matériels!$B$3:$F$993,4,FALSE))","v":""},{"$f":"IF(C56=\"\",\"\",VLOOKUP(B56,Matériels!$B$3:$F$993,5,FALSE))","v":""},{"$f":"IF(J56=$O$48,B13+(120*$B$7),IF(J56=$O$49,B14+(120*$B$7),IF(J56=$O$50,B15+(120*$B$7),\"\")))","v":""},{"$f":"IF(J56=$O$48,C13,IF(J56=$O$49,C14,IF(J56=$O$50,C15,\"\")))","v":""},{"$f":"IF(B56=\"\",\"Non\",\"Oui\")","v":"Non"},{"$f":"IF($C$7=\"D\",\"Non\",IF($C$7=\"G\",\"Oui\",\"Erreur\"))","v":"Non"},{"$f":"IF(B56=\"\",\"\",C56&\"_\"&D56)","v":""},{"$f":"IF(B56=\"\",\"\",PtATa2)","v":""},"AT n2"]
["N°2",{"$f":"IF(Impression!$F$57=\"\",\"\",Impression!$F$57)","v":""},{"$f":"IF(B57=\"\",\"\",VLOOKUP(B57,Matériels!$B$3:$F$993,4,FALSE))","v":""},{"$f":"IF(C57=\"\",\"\",VLOOKUP(B57,Matériels!$B$3:$F$993,5,FALSE))","v":""},{"$f":"IF(J57=$O$48,G13+(120*$G$7),IF(J57=$O$49,G14+(120*$G$7),IF(J57=$O$50,G15+(120*$G$7),\"\")))","v":""},{"$f":"IF(J57=$O$48,H13,IF(J57=$O$49,H14,IF(J57=$O$50,H15,\"\")))","v":""},{"$f":"IF(B57=\"\",\"Non\",\"Oui\")","v":"Non"},{"$f":"IF($H$7=\"D\",\"Non\",IF($H$7=\"G\",\"Oui\",\"Erreur\"))","v":"Oui"},{"$f":"IF(B57=\"\",\"\",C57&\"_\"&D57)","v":""},{"$f":"IF(B57=\"\",\"\",PtATb2)","v":""},"AT n2"]
[]
[]
["Cotation","Ancrage 1",null,"Ancrage 2"]
[null,"Point X","Point Y","Point X","Point Y"]
["Point n°1",{"$f":"IF(C62=\"\",\"\",B13)","v":4.25},{"$f":"IF(OR(A62=$J$54,A62=$J$56),C13,C13)","v":7450},{"$f":"IF(E62=\"\",\"\",G13)","v":""},{"$f":"IF(OR(A62=$J$55,A62=$J$57),IF(OR(H48=$C$62,H48=$C$63,H48=$C$64),\"\",H13),IF(OR(H13=$C$62,H13=$C$63,H13=$C$64),\"\",H13))","v":""}]
["Point n°2",{"$f":"IF(C63=\"\",\"\",B14)","v":4.25},{"$f":"IF(OR(A63=$J$54,A63=$J$56),C14,C14)","v":6450},{"$f":"IF(E63=\"\",\"\",G14)","v":""},{"$f":"IF(OR(A63=$J$55,A63=$J$57),IF(OR(H49=$C$62,H49=$C$63,H49=$C$64),\"\",H14),IF(OR(H14=$C$62,H14=$C$63,H14=$C$64),\"\",H14))","v":""}]
["Point n°3",{"$f":"IF(C64=\"\",\"\",B15)","v":""},{"$f":"IF(OR(A64=$J$54,A64=$J$56),C15,C15)","v":""},"",{"$f":"IF(OR(A64=$J$55,A64=$J$57),IF(OR(H50=$C$62,H50=$C$63,H50=$C$64),\"\",H15),IF(OR(H15=$C$62,H15=$C$63,H15=$C$64),\"\",H15))","v":""}]
["Piece n°1",{"$f":"IF(C65=\"\",\"\",B9)","v":""},{"$f":"IF(C9=$C$13,\"\",IF(C9=$C$14,\"\",IF(C9=$C$15,\"\",C9)))","v":""},{"$f":"IF(E65=\"\",\"\",G9)","v":""},{"$f":"IF(H9=$H$13,\"\",IF(H9=$H$14,\"\",IF(OR(H9=$H$15,H9=$C$65,H9=$C$66,H9=$C$67,H9=$C$68,H9=$C$62,H9=$C$63,H9=$C$64),\"\",H9)))","v":""}]
["Piece n°2",{"$f":"IF(C66=\"\",\"\",B10)","v":""},{"$f":"IF(C10=$C$13,\"\",IF(C10=$C$14,\"\",IF(C10=$C$15,\"\",C10)))","v":""},{"$f":"IF(E66=\"\",\"\",G10)","v":""},{"$f":"IF(H10=$H$13,\"\",IF(H10=$H$14,\"\",IF(OR(H10=$H$15,H10=$C$65,H10=$C$66,H10=$C$67,H10=$C$68,H10=$C$62,H10=$C$63,H10=$C$64),\"\",H10)))","v":""}]
["Piece n°3",{"$f":"IF(C67=\"\",\"\",B11)","v":""},"","",""]
["Piece n°4",{"$f":"IF(C68=\"\",\"\",B12)","v":""},"","",""]
[null,null,null,null,null,null,null,null,null,"Ancrage 1","Ancrage 2",null,"Cas","Rigide","Cable",null,"Api","1 Etrier","2 Etriers"]
["Block Dynamique","Dessin","Orientation","Angle ?","Angle","Attribut","Resultat",null,"Signe :",{"$f":"IF(Q13=\"NON\",IF(C7=\"D\",IF(B72=\"Non\",-1,IF(B72=\"Oui\",1,\"Erreur\")),IF(C7=\"G\",IF(B72=\"Non\",1,IF(B72=\"Oui\",-1,\"Erreur\")))),IF(Q13<>\"NON\",IF(C7=\"D\",-1,IF(C7=\"G\",1,\"Erreur\"))))","v":-1},{"$f":"IF(Y13=\"NON\",IF(H7=\"D\",IF(B74=\"Non\",-1,IF(B74=\"Oui\",1,\"Erreur\")),IF(H7=\"G\",IF(B74=\"Non\",1,IF(B74=\"Oui\",-1,\"Erreur\")))),IF(Y13<>\"NON\",IF(H7=\"D\",-1,IF(H7=\"G\",1,\"Erreur\"))))","v":1},null,"Gauche",-1,1,null,"Apns","1 hauban","2 haubans"]
["Etrier 1 Massif 1",{"$f":"IF(OR(A8=\"\",A8=\"Aucun\"),\"Non\",\"Oui\")","v":"Oui"},{"$f":"IF(B71=\"Non\",\"\",IF($C$7=\"D\",\"Gauche\",\"Droite\"))","v":"Gauche"},"Angle1",{"$f":"IF(B72=\"Non\",IF($Q$13<>\"NON\",-B7*Q22,Q22)*J70,IF(B72=\"Non\",\"\",IF($S$13<>\"NON\",-B7*IF(OR(N3=\"Acn\",N3=\"Apns\"),Q22,$S$22),-IF(OR(N3=\"Acn\",N3=\"Apns\"),Q22,$S$22)))*J70)","v":0.73776143792607163},"Visibilité1",{"$f":"IF(B71=\"Non\",\"\",IF(B72=\"Non\",IF(N3=\"Apns\",R70,R69),IF(N3=\"Apns\",S70,S69)))","v":"2 Etriers"},{"$f":"DEGREES(E71)","v":42.27061668066677},null,null,null,null,"Droite",1,-1]
["Etrier 2 Massif 1",{"$f":"IF(Résultats!B9>=2,\"Oui\",\"Non\")","v":"Oui"},{"$f":"IF(B72=\"Non\",\"\",IF($C$7=\"D\",\"Gauche\",\"Droite\"))","v":"Gauche"},"Angle2",{"$f":"IF(B71=\"Non\",IF(B72=\"Non\",\"\",IF($S$13<>\"NON\",-B7*$S$22,-$S$22))*J70,IF($Q$13<>\"NON\",-B7*IF(OR(N3=\"Acn\",N3=\"Apns\"),$S$22,$Q$22),IF(OR(N3=\"Acn\",N3=\"Apns\"),$S$22,$Q$22))*J70)*IF(AND(Q13<>\"NON\",B72=\"Oui\"),-1,1)","v":-0.79404164871559557},null,null,{"$f":"DEGREES(E72)","v":-45.495235229013133},null,null,null,null,"2 Gauche","-1 et 1",-1]
["Etrier 1 Massif 2",{"$f":"IF(OR(F8=\"\",F8=\"Aucun\"),\"Non\",\"Oui\")","v":"Non"},{"$f":"IF(B73=\"Non\",\"\",IF($H$7=\"D\",\"Gauche\",\"Droite\"))","v":""},"Angle1",{"$f":"IF(B73=\"Non\",\"\",IF(B74=\"Non\",IF($Y$13<>\"NON\",-G7*Y22,Y22)*K70,IF(B74=\"Non\",\"\",IF($AA$13<>\"NON\",-G7*IF(OR(N4=\"Acn\",N4=\"Apns\"),$Y$22,$AA$22),-IF(OR(N4=\"Acn\",N4=\"Apns\"),$Y$22,$AA$22)))*K70))","v":""},"Visibilité1",{"$f":"IF(B73=\"Non\",\"\",IF(B74=\"Non\",IF(N4=\"Apns\",R70,R69),IF(N4=\"Apns\",S70,S69)))","v":""},{"$f":"DEGREES(E73)","v":{"$error":"#VALUE!"}},null,null,null,null,"2 Droite","1 et -1",1]
["Etrier 2 Massif 2",{"$f":"IF(Résultats!C9>=2,\"Oui\",\"Non\")","v":"Non"},{"$f":"IF(B74=\"Non\",\"\",IF($H$7=\"D\",\"Gauche\",\"Droite\"))","v":""},"Angle2",{"$f":"IF(B74=\"Non\",\"\",IF(B73=\"Non\",IF(B74=\"Non\",\"\",IF($AA$13<>\"NON\",-G7*$AA$22,-$AA$22))*K70,IF($Y$13<>\"NON\",-G7*IF(OR(N4=\"Acn\",N4=\"Apns\"),AA22,Y22),IF(OR(N4=\"Acn\",N4=\"Apns\"),AA22,Y22))*K70)*IF(AND(Y13<>\"NON\",B74=\"Oui\"),-1,1))","v":""},null,null,{"$f":"DEGREES(E74)","v":{"$error":"#VALUE!"}}]
[]
["Hauban Rig. Anc 1 - 1",{"$f":"IF(P22<>\"Rigide\",\"Non\",\"Oui\")","v":"Oui"},{"$f":"IF(C71=\"\",\"\",C71)","v":"Gauche"},null,{"$f":"IF(B76=\"Non\",\"\",$Q$22)","v":0.79404164871559557}]
["Hauban Rig. Anc 1 - 2",{"$f":"IF(R22<>\"Rigide\",\"Non\",\"Oui\")","v":"Oui"},{"$f":"IF(C72=\"\",\"\",C72)","v":"Gauche"},null,{"$f":"IF(B77=\"Non\",\"\",$S$22)","v":0.73776143792607163}]
["Hauban Rig. Anc 2 - 1",{"$f":"IF(X22<>\"Rigide\",\"Non\",\"Oui\")","v":"Non"},"",null,{"$f":"IF(B78=\"Non\",\"\",$Y$22)","v":""}]
["Hauban Rig. Anc 2 - 2",{"$f":"IF(Z22<>\"Rigide\",\"Non\",\"Oui\")","v":"Non"},"",null,{"$f":"IF(B79=\"Non\",\"\",$AA$22)","v":""}]
[]
["Si le support est un JHE et qu'il correspond à un support commandable alors insert un bloc",null,null,null,null,null,null,null,null,"Visibilité1"]
["Insertion JHE ?",{"$f":"IF(Résultats!K88=\"JHE\",\"Oui\",\"Non\")","v":"Non"},null,"Insertion PR ?",{"$f":"IF(Résultats!K88=\"PR\",\"Oui\",\"Non\")","v":"Non"},null,null,null,"JHE280A L",{"$f":"HLOOKUP($B$84,K82:T83,2,TRUE)","v":{"$error":"#N/A"}},300,1600,3000,4920,6740,8610,10480,12350,13880]
["Bloc JHE","Distance1","Distance2","Visibilité1","Insert X","Insert Y","Chemin",null,null,null,1,2,3,4,5,6,7,8,9,10]
[{"$f":"IF(AND(Résultats!$J$87<>\"Aucun\",Résultats!$K$88=\"JHE\"),Résultats!J87&\" \"&VLOOKUP(Résultats!$J$87,Résultats!F86:G89,2,FALSE),\"\")","v":""},{"$f":"IF(A84=\"\",\"\",Résultats!$K$87*1000)","v":""},{"$f":"IF($A$84<>\"\",ABS(CoteA+Arase-(VLOOKUP(Résultats!$J$87,Résultats!$F$86:$H$89,3,FALSE)-Résultats!$K$87))*1000,\"\")","v":""},{"$f":"IF(A84=\"\",\"\",VLOOKUP(A84,I82:J88,2,FALSE))","v":""},{"$f":"IF(A84=\"\",\"\",0)","v":""},{"$f":"IF(A84<>\"\",(Hsupport)*1000,\"\")","v":""},{"$f":"IF(A84<>\"\",Q6,\"\")","v":""},null,"JHE280B N",{"$f":"HLOOKUP($B$84,K84:T85,2,TRUE)","v":{"$error":"#N/A"}},300,2100,4000,5920,7740,9610,11480,13350,14880]
["Bloc PR","Distance1","Distance2","Visibilité1","Insert X","Insert Y","Chemin",null,null,null,1,2,3,4,5,6,7,8,9,10]
[{"$f":"IF(AND(Résultats!$J$87<>\"Aucun\",$E$82=\"Oui\"),\"220085_PRdyn\",\"\")","v":""},null,null,{"$f":"IF(AND(Résultats!$J$87<>\"Aucun\",$E$82=\"Oui\"),Résultats!J87,\"\")","v":""},{"$f":"IF(A86=\"\",\"\",0)","v":""},{"$f":"IF(A86<>\"\",(-CoteA)*1000,\"\")","v":""},{"$f":"IF(A86<>\"\",Q6,\"\")","v":""},null,"JHE320A O",{"$f":"HLOOKUP($B$84,K86:T87,2,TRUE)","v":{"$error":"#N/A"}},300,1800,3400,5000,6920,8740,10610,12480,14350,15880]
["Si Massif Ae","Visibilite1","Angle1","Angle2","inversion","Dessin ?",null,null,null,null,1,2,3,4,5,6,7,8,9,10]
["Massif 1",{"$f":"Impression!B10&\" \"&Impression!C10","v":"9 Api"},{"$f":"IF(E71=\"\",1,IF(C7=\"D\",E71,-E71))","v":0.73776143792607163},{"$f":"IF(E72=\"\",1,IF(C7=\"D\",-E72,E72))","v":0.79404164871559557},{"$f":"IF(C7=\"G\",\"G\",\"D\")","v":"D"},{"$f":"Résultats!B70","v":"NON"},null,null,"JHE320B O",{"$f":"HLOOKUP($B$84,K88:T89,2,TRUE)","v":{"$error":"#N/A"}},300,1800,3400,5000,6920,8740,10610,12480,14350,15880]
["Massif 2",{"$f":"Impression!F10&\" \"&Impression!G10","v":" "},{"$f":"IF(E89=\"G\",-E73,-E73)","v":{"$error":"#VALUE!"}},{"$f":"IF(E74=\"\",1,IF(E89=\"G\",-E74,E74))","v":1},{"$f":"IF(H7=\"G\",\"G\",\"D\")","v":"G"},{"$f":"Résultats!C70","v":"NON"},null,null,null,null,1,2,3,4,5,6,7,8,9,10]
[]
["Bloc Potelet","Consultation1","Dessin ?",null,"Insert X","Insert Y","Chemin"]
[{"$f":"IF(C92=\"oui\",IF(Parametres!AU58=\"Oui\",\"221525_Profil_dyn\",\"221500_Profil_dyn\"),\"\")","v":""},{"$f":"IF(LgPot=\"\",\"\",LgPot)","v":""},{"$f":"IF(B92=\"\",\"\",\"Oui\")","v":""},null,{"$f":"IF(A92=\"\",\"\",B2)","v":""},{"$f":"IF(A92=\"\",\"\",A3*1000)","v":""},{"$f":"IF(A92<>\"\",Q6,\"\")","v":""}]
[]
["Bloc Chaine feeder","Visibilité1","Dessin ?",null,"Insert X","Insert Y","Chemin"]
[{"$f":"IF(C95=\"oui\",Parametres!BA68,\"\")","v":""},{"$f":"IF(Parametres!BA69=\"\",\"\",Parametres!BA69)","v":""},{"$f":"IF(B95=\"\",\"\",\"Oui\")","v":""},null,{"$f":"IF(A95=\"\",\"\",B2)","v":""},{"$f":"IF(A95=\"\",\"\",A3*1000+IF(B92<>\"\",B92,0)+IF(Parametres!BA52=\"Oui\",35,-50)+IF(LEFT(A92,6)=\"221525\",-800,0))","v":""},{"$f":"IF(A95<>\"\",Q6,\"\")","v":""}]
["Bloc Console feeder","Visibilité1","Dessin ?",null,"Insert X","Insert Y","Chemin"]
[{"$f":"IF(C97=\"oui\",\"228000_profil\",\"\")","v":""},null,{"$f":"IF(Parametres!BA52=\"Non\",\"\",Parametres!BA52)","v":""},null,{"$f":"IF(A97=\"\",\"\",B2)","v":""},{"$f":"IF(A97=\"\",\"\",A3*1000)","v":""},{"$f":"IF(A97<>\"\",Q6,\"\")","v":""}]
[]
["Bloc Passage CdPA","Visibilité1","Dessin ?",null,"Insert X","Insert Y","Chemin"]
[{"$f":"IF(C100=\"Oui\",\"215640_face\",\"\")","v":""},null,{"$f":"Parametres!AV73","v":"Non"},null,{"$f":"IF(A100=\"\",\"\",$B$2+50)","v":""},{"$f":"IF(A100=\"\",\"\",Parametres!AU73*1000)","v":""},{"$f":"IF(A100<>\"\",$Q$6,\"\")","v":""}]
[{"$f":"IF(C101=\"Oui\",\"215640_face\",\"\")","v":""},null,{"$f":"Parametres!AV74","v":"Non"},null,{"$f":"IF(A101=\"\",\"\",$B$2+50)","v":""},{"$f":"IF(A101=\"\",\"\",Parametres!AU74*1000)","v":""},{"$f":"IF(A101<>\"\",$Q$6,\"\")","v":""}]
[{"$f":"IF(C102=\"Oui\",\"215640_face\",\"\")","v":""},null,{"$f":"Parametres!AV75","v":"Non"},null,"",{"$f":"IF(A102=\"\",\"\",Parametres!AU75*1000)","v":""},""]

{"sheet":"Résultats","index":8,"n_rows":109,"n_cols":37,"rows_kept":109,"cut":false,"hidden":true,"merged":[[1,32,1,33],[78,20,78,23],[78,17,78,18],[63,12,63,14],[65,4,73,4],[74,4,82,4],[13,3,16,3],[37,10,39,10],[40,10,42,10],[12,10,15,10],[24,10,25,10],[16,10,16,11],[6,14,10,14],[6,17,10,17],[85,2,88,3],[84,9,84,10],[63,6,63,8],[63,9,63,11],[54,7,54,11],[59,6,61,6],[56,6,58,6],[19,1,19,2],[26,1,26,2],[33,1,33,2],[27,7,27,8],[40,7,42,7],[28,7,32,7],[33,7,36,7],[37,7,39,7],[17,10,19,10],[20,10,21,10],[22,10,23,10],[60,0,60,2],[27,10,27,11],[28,10,32,10],[0,21,0,25],[37,14,39,14],[37,17,39,17],[24,14,25,14],[24,17,25,17],[11,17,11,18],[12,14,15,14],[12,17,15,17],[16,14,16,15],[16,17,16,18],[17,14,19,14],[17,17,19,17],[23,21,23,25],[24,22,24,23],[33,14,36,14],[33,17,36,17],[28,17,32,17],[8,21,8,25],[20,14,21,14],[20,17,21,17],[22,14,23,14],[22,17,23,17],[11,14,11,15],[16,21,16,25],[0,14,0,19],[1,14,1,15],[1,7,1,8],[0,7,0,12],[27,14,27,15],[27,17,27,18],[20,7,21,7],[22,7,23,7],[24,7,25,7],[3,7,5,7],[6,7,10,7],[11,7,11,8],[12,7,15,7],[16,7,16,8],[17,7,19,7],[2,14,2,16],[2,7,2,9],[2,10,2,12],[3,10,5,10],[6,10,10,10],[11,10,11,11],[2,17,2,19],[3,14,5,14],[3,17,5,17],[91,8,97,8],[98,8,104,8],[69,21,69,23],[69,25,69,27],[36,21,36,25],[40,14,42,14],[40,17,42,17],[47,19,47,20],[24,26,25,26],[26,26,27,26],[47,14,47,15],[47,17,47,18],[48,8,48,9],[48,10,48,11],[47,7,47,11],[48,7,49,7],[28,14,32,14],[33,10,36,10],[24,24,24,25],[30,21,30,25],[31,22,31,23],[31,24,31,25]]}
[{"$f":"IF(Electrification=\"vingtcinq\",\"25 kV\",IF(OR(Electrification=\"Millecinq\",Electrification=\"Millecinq2\"),\"1500 V\",IF(Electrification=\"Autre\",\"Autre\",\"Erreur Calculs\")))","v":"1500 V"},null,"Support ",{"$f":"Support","v":"HEA300"},"Orienté ?",{"$f":"IF(Orientationb=\"Noriente\",\"N\",\"O\")","v":"N"},null,"Ancrage N°1",null,null,null,null,null,null,"Ancrage N°2",null,null,null,null,null,null,"Longueur Hauban Ancrage Normaux",null,null,null,null,null,null,null,null,null,"Feuil6",33,34,35,36]
[null,null,null,null,null,null,null,"Tension Méca",null,{"$f":"B5","v":90.8},null,null,null,null,"Tension Méca",null,{"$f":"C5","v":0},null,null,null,null,null,"Ancrage 1","Ancrage 2","Jumelles 1","Jumelles 2",null,null,null,null,null,null,"Dénivelé ancrage"]
[null,"Ancrage 1","Ancrage 2",null,null,null,null,"Câble",null,null,"Rigide",null,null,null,"Câble",null,null,"Rigide",null,null,null,"Hauteur 1",{"$f":"IFERROR(IF($M$9=37530,HLOOKUP(B14-AraseM1,'L Haubans'!$B$2:$M$4,3,TRUE),IF($M$9=37550,HLOOKUP(B14-AraseM1,'L Haubans'!$B$2:$M$6,5,TRUE),\"Erreur\")),\"\")","v":"08828752"},{"$f":"IFERROR(IF($T$9=37530,HLOOKUP(C14-AraseM2,'L Haubans'!$B$2:$M$4,3,TRUE),IF($T$9=37550,HLOOKUP(C14-AraseM2,'L Haubans'!$B$2:$M$6,5,TRUE),\"Erreur\")),\"\")","v":""},{"$f":"IFERROR(HLOOKUP(B14-AraseM1,'L Haubans'!$B$2:$M$8,7,TRUE),\"\")","v":"00986723"},{"$f":"IFERROR(HLOOKUP(C14-AraseM2,'L Haubans'!$B$2:$M$8,7,TRUE),\"\")","v":""}]
["Deuxieme Ancrage ?",null,{"$f":"IF(Calculs!J6=\"Face\",\"O\",\"N\")","v":"N"},null,null,null,null,"Piece de Reglage","Nombre",{"$f":"HLOOKUP($J$2,Parametres!$K$2:$Y$25,2,TRUE)","v":2},"Piece de Reglage","Nombre",{"$f":"HLOOKUP($J$2,Parametres!$AB$2:$AO$25,2,TRUE)","v":2},null,"Piece de Reglage","Nombre",{"$f":"HLOOKUP($Q$2,Parametres!$K$2:$Y$25,2,TRUE)","v":1},"Piece de Reglage","Nombre",{"$f":"HLOOKUP($Q$2,Parametres!$AB$2:$AO$25,2,TRUE)","v":1},null,"Hauteur 2",{"$f":"IFERROR(IF($M$9=37530,HLOOKUP(B15-AraseM1,'L Haubans'!$B$2:$M$4,3,TRUE),IF($M$9=37550,HLOOKUP(B15-AraseM1,'L Haubans'!$B$2:$M$6,5,TRUE),\"Erreur\")),\"\")","v":"08828752"},{"$f":"IFERROR(IF($T$9=37530,HLOOKUP(C15-AraseM2,'L Haubans'!$B$2:$M$4,3,TRUE),IF($T$9=37550,HLOOKUP(C15-AraseM2,'L Haubans'!$B$2:$M$6,5,TRUE),\"Erreur\")),\"\")","v":""},{"$f":"IFERROR(HLOOKUP(B15-AraseM1,'L Haubans'!$B$2:$M$8,7,TRUE),\"\")","v":"00986721"},{"$f":"IFERROR(HLOOKUP(C15-AraseM2,'L Haubans'!$B$2:$M$8,7,TRUE),\"\")","v":""},null,null,null,null,null,null,"Hauteur H :"]
["Tension Méca",{"$f":"Tension1","v":90.8},{"$f":"Tension2","v":0},null,null,null,null,null,"Plan",{"$f":"HLOOKUP($J$2,Parametres!$K$2:$Y$25,3,TRUE)","v":37606},null,"Plan",{"$f":"HLOOKUP($J$2,Parametres!$AB$2:$AO$25,3,TRUE)","v":37606},null,null,"Plan",{"$f":"HLOOKUP($Q$2,Parametres!$K$2:$Y$25,3,TRUE)","v":37605},null,"Plan",{"$f":"HLOOKUP($Q$2,Parametres!$AB$2:$AO$25,3,TRUE)","v":37606},null,"Hauteur 3",{"$f":"IFERROR(IF($M$9=37530,HLOOKUP(B16-AraseM1,'L Haubans'!$B$2:$M$4,3,TRUE),IF($M$9=37550,HLOOKUP(B16-AraseM1,'L Haubans'!$B$2:$M$6,5,TRUE),\"Erreur\")),\"\")","v":""},{"$f":"IFERROR(IF($T$9=37530,HLOOKUP(C16-AraseM2,'L Haubans'!$B$2:$M$4,3,TRUE),IF($T$9=37550,HLOOKUP(C16-AraseM2,'L Haubans'!$B$2:$M$6,5,TRUE),\"Erreur\")),\"\")","v":""},{"$f":"IFERROR(HLOOKUP(B16-AraseM1,'L Haubans'!$B$2:$M$8,7,TRUE),\"\")","v":""},{"$f":"IFERROR(HLOOKUP(C16-AraseM2,'L Haubans'!$B$2:$M$8,7,TRUE),\"\")","v":""},null,null,null,null,null,null,"Hauteur h :"]
["Nature du hauban de préf",{"$f":"IF(Haubpref1=\"\",\"Câble\",Haubpref1)","v":"Rigide"},{"$f":"IF(AND(Haubpref2=\"\",C4<>\"N\"),\"Câble\",Haubpref2)","v":0},null,null,null,null,null,"Symbole",{"$f":"HLOOKUP($J$2,Parametres!$K$2:$Y$25,4,TRUE)","v":"08828800"},null,"Symbole",{"$f":"HLOOKUP($J$2,Parametres!$AB$2:$AO$25,4,TRUE)","v":"08828800"},null,null,"Symbole",{"$f":"HLOOKUP($Q$2,Parametres!$K$2:$Y$25,4,TRUE)","v":"08828805"},null,"Symbole",{"$f":"HLOOKUP($Q$2,Parametres!$AB$2:$AO$25,4,TRUE)","v":"08828800"},null,"Hauteur 4",{"$f":"IFERROR(IF($M$9=37530,HLOOKUP(B17-AraseM1,'L Haubans'!$B$2:$M$4,3,TRUE),IF($M$9=37550,HLOOKUP(B17-AraseM1,'L Haubans'!$B$2:$M$6,5,TRUE),\"Erreur\")),\"\")","v":""},{"$f":"IFERROR(IF($T$9=37530,HLOOKUP(C17-AraseM2,'L Haubans'!$B$2:$M$4,3,TRUE),IF($T$9=37550,HLOOKUP(C17-AraseM2,'L Haubans'!$B$2:$M$6,5,TRUE),\"Erreur\")),\"\")","v":""},{"$f":"IFERROR(HLOOKUP(B17-AraseM1,'L Haubans'!$B$2:$M$8,7,TRUE),\"\")","v":""},{"$f":"IFERROR(HLOOKUP(C17-AraseM2,'L Haubans'!$B$2:$M$8,7,TRUE),\"\")","v":""},null,null,null,null,null,null,"Delta",{"$f":"IF(AI6=\"\",AH4-AH5,AI6)","v":0}]
["Massif d'Ancrage",{"$f":"IF(MassifAnc1=\"Ae\",\"Api\",MassifAnc1)","v":"Api"},{"$f":"IF(MassifAnc2=\"Ae\",\"Api\",MassifAnc2)","v":0},{"$f":"IF(B70=\"OUI\",VLOOKUP(B71,Parametres!$C$77:$D$84,2,FALSE),IF(AND(B7=\"Api\",B6=\"Câble\"),J12,IF(AND(B7=\"Api\",B6=\"Rigide\"),M12,IF(AND(B7=\"Apns\",B6=\"Câble\"),J17,IF(AND(B7=\"Apns\",B6=\"Rigide\"),M17,IF(AND(B7=\"Acn\",B6=\"Câble\"),J28,IF(AND(B7=\"Acn\",B6=\"Rigide\"),M28,\"\")))))))","v":9},{"$f":"IF(C70=\"OUI\",VLOOKUP(C71,Parametres!$C$77:$D$84,2,FALSE),IF(AND(C7=\"Api\",C6=\"Câble\"),Q12,IF(AND(C7=\"Api\",C6=\"Rigide\"),T12,IF(AND(C7=\"Apns\",C6=\"Câble\"),Q17,IF(AND(C7=\"Apns\",C6=\"Rigide\"),T17,IF(AND(C7=\"Acn\",C6=\"Câble\"),Q28,IF(AND(C7=\"Acn\",C6=\"Rigide\"),T28,\"\")))))))","v":""},null,null,"Hauban d'Ancrage","Ø (mm)",{"$f":"HLOOKUP($J$2,Parametres!$K$2:$Y$25,5,TRUE)","v":36},"Hauban d'Ancrage","Ø (mm)",{"$f":"HLOOKUP($J$2,Parametres!$AB$2:$AO$25,5,TRUE)","v":36},null,"Hauban d'Ancrage","Ø (mm)",{"$f":"HLOOKUP($Q$2,Parametres!$K$2:$Y$25,5,TRUE)","v":"Câble"},"Hauban d'Ancrage","Ø (mm)",{"$f":"HLOOKUP($Q$2,Parametres!$AB$2:$AO$25,5,TRUE)","v":30},null,null,null,null,null,null,null,null,null,null,null,null,"Force :"]
["Type de massif d'Ancrage",{"$f":"IF(B7<>\"Apns\",\"Normaux\",\"Surélevé\")","v":"Normaux"},{"$f":"IF(C7<>\"Apns\",\"Normaux\",\"Surélevé\")","v":"Normaux"},null,null,null,null,null,"Nombre",{"$f":"HLOOKUP($J$2,Parametres!$K$2:$Y$25,6,TRUE)","v":2},null,"Nombre",{"$f":"HLOOKUP($J$2,Parametres!$AB$2:$AO$25,6,TRUE)","v":2},null,null,"Nombre",{"$f":"HLOOKUP($Q$2,Parametres!$K$2:$Y$25,6,TRUE)","v":1},null,"Nombre",{"$f":"HLOOKUP($Q$2,Parametres!$AB$2:$AO$25,6,TRUE)","v":1},null,null,null,null,null,null,null,null,null,null,null,null,"Résultat :",{"$f":"IF(OR(AH4=\"\",AH5=\"\",AH7=\"\"),0,((3*AH6)+(2*AH4))/(2*AH4)*AH7-AH7)","v":0},{"$f":"IF(OR(AH4=\"\",AH5=\"\",AH7=\"\"),\"\",((3*AH6)+(2*AH4))/(2*AH4)*AH7)","v":""},{"$f":"IF(AH8=\"\",\"\",AI8-AH8)","v":{"$error":"#VALUE!"}}]
["Nombres de Haubans",{"$f":"IF(B6=\"Câble\",$J$8,IF(B6=\"Rigide\",$M$8,0))","v":2},{"$f":"IF(C6=\"Câble\",$Q$8,IF(C6=\"Rigide\",$T$8,0))","v":0},null,null,null,null,null,"Plan",{"$f":"HLOOKUP($J$2,Parametres!$K$2:$Y$25,7,TRUE)","v":37550},null,"Plan",{"$f":"HLOOKUP($J$2,Parametres!$AB$2:$AO$25,7,TRUE)","v":37550},null,null,"Plan",{"$f":"HLOOKUP($Q$2,Parametres!$K$2:$Y$25,7,TRUE)","v":37560},null,"Plan",{"$f":"HLOOKUP($Q$2,Parametres!$AB$2:$AO$25,7,TRUE)","v":37530},null,"Longueur Hauban Ancrage Surélevé"]
["Cotés de l'Ancrage",{"$f":"Carac1","v":"Droit"},{"$f":"Carac2","v":"Gauche"},null,null,null,null,null,"Repère",{"$f":"HLOOKUP($J$2,Parametres!$K$2:$Y$25,8,TRUE)","v":0},null,"Repère",{"$f":"HLOOKUP($J$2,Parametres!$AB$2:$AO$25,8,TRUE)","v":0},null,null,"Repère",{"$f":"HLOOKUP($Q$2,Parametres!$K$2:$Y$25,8,TRUE)","v":103},null,"Repère",{"$f":"HLOOKUP($Q$2,Parametres!$AB$2:$AO$25,8,TRUE)","v":0},null,null,"Ancrage 1","Ancrage 2","Jumelles 1","Jumelles 2"]
["Hauteur Anc 1",{"$f":"IF(HAnca1=\"\",\"\",HAnca1+IF($B$51=Q68,VLOOKUP(PlanATa1,Résultats!$Q$65:$S$66,3,FALSE),IF($B$52=Q68,VLOOKUP(PlanATa2,Résultats!$Q$65:$S$66,3,FALSE),0)))","v":7.45},{"$f":"IF(HAncb1=\"\",\"\",HAncb1+IF($C$51=Q68,VLOOKUP(PlanATb1,Résultats!$Q$65:$S$66,3,FALSE),IF($C$52=Q68,VLOOKUP(PlanATb2,Résultats!$Q$65:$S$66,3,FALSE),0)))","v":""},null,null,null,null,null,"Symbole",{"$f":"HLOOKUP($J$2,Parametres!$K$2:$Y$25,9,TRUE)","v":"Feuille 11"},null,"Symbole",{"$f":"HLOOKUP($J$2,Parametres!$AB$2:$AO$25,9,TRUE)","v":"Feuille 11"},null,null,"Symbole",{"$f":"HLOOKUP($Q$2,Parametres!$K$2:$Y$25,9,TRUE)","v":"00986713"},null,"Symbole",{"$f":"HLOOKUP($Q$2,Parametres!$AB$2:$AO$25,9,TRUE)","v":"Feuille 11"},null,"Hauteur 1",{"$f":"IFERROR(IF($M$9=37530,HLOOKUP(B14-AraseM1,'L Haubans'!$B$11:$G$17,3,TRUE),IF(Résultats!$M$9=37550,HLOOKUP(Résultats!B14-AraseM1,'L Haubans'!$B$11:$G$17,5,TRUE),\"\")),\"\")","v":"08828740"},{"$f":"IFERROR(IF($T$9=37530,HLOOKUP(C14-AraseM2,'L Haubans'!$B$11:$G$17,3,TRUE),IF(Résultats!$T$9=37550,HLOOKUP(Résultats!C14-AraseM2,'L Haubans'!$B$11:$G$17,5,TRUE),\"\")),\"\")","v":""},{"$f":"IFERROR(HLOOKUP(B14-AraseM1,'L Haubans'!$B$11:$G$17,7,TRUE),\"\")","v":"00986723"},{"$f":"IFERROR(HLOOKUP(C14-AraseM2,'L Haubans'!$B$11:$G$17,7,TRUE),\"\")","v":""}]
["Hauteur Anc 2",{"$f":"IF(HAnca2=\"\",\"\",HAnca2+IF($B$51=Q69,VLOOKUP(PlanATa1,Résultats!$Q$65:$S$66,3,FALSE),IF($B$52=Q69,VLOOKUP(PlanATa2,Résultats!$Q$65:$S$66,3,FALSE),0)))","v":6.45},{"$f":"IF(HAncb2=\"\",\"\",HAncb2+IF($C$51=Q69,VLOOKUP(PlanATb1,Résultats!$Q$65:$S$66,3,FALSE),IF($C$52=Q69,VLOOKUP(PlanATb2,Résultats!$Q$65:$S$66,3,FALSE),0)))","v":""},null,null,null,null,"Massif Api",null,{"$f":"HLOOKUP($J$2,Parametres!$K$2:$Y$25,10,TRUE)","v":9},"Massif Api",null,{"$f":"HLOOKUP($J$2,Parametres!$AB$2:$AO$25,10,TRUE)","v":9},null,"Massif Api",null,{"$f":"HLOOKUP($Q$2,Parametres!$K$2:$Y$25,10,TRUE)","v":1},"Massif Api",null,{"$f":"HLOOKUP($Q$2,Parametres!$AB$2:$AO$25,10,TRUE)","v":1},null,"Hauteur 2",{"$f":"IFERROR(IF($M$9=37530,HLOOKUP(B15-AraseM1,'L Haubans'!$B$11:$G$17,3,TRUE),IF(Résultats!$M$9=37550,HLOOKUP(Résultats!B15-AraseM1,'L Haubans'!$B$11:$G$17,5,TRUE),\"\")),\"\")","v":"08828740"},{"$f":"IFERROR(IF($T$9=37530,HLOOKUP(C15-AraseM2,'L Haubans'!$B$11:$G$17,3,TRUE),IF(Résultats!$T$9=37550,HLOOKUP(Résultats!C15-AraseM2,'L Haubans'!$B$11:$G$17,5,TRUE),\"\")),\"\")","v":""},{"$f":"IFERROR(HLOOKUP(B15-AraseM1,'L Haubans'!$B$11:$G$17,7,TRUE),\"\")","v":"00986722"},{"$f":"IFERROR(HLOOKUP(C15-AraseM2,'L Haubans'!$B$11:$G$17,7,TRUE),\"\")","v":""}]
["Hauteur Anc 3",{"$f":"IF(HAnca3=\"\",\"\",HAnca3+IF($B$51=Q70,VLOOKUP(PlanATa1,Résultats!$Q$65:$S$66,3,FALSE),IF($B$52=Q70,VLOOKUP(PlanATa2,Résultats!$Q$65:$S$66,3,FALSE),0)))","v":""},{"$f":"IF(HAncb3=\"\",\"\",HAncb3+IF($C$51=Q70,VLOOKUP(PlanATb1,Résultats!$Q$65:$S$66,3,FALSE),IF($C$52=Q70,VLOOKUP(PlanATb2,Résultats!$Q$65:$S$66,3,FALSE),0)))","v":""},null,null,null,null,"Etrier","Nombre",{"$f":"HLOOKUP($J$2,Parametres!$K$2:$Y$25,11,TRUE)","v":2},"Etrier","Nombre",{"$f":"HLOOKUP($J$2,Parametres!$AB$2:$AO$25,11,TRUE)","v":2},null,"Etrier","Nombre",{"$f":"HLOOKUP($Q$2,Parametres!$K$2:$Y$25,11,TRUE)","v":1},"Etrier","Nombre",{"$f":"HLOOKUP($Q$2,Parametres!$AB$2:$AO$25,11,TRUE)","v":1},null,"Hauteur 3",{"$f":"IFERROR(IF($M$9=37530,HLOOKUP(B16-AraseM1,'L Haubans'!$B$11:$G$17,3,TRUE),IF(Résultats!$M$9=37550,HLOOKUP(Résultats!B16-AraseM1,'L Haubans'!$B$11:$G$17,5,TRUE),\"\")),\"\")","v":""},{"$f":"IFERROR(IF($T$9=37530,HLOOKUP(C16-AraseM2,'L Haubans'!$B$11:$G$17,3,TRUE),IF(Résultats!$T$9=37550,HLOOKUP(Résultats!C16-AraseM2,'L Haubans'!$B$11:$G$17,5,TRUE),\"\")),\"\")","v":""},{"$f":"IFERROR(HLOOKUP(B16-AraseM1,'L Haubans'!$B$11:$G$17,7,TRUE),\"\")","v":""},{"$f":"IFERROR(HLOOKUP(C16-AraseM2,'L Haubans'!$B$11:$G$17,7,TRUE),\"\")","v":""}]
["Hauteur Ancrage Hauban 1",{"$f":"IF(MassifAnc1=\"Aucun\",\"\",IF(HHauba1=\"\",\"\",IF(HHauba1=HAnca1,Résultats!$B$11,IF(HHauba1=HAnca2,Résultats!$B$12,IF(HHauba1=HAnca3,Résultats!$B$13,HHauba1)))))","v":7.45},{"$f":"IF(MassifAnc2=\"Aucun\",\"\",IF(HHaubb1=\"\",\"\",IF(HHaubb1=HAncb1,Résultats!$C$11,IF(HHaubb1=HAncb2,Résultats!$C$12,IF(HHaubb1=HAncb3,Résultats!$C$13,HHaubb1)))))","v":""},"Par rapport au sol",null,null,null,null,"Longueur (m)",{"$f":"HLOOKUP($J$2,Parametres!$K$2:$Y$25,12,TRUE)","v":2.6},null,"Longueur (m)",{"$f":"HLOOKUP($J$2,Parametres!$AB$2:$AO$25,12,TRUE)","v":2.6},null,null,"Longueur (m)",{"$f":"HLOOKUP($Q$2,Parametres!$K$2:$Y$25,12,TRUE)","v":2},null,"Longueur (m)",{"$f":"HLOOKUP($Q$2,Parametres!$AB$2:$AO$25,12,TRUE)","v":2},null,"Hauteur 4",{"$f":"IFERROR(IF($M$9=37530,HLOOKUP(B17-AraseM1,'L Haubans'!$B$11:$G$17,3,TRUE),IF(Résultats!$M$9=37550,HLOOKUP(Résultats!B17-AraseM1,'L Haubans'!$B$11:$G$17,5,TRUE),\"\")),\"\")","v":""},{"$f":"IFERROR(IF($T$9=37530,HLOOKUP(C17-AraseM2,'L Haubans'!$B$11:$G$17,3,TRUE),IF(Résultats!$T$9=37550,HLOOKUP(Résultats!C17-AraseM2,'L Haubans'!$B$11:$G$17,5,TRUE),\"\")),\"\")","v":""},{"$f":"IFERROR(HLOOKUP(B17-AraseM1,'L Haubans'!$B$11:$G$17,7,TRUE),\"\")","v":""},{"$f":"IFERROR(HLOOKUP(C17-AraseM2,'L Haubans'!$B$11:$G$17,7,TRUE),\"\")","v":""}]
["Hauteur Ancrage Hauban 2",{"$f":"IF(MassifAnc1=\"Aucun\",\"\",IF(HHauba2=\"\",\"\",IF(HHauba2=HAnca1,Résultats!$B$11,IF(HHauba2=HAnca2,Résultats!$B$12,IF(HHauba2=HAnca3,Résultats!$B$13,HHauba2)))))","v":6.45},{"$f":"IF(MassifAnc2=\"Aucun\",\"\",IF(HHaubb2=\"\",\"\",IF(HHaubb2=HAncb1,Résultats!$C$11,IF(HHaubb2=HAncb2,Résultats!$C$12,IF(HHaubb2=HAncb3,Résultats!$C$13,HHaubb2)))))","v":""},null,null,null,null,null,"Repère",{"$f":"HLOOKUP($J$2,Parametres!$K$2:$Y$25,13,TRUE)","v":39513},null,"Repère",{"$f":"HLOOKUP($J$2,Parametres!$AB$2:$AO$25,13,TRUE)","v":39513},null,null,"Repère",{"$f":"HLOOKUP($Q$2,Parametres!$K$2:$Y$25,13,TRUE)","v":39511},null,"Repère",{"$f":"HLOOKUP($Q$2,Parametres!$AB$2:$AO$25,13,TRUE)","v":39511}]
["Hauteur Ancrage Hauban 3",{"$f":"IF(MassifAnc1=\"Aucun\",\"\",IF(HHauba3=\"\",\"\",IF(HHauba3=HAnca1,Résultats!$B$11,IF(HHauba3=HAnca2,Résultats!$B$12,IF(HHauba3=HAnca3,Résultats!$B$13,HHauba3)))))","v":""},{"$f":"IF(MassifAnc2=\"Aucun\",\"\",IF(HHaubb3=\"\",\"\",IF(HHaubb3=HAncb1,Résultats!$C$11,IF(HHaubb3=HAncb2,Résultats!$C$12,IF(HHaubb3=HAncb3,Résultats!$C$13,HHaubb3)))))","v":""},null,null,null,null,null,"Symbole",{"$f":"HLOOKUP($J$2,Parametres!$K$2:$Y$25,14,TRUE)","v":"08828922"},null,"Symbole",{"$f":"HLOOKUP($J$2,Parametres!$AB$2:$AO$25,14,TRUE)","v":"08828922"},null,null,"Symbole",{"$f":"HLOOKUP($Q$2,Parametres!$K$2:$Y$25,14,TRUE)","v":"08828920"},null,"Symbole",{"$f":"HLOOKUP($Q$2,Parametres!$AB$2:$AO$25,14,TRUE)","v":"08828920"}]
["Hauteur Ancrage Hauban 4",{"$f":"IF(MassifAnc1=\"Aucun\",\"\",IF(HHauba4=\"\",\"\",IF(HHauba4=HAnca1,Résultats!$B$11,IF(HHauba4=HAnca2,Résultats!$B$12,IF(HHauba4=HAnca3,Résultats!$B$13,HHauba4)))))","v":""},{"$f":"IF(MassifAnc2=\"Aucun\",\"\",IF(HHaubb4=\"\",\"\",IF(HHaubb4=HAncb1,Résultats!$C$11,IF(HHaubb4=HAncb2,Résultats!$C$12,IF(HHaubb4=HAncb3,Résultats!$C$13,HHaubb4)))))","v":""},null,null,null,null,"Massif Apns",null,{"$f":"HLOOKUP($J$2,Parametres!$K$2:$Y$25,15,TRUE)","v":9},"Massif Apns",null,{"$f":"HLOOKUP($J$2,Parametres!$AB$2:$AO$25,15,TRUE)","v":9},null,"Massif Apns",null,{"$f":"HLOOKUP($Q$2,Parametres!$K$2:$Y$25,15,TRUE)","v":1},"Massif Apns",null,{"$f":"HLOOKUP($Q$2,Parametres!$AB$2:$AO$25,15,TRUE)","v":1},null,"Longueur Hauban Ancrage Cylindrique"]
["Distance Massif",{"$f":"MassifD1","v":7},{"$f":"MassifD2","v":0},null,null,null,null,"Poutrelle d'ancrage","Plan",{"$f":"HLOOKUP($J$2,Parametres!$K$2:$Y$25,16,TRUE)","v":20284},"Poutrelle d'ancrage","Plan",{"$f":"HLOOKUP($J$2,Parametres!$AB$2:$AO$25,16,TRUE)","v":20284},null,"Poutrelle d'ancrage","Plan",{"$f":"HLOOKUP($Q$2,Parametres!$K$2:$Y$25,16,TRUE)","v":20280},"Poutrelle d'ancrage","Plan",{"$f":"HLOOKUP($Q$2,Parametres!$AB$2:$AO$25,16,TRUE)","v":20280},null,null,"Ancrage 1","Ancrage 2","Jumelles 1","Jumelles 2"]
[null,null,null,null,null,null,null,null,"Repère",{"$f":"HLOOKUP($J$2,Parametres!$K$2:$Y$25,17,TRUE)","v":0},null,"Repère",{"$f":"HLOOKUP($J$2,Parametres!$AB$2:$AO$25,17,TRUE)","v":0},null,null,"Repère",{"$f":"HLOOKUP($Q$2,Parametres!$K$2:$Y$25,17,TRUE)","v":20281},null,"Repère",{"$f":"HLOOKUP($Q$2,Parametres!$AB$2:$AO$25,17,TRUE)","v":20281},null,"Hauteur 1",{"$f":"IFERROR(IF($M$31=37530,HLOOKUP(B14-AraseM1,'L Haubans'!$B$21:$L$27,3,TRUE),IF($M$31=37550,HLOOKUP(B14-AraseM1,'L Haubans'!$B$21:$L$27,5,TRUE),\"\")),\"\")","v":""},{"$f":"IFERROR(IF($T$31=37530,HLOOKUP(C14-AraseM2,'L Haubans'!$B$21:$L$27,3,TRUE),IF($T$31=37550,HLOOKUP(C14-AraseM2,'L Haubans'!$B$21:$L$27,5,TRUE),\"\")),\"\")","v":""},{"$f":"IFERROR(HLOOKUP(B14-AraseM1,'L Haubans'!$B$21:$L$27,7,TRUE),\"\")","v":"00986722"},{"$f":"IFERROR(HLOOKUP(C14-AraseM2,'L Haubans'!$B$21:$L$27,7,TRUE),\"\")","v":""}]
[null,"Ancrage Normaux \"Api\"",null,null,null,null,null,null,"Symbole",{"$f":"HLOOKUP($J$2,Parametres!$K$2:$Y$25,18,TRUE)","v":"08820509"},null,"Symbole",{"$f":"HLOOKUP($J$2,Parametres!$AB$2:$AO$25,18,TRUE)","v":"08820509"},null,null,"Symbole",{"$f":"HLOOKUP($Q$2,Parametres!$K$2:$Y$25,18,TRUE)","v":"08850445"},null,"Symbole",{"$f":"HLOOKUP($Q$2,Parametres!$AB$2:$AO$25,18,TRUE)","v":"08850445"},null,"Hauteur 2",{"$f":"IFERROR(IF($M$31=37530,HLOOKUP(B15-AraseM1,'L Haubans'!$B$21:$L$27,3,TRUE),IF($M$31=37550,HLOOKUP(B15-AraseM1,'L Haubans'!$B$21:$L$27,5,TRUE),\"\")),\"\")","v":""},{"$f":"IFERROR(IF($T$31=37530,HLOOKUP(C15-AraseM2,'L Haubans'!$B$21:$L$27,3,TRUE),IF($T$31=37550,HLOOKUP(C15-AraseM2,'L Haubans'!$B$21:$L$27,5,TRUE),\"\")),\"\")","v":""},{"$f":"IFERROR(HLOOKUP(B15-AraseM1,'L Haubans'!$B$21:$L$27,7,TRUE),\"\")","v":"00986721"},{"$f":"IFERROR(HLOOKUP(C15-AraseM2,'L Haubans'!$B$21:$L$27,7,TRUE),\"\")","v":""}]
["Resultats des haubans","Ancrage 1","Ancrage 2",null,null,null,null,"Semmelle d'appui","Nombre",{"$f":"HLOOKUP($J$2,Parametres!$K$2:$Y$25,19,TRUE)","v":4},"Semmelle d'appui","Nombre",{"$f":"HLOOKUP($J$2,Parametres!$AB$2:$AO$25,19,TRUE)","v":4},null,"Semmelle d'appui","Nombre",{"$f":"HLOOKUP($Q$2,Parametres!$K$2:$Y$25,19,TRUE)","v":2},"Semmelle d'appui","Nombre",{"$f":"HLOOKUP($Q$2,Parametres!$AB$2:$AO$25,19,TRUE)","v":2},null,"Hauteur 3",{"$f":"IFERROR(IF($M$31=37530,HLOOKUP(B16-AraseM1,'L Haubans'!$B$21:$L$27,3,TRUE),IF($M$31=37550,HLOOKUP(B16-AraseM1,'L Haubans'!$B$21:$L$27,5,TRUE),\"\")),\"\")","v":""},{"$f":"IFERROR(IF($T$31=37530,HLOOKUP(C16-AraseM2,'L Haubans'!$B$21:$L$27,3,TRUE),IF($T$31=37550,HLOOKUP(C16-AraseM2,'L Haubans'!$B$21:$L$27,5,TRUE),\"\")),\"\")","v":""},{"$f":"IFERROR(HLOOKUP(B16-AraseM1,'L Haubans'!$B$21:$L$27,7,TRUE),\"\")","v":""},{"$f":"IFERROR(HLOOKUP(C16-AraseM2,'L Haubans'!$B$21:$L$27,7,TRUE),\"\")","v":""}]
["Hauban 1",{"$f":"IF(AND($B$6=\"câble\",$J$7=\"câble\"),$J$11,IF(AND($B$6=\"câble\",$J$7<>\"câble\"),W3,IF($B$6=\"Rigide\",W3,\"\")))","v":"08828752"},{"$f":"IF(AND($C$6=\"câble\",$Q$7=\"câble\"),$Q$11,IF(AND($C$6=\"câble\",$Q$7<>\"câble\"),X3,IF($C$6=\"Rigide\",X3,\"\")))","v":""},null,null,null,null,null,"Symbole",{"$f":"HLOOKUP($J$2,Parametres!$K$2:$Y$25,20,TRUE)","v":"08828842"},null,"Symbole",{"$f":"HLOOKUP($J$2,Parametres!$AB$2:$AO$25,20,TRUE)","v":"08828842"},null,null,"Symbole",{"$f":"HLOOKUP($Q$2,Parametres!$K$2:$Y$25,20,TRUE)","v":"08828842"},null,"Symbole",{"$f":"HLOOKUP($Q$2,Parametres!$AB$2:$AO$25,20,TRUE)","v":"08828842"},null,"Hauteur 4",{"$f":"IFERROR(IF($M$31=37530,HLOOKUP(B17-AraseM1,'L Haubans'!$B$21:$L$27,3,TRUE),IF($M$31=37550,HLOOKUP(B17-AraseM1,'L Haubans'!$B$21:$L$27,5,TRUE),\"\")),\"\")","v":""},{"$f":"IFERROR(IF($T$31=37530,HLOOKUP(C17-AraseM2,'L Haubans'!$B$21:$L$27,3,TRUE),IF($T$31=37550,HLOOKUP(C17-AraseM2,'L Haubans'!$B$21:$L$27,5,TRUE),\"\")),\"\")","v":""},{"$f":"IFERROR(HLOOKUP(B17-AraseM1,'L Haubans'!$B$21:$L$27,7,TRUE),\"\")","v":""},{"$f":"IFERROR(HLOOKUP(C17-AraseM2,'L Haubans'!$B$21:$L$27,7,TRUE),\"\")","v":""}]
["Hauban 2",{"$f":"IF(AND($B$6=\"câble\",$J$7=\"câble\"),$J$11,IF(AND($B$6=\"câble\",$J$7<>\"câble\"),W4,IF($B$6=\"Rigide\",W4,\"\")))","v":"08828752"},{"$f":"IF(AND($C$6=\"câble\",$Q$7=\"câble\"),$Q$11,IF(AND($C$6=\"câble\",$Q$7<>\"câble\"),X4,IF($C$6=\"Rigide\",X4,\"\")))","v":""},null,null,null,null,"Cuvette","Nombre",{"$f":"HLOOKUP($J$2,Parametres!$K$2:$Y$25,21,TRUE)","v":4},"Cuvette","Nombre",{"$f":"HLOOKUP($J$2,Parametres!$AB$2:$AO$25,21,TRUE)","v":4},null,"Cuvette","Nombre",{"$f":"HLOOKUP($Q$2,Parametres!$K$2:$Y$25,21,TRUE)","v":2},"Cuvette","Nombre",{"$f":"HLOOKUP($Q$2,Parametres!$AB$2:$AO$25,21,TRUE)","v":2}]
["Hauban 3",{"$f":"IF(AND($B$6=\"câble\",$J$7=\"câble\"),$J$11,IF(AND($B$6=\"câble\",$J$7<>\"câble\"),W5,IF($B$6=\"Rigide\",W5,\"\")))","v":""},{"$f":"IF(AND($C$6=\"câble\",$Q$7=\"câble\"),$Q$11,IF(AND($C$6=\"câble\",$Q$7<>\"câble\"),X5,IF($C$6=\"Rigide\",X5,\"\")))","v":""},null,null,null,null,null,"Symbole",{"$f":"HLOOKUP($J$2,Parametres!$K$2:$Y$25,22,TRUE)","v":"08828552"},null,"Symbole",{"$f":"HLOOKUP($J$2,Parametres!$AB$2:$AO$25,22,TRUE)","v":"08828552"},null,null,"Symbole",{"$f":"HLOOKUP($Q$2,Parametres!$K$2:$Y$25,22,TRUE)","v":"08828552"},null,"Symbole",{"$f":"HLOOKUP($Q$2,Parametres!$AB$2:$AO$25,22,TRUE)","v":"08828552"},null,"Ancrage des haubans sur le support"]
["Hauban 4",{"$f":"IF(AND($B$6=\"câble\",$J$7=\"câble\"),$J$11,IF(AND($B$6=\"câble\",$J$7<>\"câble\"),W6,IF($B$6=\"Rigide\",W6,\"\")))","v":""},{"$f":"IF(AND($C$6=\"câble\",$Q$7=\"câble\"),$Q$11,IF(AND($C$6=\"câble\",$Q$7<>\"câble\"),X6,IF($C$6=\"Rigide\",X6,\"\")))","v":""},null,null,null,null,"Tiges filetees","Nombre",{"$f":"HLOOKUP($J$2,Parametres!$K$2:$Y$25,23,TRUE)","v":4},"Tiges filetees","Nombre",{"$f":"HLOOKUP($J$2,Parametres!$AB$2:$AO$25,23,TRUE)","v":4},null,"Tiges filetees","Nombre",{"$f":"HLOOKUP($Q$2,Parametres!$K$2:$Y$25,23,TRUE)","v":2},"Tiges filetees","Nombre",{"$f":"HLOOKUP($Q$2,Parametres!$AB$2:$AO$25,23,TRUE)","v":2},null,null,"Ancrage 1",null,"Ancrage 2",null,"25 kV","08850900",222210,"Catenaire"]
[null,null,null,null,null,null,null,null,"Symbole",{"$f":"HLOOKUP($J$2,Parametres!$K$2:$Y$25,24,TRUE)","v":"08800300"},null,"Symbole",{"$f":"HLOOKUP($J$2,Parametres!$AB$2:$AO$25,24,TRUE)","v":"08800300"},null,null,"Symbole",{"$f":"HLOOKUP($Q$2,Parametres!$K$2:$Y$25,24,TRUE)","v":"08800300"},null,"Symbole",{"$f":"HLOOKUP($Q$2,Parametres!$AB$2:$AO$25,24,TRUE)","v":"08800300"},null,"Hauban 1",{"$f":"IF(HHauba1=\"\",\"N\",IF($A$1=\"25 kV\",\"08850905\",IF($A$1=\"1500 V\",\"08820565\",IF($A$1=\"Autre\",\"A définir\",\"\"))))","v":"08820565"},{"$f":"IF(OR(B14=$B$11,B14=$B$12,B14=$B$13),\"H=\",\"H/\")","v":"H="},{"$f":"IF(HHaubb1=\"\",\"N\",IF($A$1=\"25 kV\",\"08850905\",IF($A$1=\"1500 V\",\"08820565\",IF($A$1=\"Autre\",\"A définir\",\"\"))))","v":"N"},{"$f":"IF(OR(C14=$C$11,C14=$C$12,C14=$C$13),\"H=\",\"H/\")","v":"H="},null,"08850905",222211,"Hauban"]
[null,"Ancrage Surelevé \"Apns\"",null,null,null,null,null,null,null,null,null,null,null,null,null,null,null,null,null,null,null,"Hauban 2",{"$f":"IF(HHauba2=\"\",\"N\",IF(B9=1,\"N\",IF($A$1=\"25 kV\",\"08850905\",IF($A$1=\"1500 V\",\"08820565\",IF($A$1=\"Autre\",\"A définir\",\"\")))))","v":"08820565"},{"$f":"IF(W27=\"N\",\"H/\",IF(OR(B15=$B$11,B15=$B$12,B15=$B$13),\"H=\",\"H/\"))","v":"H="},{"$f":"IF(HHaubb2=\"\",\"N\",IF($C$9=1,\"N\",IF($A$1=\"25 kV\",\"08850905\",IF($A$1=\"1500 V\",\"08820565\",IF($A$1=\"Autre\",\"A définir\",\"\")))))","v":"N"},{"$f":"IF(Y27=\"N\",\"H/\",IF(OR(C15=$C$11,C15=$C$12,C15=$C$13),\"H=\",\"H/\"))","v":"H/"},"1500 V","08820583",22173,"Catenaire"]
["Resultats des haubans","Ancrage 1","Ancrage 2",null,null,null,null,"Massif Acn",null,{"$f":"HLOOKUP(J2,Parametres!$K$28:$O$44,2,TRUE)","v":"Trop efforts"},"Massif Acn",null,{"$f":"HLOOKUP(J2,Parametres!$S$28:$W$44,2,TRUE)","v":"Trop efforts"},null,"Massif Acn",null,{"$f":"HLOOKUP(Q2,Parametres!$K$28:$O$44,2,TRUE)","v":1},"Massif Acn",null,{"$f":"HLOOKUP(Q2,Parametres!$S$28:$W$44,2,TRUE)","v":1},null,"Hauban 3",{"$f":"IF(HHauba3=\"\",\"N\",IF($B$9>2,IF($A$1=\"25 kV\",\"08850905\",IF($A$1=\"1500 V\",\"08820565\",IF($A$1=\"Autre\",\"A définir\",\"\"))),\"N\"))","v":"N"},{"$f":"IF(W28=\"N\",\"H/\",IF(OR(B16=$B$11,B16=$B$12,B16=$B$13),\"H=\",\"H/\"))","v":"H/"},{"$f":"IF(HHaubb3=\"\",\"N\",IF($C$9>2,IF($A$1=\"25 kV\",\"08850905\",IF($A$1=\"1500 V\",\"08820565\",IF($A$1=\"Autre\",\"A définir\",\"\"))),\"N\"))","v":"N"},{"$f":"IF(Y28=\"N\",\"H/\",IF(OR(C16=$C$11,C16=$C$12,C16=$C$13),\"H=\",\"H/\"))","v":"H/"},null,"08820565",22155,"Hauban"]
["Hauban 1",{"$f":"IF(AND($B$6=\"câble\",$J$7=\"câble\"),$J$11,IF(AND($B$6=\"câble\",$J$7<>\"câble\"),W11,IF($B$6=\"Rigide\",W11,\"\")))","v":"08828740"},{"$f":"IF(AND($C$6=\"câble\",$Q$7=\"câble\"),$Q$11,IF(AND($C$6=\"câble\",$Q$7<>\"câble\"),X11,IF($C$6=\"Rigide\",X11,\"\")))","v":""},null,null,null,null,"Hauban","Ø (mm)",{"$f":"HLOOKUP(J2,Parametres!$K$28:$O$44,3,TRUE)","v":0},"Hauban","Ø (mm)",{"$f":"HLOOKUP(J2,Parametres!$S$28:$W$44,3,TRUE)","v":0},null,"Hauban","Ø (mm)",{"$f":"HLOOKUP(Q2,Parametres!$K$28:$O$44,3,TRUE)","v":"Câble"},"Hauban","Ø (mm)",{"$f":"HLOOKUP(Q2,Parametres!$S$28:$W$44,3,TRUE)","v":30},null,"Hauban 4",{"$f":"IF(HHauba4=\"\",\"N\",IF($B$9<>4,\"N\",IF($A$1=\"25 kV\",\"08850905\",IF($A$1=\"1500 V\",\"08820565\",IF($A$1=\"Autre\",\"A définir\",\"\")))))","v":"N"},{"$f":"IF(W29=\"N\",\"H/\",IF(OR(B17=$B$11,B17=$B$12,B17=$B$13),\"H=\",\"H/\"))","v":"H/"},{"$f":"IF(HHaubb4=\"\",\"N\",IF($C$9<>4,\"N\",IF($A$1=\"25 kV\",\"08850905\",IF($A$1=\"1500 V\",\"08820565\",IF($A$1=\"Autre\",\"A définir\",\"\")))))","v":"N"},{"$f":"IF(Y29=\"N\",\"H/\",IF(OR(C17=$C$11,C17=$C$12,C17=$C$13),\"H=\",\"H/\"))","v":"H/"}]
["Hauban 2",{"$f":"IF(AND($B$6=\"câble\",$J$7=\"câble\"),$J$11,IF(AND($B$6=\"câble\",$J$7<>\"câble\"),W12,IF($B$6=\"Rigide\",W12,\"\")))","v":"08828740"},{"$f":"IF(AND($C$6=\"câble\",$Q$7=\"câble\"),$Q$11,IF(AND($C$6=\"câble\",$Q$7<>\"câble\"),X12,IF($C$6=\"Rigide\",X12,\"\")))","v":""},null,null,null,null,null,"Nombre",{"$f":"HLOOKUP(J2,Parametres!$K$28:$O$44,4,TRUE)","v":0},null,"Nombre",{"$f":"HLOOKUP(J2,Parametres!$S$28:$W$44,4,TRUE)","v":0},null,null,"Nombre",{"$f":"HLOOKUP(Q2,Parametres!$K$28:$O$44,4,TRUE)","v":1},null,"Nombre",{"$f":"HLOOKUP(Q2,Parametres!$S$28:$W$44,4,TRUE)","v":1}]
["Hauban 3","","",null,null,null,null,null,"Plan",{"$f":"HLOOKUP(J2,Parametres!$K$28:$O$44,5,TRUE)","v":0},null,"Plan",{"$f":"HLOOKUP(J2,Parametres!$S$28:$W$44,5,TRUE)","v":0},null,null,"Plan",{"$f":"HLOOKUP(Q2,Parametres!$K$28:$O$44,5,TRUE)","v":37560},null,"Plan",{"$f":"HLOOKUP(Q2,Parametres!$S$28:$W$44,5,TRUE)","v":37530},null,"Ancrages sur le support des CAT"]
["Hauban 4","","",null,null,null,null,null,"Repère",{"$f":"HLOOKUP(J2,Parametres!$K$28:$O$44,6,TRUE)","v":0},null,"Repère",{"$f":"HLOOKUP(J2,Parametres!$S$28:$W$44,6,TRUE)","v":0},null,null,"Repère",{"$f":"HLOOKUP(Q2,Parametres!$K$28:$O$44,6,TRUE)","v":103},null,"Repère",{"$f":"HLOOKUP(Q2,Parametres!$S$28:$W$44,6,TRUE)","v":0},null,null,"Ancrage 1",null,"Ancrage 2"]
[null,null,null,null,null,null,null,null,"Symbole",{"$f":"HLOOKUP(J2,Parametres!$K$28:$O$44,7,TRUE)","v":"Trop efforts"},null,"Symbole",{"$f":"HLOOKUP(J2,Parametres!$S$28:$W$44,7,TRUE)","v":"Trop efforts"},null,null,"Symbole",{"$f":"HLOOKUP(Q2,Parametres!$K$28:$O$44,7,TRUE)","v":"00986713"},null,"Symbole",{"$f":"HLOOKUP(Q2,Parametres!$S$28:$W$44,7,TRUE)","v":"Feuille 12"},null,"Ancrage 1",{"$f":"IF(B11=\"\",\"N\",IF($A$1=\"25 kV\",\"08850900\",IF($A$1=\"1500 V\",\"08820583\",IF(A1=\"Autre\",\"A definir\",\"N\"))))","v":"08820583"},null,{"$f":"IF(C11=\"\",\"N\",IF($A$1=\"25 kV\",\"08850900\",IF($A$1=\"1500 V\",\"08820583\",IF(A1=\"Autre\",\"A definir\",\"N\"))))","v":"N"}]
[null,"Ancrage Surelevé \"Acn\"",null,null,null,null,null,"Etrier","Ø (mm)",{"$f":"HLOOKUP(J2,Parametres!$K$28:$O$44,8,TRUE)","v":0},"Etrier","Ø (mm)",{"$f":"HLOOKUP(J2,Parametres!$S$28:$W$44,8,TRUE)","v":0},null,"Etrier","Ø (mm)",{"$f":"HLOOKUP(Q2,Parametres!$K$28:$O$44,8,TRUE)","v":27},"Etrier","Ø (mm)",{"$f":"HLOOKUP(Q2,Parametres!$S$28:$W$44,8,TRUE)","v":27},null,"Ancrage 2",{"$f":"IF(B12=\"\",\"N\",IF($A$1=\"25 kV\",\"08850900\",IF($A$1=\"1500 V\",\"08820583\",IF(A2=\"Autre\",\"A definir\",\"N\"))))","v":"08820583"},null,{"$f":"IF(C12=\"\",\"N\",IF($A$1=\"25 kV\",\"08850900\",IF($A$1=\"1500 V\",\"08820583\",IF(A2=\"Autre\",\"A definir\",\"N\"))))","v":"N"}]
["Resultats des haubans","Ancrage 1","Ancrage 2",null,null,null,null,null,"Nombre",{"$f":"HLOOKUP(J2,Parametres!$K$28:$O$44,9,TRUE)","v":0},null,"Nombre",{"$f":"HLOOKUP(J2,Parametres!$S$28:$W$44,9,TRUE)","v":0},null,null,"Nombre",{"$f":"HLOOKUP(Q2,Parametres!$K$28:$O$44,9,TRUE)","v":1},null,"Nombre",{"$f":"HLOOKUP(Q2,Parametres!$S$28:$W$44,9,TRUE)","v":1},null,"Ancrage 3","N",null,"N"]
["Hauban 1",{"$f":"IF(AND($B$6=\"câble\",$J$7=\"câble\"),$J$11,IF(AND($B$6=\"câble\",$J$7<>\"câble\"),W19,IF($B$6=\"Rigide\",W19,\"\")))","v":""},{"$f":"IF(AND($C$6=\"câble\",$Q$7=\"câble\"),$Q$11,IF(AND($C$6=\"câble\",$Q$7<>\"câble\"),X19,IF($C$6=\"Rigide\",X19,\"\")))","v":""},null,null,null,null,null,"Plan",{"$f":"HLOOKUP(J2,Parametres!$K$28:$O$44,10,TRUE)","v":0},null,"Plan",{"$f":"HLOOKUP(J2,Parametres!$S$28:$W$44,10,TRUE)","v":0},null,null,"Plan",{"$f":"HLOOKUP(Q2,Parametres!$K$28:$O$44,10,TRUE)","v":239527},null,"Plan",{"$f":"HLOOKUP(Q2,Parametres!$S$28:$W$44,10,TRUE)","v":239527}]
["Hauban 2",{"$f":"IF(AND($B$6=\"câble\",$J$7=\"câble\"),$J$11,IF(AND($B$6=\"câble\",$J$7<>\"câble\"),W20,IF($B$6=\"Rigide\",W20,\"\")))","v":""},{"$f":"IF(AND($C$6=\"câble\",$Q$7=\"câble\"),$Q$11,IF(AND($C$6=\"câble\",$Q$7<>\"câble\"),X20,IF($C$6=\"Rigide\",X20,\"\")))","v":""},null,null,null,null,null,"Symbole",{"$f":"HLOOKUP(J2,Parametres!$K$28:$O$44,11,TRUE)","v":"Trop efforts"},null,"Symbole",{"$f":"HLOOKUP(J2,Parametres!$S$28:$W$44,11,TRUE)","v":"Trop efforts"},null,null,"Symbole",{"$f":"HLOOKUP(Q2,Parametres!$K$28:$O$44,11,TRUE)","v":"08858855"},null,"Symbole",{"$f":"HLOOKUP(Q2,Parametres!$S$28:$W$44,11,TRUE)","v":"08858855"},null,"Variables des Ancrages"]
["Hauban 3","","",null,null,null,null,"Pièce de reglage","Nombre",{"$f":"HLOOKUP(J2,Parametres!$K$28:$O$44,12,TRUE)","v":0},"Pièce de reglage","Nombre",{"$f":"HLOOKUP(J2,Parametres!$S$28:$W$44,12,TRUE)","v":0},null,"Pièce de reglage","Nombre",{"$f":"HLOOKUP(Q2,Parametres!$K$28:$O$44,12,TRUE)","v":1},"Pièce de reglage","Nombre",{"$f":"HLOOKUP(Q2,Parametres!$S$28:$W$44,12,TRUE)","v":1},null,"Ancrage 1",null,"Ancrage2",null,null,null,"Ancrage 1","Ancrage 2"]
["Hauban 4","","",null,null,null,null,null,"Plan",{"$f":"HLOOKUP(J2,Parametres!$K$28:$O$44,13,TRUE)","v":0},null,"Plan",{"$f":"HLOOKUP(J2,Parametres!$S$28:$W$44,13,TRUE)","v":0},null,null,"Plan",{"$f":"HLOOKUP(Q2,Parametres!$K$28:$O$44,13,TRUE)","v":37605},null,"Plan",{"$f":"HLOOKUP(Q2,Parametres!$S$28:$W$44,13,TRUE)","v":37605},null,{"$f":"IF(W39=\"\",0,1)","v":1},{"$f":"IF(AB39<>\"\",AA39,\"\")","v":"Hauban 1"},{"$f":"IF(Y39=\"\",0,1)","v":0},{"$f":"IF(AC39<>\"\",IF(IFERROR(VLOOKUP(AA39,$AB$39:$AB$42,1,FALSE),FALSE)=AA39,\"\",AA39),\"\")","v":""},null,"Hauban 1",{"$f":"IF(MassifAnc1=\"Aucun\",\"\",IF(HHauba1=\"\",\"\",IF(HHauba1=HAnca1,\"Ancrage 1\",IF(HHauba1=HAnca2,\"Ancrage 2\",IF(HHauba1=HAnca3,\"Ancrage 3\",IF(HHauba1=HHaubb1,\"Hauban 1\",IF(HHauba1=HHaubb2,\"Hauban 2\",IF(HHauba1=HHaubb3,\"Hauban 3\",IF(HHauba1=HHaubb4,\"Hauban 4\",\"N\")))))))))","v":"Ancrage 1"},{"$f":"IF(MassifAnc2=\"Aucun\",\"\",IF($C$4=\"N\",\"\",IF(HHaubb1<>\"\",IF(HHaubb1=HAncb1,\"Ancrage 1\",IF(HHaubb1=HAncb2,\"Ancrage 2\",IF(HHaubb1=HAncb3,\"Ancrage 3\",IF(HHaubb1=HHauba1,\"Hauban 1\",IF(HHaubb1=HHauba2,\"Hauban 2\",IF(HHaubb1=HHauba3,\"Hauban 3\",IF(HHaubb1=HHauba4,\"Hauban 4\",\"N\"))))))),\"\")))","v":""}]
[null,null,null,null,null,null,null,null,"Symbole",{"$f":"HLOOKUP(J2,Parametres!$K$28:$O$44,14,TRUE)","v":"Trop efforts"},null,"Symbole",{"$f":"HLOOKUP(J2,Parametres!$S$28:$W$44,14,TRUE)","v":"Trop efforts"},null,null,"Symbole",{"$f":"HLOOKUP(Q2,Parametres!$K$28:$O$44,14,TRUE)","v":"08828805"},null,"Symbole",{"$f":"HLOOKUP(Q2,Parametres!$S$28:$W$44,14,TRUE)","v":"08828805"},null,{"$f":"IF(W40<>\"\",V39+1,IF(V39<1,0,V39))","v":2},"Hauban 2",{"$f":"IF(Y40<>\"\",X39+1,IF(X39<1,0,X39))","v":0},{"$f":"IF(AC40<>\"\",IF(IFERROR(VLOOKUP(AA40,$AB$39:$AB$42,1,FALSE),FALSE)=AA40,\"\",AA40),\"\")","v":""},null,"Hauban 2",{"$f":"IF(MassifAnc1=\"Aucun\",\"\",IF(HHauba2=\"\",\"\",IF(HHauba2=HAnca1,\"Ancrage 1\",IF(HHauba2=HAnca2,\"Ancrage 2\",IF(HHauba2=HAnca3,\"Ancrage 3\",IF(HHauba2=HHaubb1,\"Hauban 1\",IF(HHauba2=HHaubb2,\"Hauban 2\",IF(HHauba2=HHaubb3,\"Hauban 3\",IF(HHauba2=HHaubb4,\"Hauban 4\",\"N\")))))))))","v":"Ancrage 2"},{"$f":"IF(MassifAnc2=\"Aucun\",\"\",IF($C$4=\"N\",\"\",IF(HHaubb2<>\"\",IF(HHaubb2=HAncb1,\"Ancrage 1\",IF(HHaubb2=HAncb2,\"Ancrage 2\",IF(HHaubb2=HAncb3,\"Ancrage 3\",IF(HHaubb2=HHauba1,\"Hauban 1\",IF(HHaubb2=HHauba2,\"Hauban 2\",IF(HHaubb2=HHauba3,\"Hauban 3\",IF(HHaubb2=HHauba4,\"Hauban 4\",\"N\"))))))),\"\")))","v":""}]
[null,"Ancrage 1","Ancrage 2",null,null,null,null,"Poutrelle","Plan",{"$f":"HLOOKUP(J2,Parametres!$K$28:$O$44,15,TRUE)","v":0},"Poutrelle","Plan",{"$f":"HLOOKUP(J2,Parametres!$S$28:$W$44,15,TRUE)","v":0},null,"Poutrelle","Plan",{"$f":"HLOOKUP(Q2,Parametres!$K$28:$O$44,15,TRUE)","v":220108},"Poutrelle","Plan",{"$f":"HLOOKUP(Q2,Parametres!$S$28:$W$44,15,TRUE)","v":220108},null,{"$f":"IF(W41<>\"\",V40+1,IF(V40<1,0,V40))","v":2},"",{"$f":"IF(Y41<>\"\",X40+1,IF(X40<1,0,X40))","v":0},"",null,"Hauban 3",{"$f":"IF(MassifAnc1=\"Aucun\",\"\",IF(HHauba3=\"\",\"\",IF(HHauba3=HAnca1,\"Ancrage 1\",IF(HHauba3=HAnca2,\"Ancrage 2\",IF(HHauba3=HAnca3,\"Ancrage 3\",IF(HHauba3=HHaubb1,\"Hauban 1\",IF(HHauba3=HHaubb2,\"Hauban 2\",IF(HHauba3=HHaubb3,\"Hauban 3\",IF(HHauba3=HHaubb4,\"Hauban 4\",\"N\")))))))))","v":""},{"$f":"IF(MassifAnc2=\"Aucun\",\"\",IF($C$4=\"N\",\"\",IF(HHaubb3<>\"\",IF(HHaubb3=HAncb1,\"Ancrage 1\",IF(HHaubb3=HAncb2,\"Ancrage 2\",IF(HHaubb3=HAncb3,\"Ancrage 3\",IF(HHaubb3=HHauba1,\"Hauban 1\",IF(HHaubb3=HHauba2,\"Hauban 2\",IF(HHaubb3=HHauba3,\"Hauban 3\",IF(HHaubb3=HHauba4,\"Hauban 4\",\"N\"))))))),\"\")))","v":""}]
["Acier Inox 93²",{"$f":"IF(AND(B6=\"Câble\",J7=\"Câble\"),SUM(W72:W75),\"\")","v":""},{"$f":"IF(AND(C6=\"Câble\",Q7=\"Câble\"),SUM(AA72:AA75),\"\")","v":""},null,null,null,null,null,"Repère",{"$f":"HLOOKUP(J2,Parametres!$K$28:$O$44,16,TRUE)","v":0},null,"Repère",{"$f":"HLOOKUP(J2,Parametres!$S$28:$W$44,16,TRUE)","v":0},null,null,"Repère",{"$f":"HLOOKUP(Q2,Parametres!$K$28:$O$44,16,TRUE)","v":101},null,"Repère",{"$f":"HLOOKUP(Q2,Parametres!$S$28:$W$44,16,TRUE)","v":101},null,2,"",0,"",null,"Hauban 4",{"$f":"IF(MassifAnc1=\"Aucun\",\"\",IF(HHauba4=\"\",\"\",IF(HHauba4=HAnca1,\"Ancrage 1\",IF(HHauba4=HAnca2,\"Ancrage 2\",IF(HHauba4=HAnca3,\"Ancrage 3\",IF(HHauba4=HHaubb1,\"Hauban 1\",IF(HHauba4=HHaubb2,\"Hauban 2\",IF(HHauba4=HHaubb3,\"Hauban 3\",IF(HHauba4=HHaubb4,\"Hauban 4\",\"N\")))))))))","v":""},{"$f":"IF(MassifAnc2=\"Aucun\",\"\",IF($C$4=\"N\",\"\",IF(HHaubb4<>\"\",IF(HHaubb4=HAncb1,\"Ancrage 1\",IF(HHaubb4=HAncb2,\"Ancrage 2\",IF(HHaubb4=HAncb3,\"Ancrage 3\",IF(HHaubb4=HHauba1,\"Hauban 1\",IF(HHaubb4=HHauba2,\"Hauban 2\",IF(HHaubb4=HHauba3,\"Hauban 3\",IF(HHaubb4=HHauba4,\"Hauban 4\",\"N\"))))))),\"\")))","v":""}]
["Acier Inox 113²",{"$f":"IF(AND(B6=\"Câble\",J7=\"Câble\"),SUM(X72:X75),\"\")","v":""},{"$f":"IF(AND(C6=\"Câble\",Q7=\"Câble\"),SUM(AB72:AB75),\"\")","v":""},null,null,null,null,null,"Symbole",{"$f":"HLOOKUP(J2,Parametres!$K$28:$O$44,17,TRUE)","v":"Trop efforts"},null,"Symbole",{"$f":"HLOOKUP(J2,Parametres!$S$28:$W$44,17,TRUE)","v":"Trop efforts"},null,null,"Symbole",{"$f":"HLOOKUP(Q2,Parametres!$K$28:$O$44,17,TRUE)","v":"08850435"},null,"Symbole",{"$f":"HLOOKUP(Q2,Parametres!$S$28:$W$44,17,TRUE)","v":"08850435"},null,2,{"$f":"IF(AB43<>\"\",IF(IFERROR(VLOOKUP(AA43,$AB$39:$AB$42,1,FALSE),FALSE)=AA43,\"\",AA43),\"\")","v":""},0,{"$f":"IF(AC43<>\"\",IF(OR(IFERROR(VLOOKUP(AA43,$AC$39:$AC$42,1,FALSE),FALSE)=AA43,IFERROR(VLOOKUP(AA43,$AB$43:$AB$45,1,FALSE),FALSE)=AA43),\"\",AA43),\"\")","v":""},null,"Ancrage 1",{"$f":"IF(HAnca1=\"\",\"\",IF(HAnca1=HHauba1,\"Hauban 1\",IF(HAnca1=HHauba2,\"Hauban 2\",IF(HAnca1=HHauba3,\"Hauban 3\",IF(HAnca1=HHauba4,\"Hauban 4\",IF(HAnca1=HAncb1,\"Ancrage 1\",IF(HAnca1=HAncb2,\"Ancrage 2\",IF(HAnca1=HAncb3,\"Ancrage 3\",\"N\"))))))))","v":"Hauban 1"},{"$f":"IF(OR(C4=\"N\",HAncb1=\"\"),\"\",IF(HAncb1=HHaubb1,\"Hauban 1\",IF(HAncb1=HHaubb2,\"Hauban 2\",IF(HAncb1=HHaubb3,\"Hauban 3\",IF(HAncb1=HHaubb4,\"Hauban 4\",IF(HAncb1=HAnca1,\"Ancrage 1\",IF(HAncb1=HAnca2,\"Ancrage 2\",IF(HAncb1=HAnca3,\"Ancrage 3\",\"N\"))))))))","v":""}]
[null,null,null,null,null,null,null,null,null,null,null,null,null,null,null,null,null,null,null,null,null,2,{"$f":"IF(AB44<>\"\",IF(OR(IFERROR(VLOOKUP(AA44,$AB$39:$AB$42,1,FALSE),FALSE)=AA44,IFERROR(VLOOKUP(AA44,$AB$43,1,FALSE),FALSE)=AA44),\"\",AA44),\"\")","v":""},0,{"$f":"IF(AC44<>\"\",IF(OR(IFERROR(VLOOKUP(AA44,$AC$39:$AC$42,1,FALSE),FALSE)=AA44,IFERROR(VLOOKUP(AA44,$AB$43:$AB$45,1,FALSE),FALSE)=AA44),\"\",AA44),\"\")","v":""},null,"Ancrage 2",{"$f":"IF(HAnca2=\"\",\"\",IF(HAnca2=HHauba1,\"Hauban 1\",IF(HAnca2=HHauba2,\"Hauban 2\",IF(HAnca2=HHauba3,\"Hauban 3\",IF(HAnca2=HHauba4,\"Hauban 4\",IF(HAnca2=HAncb1,\"Ancrage 1\",IF(HAnca2=HAncb2,\"Ancrage 2\",IF(HAnca2=HAncb3,\"Ancrage 3\",\"N\"))))))))","v":"Hauban 2"},{"$f":"IF(OR(C5=\"N\",HAncb2=\"\"),\"\",IF(HAncb2=HHaubb1,\"Hauban 1\",IF(HAncb2=HHaubb2,\"Hauban 2\",IF(HAncb2=HHaubb3,\"Hauban 3\",IF(HAncb2=HHaubb4,\"Hauban 4\",IF(HAncb2=HAnca1,\"Ancrage 1\",IF(HAncb2=HAnca2,\"Ancrage 2\",IF(HAncb2=HAnca3,\"Ancrage 3\",\"N\"))))))))","v":""}]
["Appareil tendeur n°1",{"$f":"IF(ATanc1=1,\"\",VLOOKUP(RepATa1,Matériels!$A$54:$F$993,2,FALSE))","v":"10984102"},{"$f":"IF(ATanc2=\"Oui\",VLOOKUP(RepATb1,Matériels!$A$54:$F$993,2,FALSE),\"\")","v":""},null,null,null,null,null,null,null,null,null,null,null,null,null,null,null,null,null,null,2,{"$f":"IF(AB45<>\"\",IF(OR(IFERROR(VLOOKUP(AA45,$AB$39:$AB$42,1,FALSE),FALSE)=AA45,IFERROR(VLOOKUP(AA45,$AB$43:$AB$44,1,FALSE),FALSE)=AA45),\"\",AA45),\"\")","v":""},0,"",null,"Ancrage 3",{"$f":"IF(HAnca3=\"\",\"\",IF(HAnca3=HHauba1,\"Hauban 1\",IF(HAnca3=HHauba2,\"Hauban 2\",IF(HAnca3=HHauba3,\"Hauban 3\",IF(HAnca3=HHauba4,\"Hauban 4\",IF(HAnca3=HAncb1,\"Ancrage 1\",IF(HAnca3=HAncb2,\"Ancrage 2\",IF(HAnca3=HAncb3,\"Ancrage 3\",\"N\"))))))))","v":""},{"$f":"IF(OR(C6=\"N\",HAncb3=\"\"),\"\",IF(HAncb3=HHaubb1,\"Hauban 1\",IF(HAncb3=HHaubb2,\"Hauban 2\",IF(HAncb3=HHaubb3,\"Hauban 3\",IF(HAncb3=HHaubb4,\"Hauban 4\",IF(HAncb3=HAnca1,\"Ancrage 1\",IF(HAncb3=HAnca2,\"Ancrage 2\",IF(HAncb3=HAnca3,\"Ancrage 3\",\"N\"))))))))","v":""}]
["Appareil tendeur n°2",{"$f":"IFERROR(IF(ATanc1=1,\"\",VLOOKUP(RepATa2,Matériels!$A$54:$F$993,2,FALSE)),\"\")","v":""},{"$f":"IFERROR(IF(ATanc2=\"Oui\",VLOOKUP(RepATb2,Matériels!$A$54:$F$993,2,FALSE),\"\"),\"\")","v":""}]
["Conducteur 1",{"$f":"IF(OR(I51=\"\",J51=\"\"),\"\",VLOOKUP(I51&J51,Matériels!$A$3:$F$1004,2,FALSE))","v":"30982805"},{"$f":"IF(OR(K51=\"\",L51=\"\"),\"\",VLOOKUP(K51&L51,Matériels!$A$3:$F$1004,2,FALSE))","v":""}]
["Conducteur 2",{"$f":"IF(OR(I52=\"\",J52=\"\"),\"\",VLOOKUP(I52&J52,Matériels!$A$3:$F$1004,2,FALSE))","v":"30982805"},{"$f":"IF(OR(K52=\"\",L52=\"\"),\"\",VLOOKUP(K52&L52,Matériels!$A$3:$F$1004,2,FALSE))","v":""},null,null,null,null,"Ancrage Conducteurs",null,null,null,null,null,null,"Jumelles",null,null,"Boulons / TF",null,"Rondelles pour TF",null,null,"Boulons H",null,null,null,null,null,9,"08800262",null,null,"Rondelles"]
["Conducteur 3",{"$f":"IF(OR(I53=\"\",J53=\"\"),\"\",VLOOKUP(I53&J53,Matériels!$A$3:$F$1004,2,FALSE))","v":""},{"$f":"IF(OR(K53=\"\",L53=\"\"),\"\",VLOOKUP(K53&L53,Matériels!$A$3:$F$1004,2,FALSE))","v":""},null,null,null,null,null,"Ancrage 1",null,"Ancrage 2",null,null,null,"00986721",120,null,"Ancrage1","Ancrage 2","Ancrage1","Ancrage 2",null,{"$f":"LEFT(D1,3)","v":"HEA"},"Ancrage 1",null,null,null,null,10,"01602026",null,null,{"$f":"LEFT(D1,3)","v":"HEA"},"Ancrage 1"]
[null,null,null,null,null,null,null,null,"Plan","Repere","Plan","Repere",null,null,"00986722",500,null,{"$f":"IF(W51=\"\",\"\",IF(F1=\"O\",\"Sommier à définir\",IF($A$1=\"25 kV\",Y51,IF($A$1=\"1500 V\",AA51,IF($A$1=\"Autre\",\"A définir\",\"Erreur\")))))","v":"01602487"},{"$f":"IF(W60=\"\",\"\",IF(F1=\"O\",\"Sommier à définir\",IF($A$1=\"25 kV\",Y60,IF($A$1=\"1500 V\",AA60,IF($A$1=\"Autre\",\"A définir\",\"Erreur\")))))","v":""},{"$f":"IF(AG51=\"\",\"\",IF($F$1=\"O\",\"Sommier à définir\",IF($A$1=\"25 kV\",AI51,IF($A$1=\"1500 V\",AK51,IF($A$1=\"Autre\",\"A définir\",\"Erreur\")))))","v":""},{"$f":"IF(AG60=\"\",\"\",IF($F$1=\"O\",\"Sommier à définir\",IF($A$1=\"25 kV\",AI60,IF($A$1=\"1500 V\",AK60,IF($A$1=\"Autre\",\"A définir\",\"Erreur\")))))","v":""},null,null,"25 kV","Symboles","1500 V","Symboles",null,11,"01602058",null,null,null,"25 kV","Symboles","1500 V","Symboles"]
["Position de l'AT n°1",{"$f":"IF(AND(ATanc1=2,PtATa1<>\"\",PlanATa1<>\"\",RepATa1<>\"\"),PtATa1,\"\")","v":"Point n°2"},{"$f":"IF(AND(ATanc2=\"Oui\",PtATb1<>\"\",PlanATb1<>\"\",Tension2<>\"\"),PtATb1,\"\")","v":""},null,null,null,null,"Conducteur 1",{"$f":"IF(PlanAnca1=\"\",\"\",PlanAnca1)","v":10985},{"$f":"IF(RepAnca1=\"\",\"\",RepAnca1)","v":352},{"$f":"IF(PlanAncb1=\"\",\"\",PlanAncb1)","v":""},{"$f":"IF(RepAncb1=\"\",\"\",RepAncb1)","v":""},null,null,"00986723",1000,null,{"$f":"IF(W52=\"\",\"\",IF(F1=\"O\",\"Sommier à définir\",IF($A$1=\"25 kV\",Y52,IF($A$1=\"1500 V\",AA52,IF($A$1=\"Autre\",\"A définir\",\"Erreur\")))))","v":"01602487"},{"$f":"IF(W61=\"\",\"\",IF(F1=\"O\",\"Sommier à définir\",IF($A$1=\"25 kV\",Y61,IF($A$1=\"1500 V\",AA61,IF($A$1=\"Autre\",\"A définir\",\"Erreur\")))))","v":""},{"$f":"IF(AG52=\"\",\"\",IF($F$1=\"O\",\"Sommier à définir\",IF($A$1=\"25 kV\",AI52,IF($A$1=\"1500 V\",AK52,IF($A$1=\"Autre\",\"A définir\",\"Erreur\")))))","v":""},{"$f":"IF(AG61=\"\",\"\",IF($F$1=\"O\",\"Sommier à définir\",IF($A$1=\"25 kV\",AI61,IF($A$1=\"1500 V\",AK61,IF($A$1=\"Autre\",\"A définir\",\"Erreur\")))))","v":""},1,{"$f":"IFERROR(VLOOKUP(V51,$V$39:$W$45,2,FALSE),\"\")","v":"Hauban 1"},{"$f":"IF(W51=\"\",\"\",IF(AND(OR($W$49=\"JHE\",LEFT($W$49,2)=\"PR\"),IFERROR(VLOOKUP(W51,$AA$39:$AC$45,2,FALSE),0)<>\"N\"),9,IF(AND(OR($W$49=\"JHE\",LEFT($W$49,2)=\"PR\"),IFERROR(VLOOKUP(W51,$AA$39:$AC$45,2,FALSE),0)=\"N\"),9,IF(AND(OR($W$49=\"HEA\",$W$49=\"HEB\"),IFERROR(VLOOKUP(W51,$AA$39:$AC$45,2,FALSE),0)<>\"N\"),12,IF(AND(OR($W$49=\"HEA\",$W$49=\"HEB\"),IFERROR(VLOOKUP(W51,$AA$39:$AC$45,2,FALSE),0)=\"N\"),10,\"ERREUR\")))))","v":12},{"$f":"IFERROR(VLOOKUP(X51,$AC$48:$AD$56,2,FALSE),\"\")","v":"01602108"},{"$f":"IF(W51=\"\",\"\",IF(AND($W$49=\"JHE\",IFERROR(VLOOKUP(W51,$AA$39:$AC$45,2,FALSE),0)<>\"N\"),15,IF(AND(LEFT($W$49,2)=\"PR\",IFERROR(VLOOKUP(W51,$AA$39:$AC$45,2,FALSE),0)<>\"N\"),9,IF(AND($W$58=\"JHE\",IFERROR(VLOOKUP(W51,$AA$39:$AC$45,2,FALSE),0)=\"N\"),15,IF(AND(LEFT($W$58,2)=\"PR\",IFERROR(VLOOKUP(W51,$AA$39:$AC$45,2,FALSE),0)=\"N\"),9,IF(AND(OR($W$49=\"HEA\",$W$49=\"HEB\"),IFERROR(VLOOKUP(W51,$AA$39:$AC$45,2,FALSE),0)<>\"N\"),19,IF(AND(OR($W$49=\"HEA\",$W$49=\"HEB\"),IFERROR(VLOOKUP(W51,$AA$39:$AC$45,2,FALSE),0)=\"N\"),18,\"ERREUR\")))))))","v":19},{"$f":"IFERROR(VLOOKUP(Z51,$AC$48:$AD$56,2,FALSE),\"\")","v":"01602487"},null,12,"01602108",null,1,{"$f":"IFERROR(VLOOKUP(AF51,$V$39:$W$45,2,FALSE),\"\")","v":"Hauban 1"},{"$f":"IF(AG51=\"\",\"\",IF(AND($AG$49=\"JHE\",VLOOKUP(AG51,$AA$39:$AC$45,2,FALSE)=\"N\"),20,\"\"))","v":""},{"$f":"IFERROR(VLOOKUP(AH51,$AC$48:$AD$58,2,FALSE),\"\")","v":""},{"$f":"IF(AG51=\"\",\"\",IF(AND($AG$49=\"JHE\",VLOOKUP(AG51,$AA$39:$AC$45,2,FALSE)=\"N\"),22,\"\"))","v":""},{"$f":"IFERROR(VLOOKUP(AJ51,$AC$48:$AD$58,2,FALSE),\"\")","v":""}]
["Position de l'AT n°2",{"$f":"IF(AND(ATanc1=2,PtATa2<>\"\",PlanATa2<>\"\",RepATa2<>\"\"),PtATa2,\"\")","v":""},{"$f":"IF(AND(ATanc2=\"Oui\",PtATb2<>\"\",PlanATb2<>\"\",RepATb2<>\"\"),PtATb2,\"\")","v":""},null,null,null,null,"Conducteur 2",{"$f":"IF(PlanAnca2=\"\",\"\",PlanAnca2)","v":10985},{"$f":"IF(RepAnca2=\"\",\"\",RepAnca2)","v":352},{"$f":"IF(PlanAncb2=\"\",\"\",PlanAncb2)","v":""},{"$f":"IF(RepAncb2=\"\",\"\",RepAncb2)","v":""},null,null,"00986724",1500,null,{"$f":"IF(W53=\"\",\"\",IF(F1=\"O\",\"Sommier à définir\",IF($A$1=\"25 kV\",Y53,IF($A$1=\"1500 V\",AA53,IF($A$1=\"Autre\",\"A définir\",\"Erreur\")))))","v":""},{"$f":"IF(W62=\"\",\"\",IF(F1=\"O\",\"Sommier à définir\",IF($A$1=\"25 kV\",Y62,IF($A$1=\"1500 V\",AA62,IF($A$1=\"Autre\",\"A définir\",\"Erreur\")))))","v":""},"","",2,{"$f":"IFERROR(VLOOKUP(V52,$V$39:$W$45,2,FALSE),\"\")","v":"Hauban 2"},{"$f":"IF(W52=\"\",\"\",IF(AND(OR($W$49=\"JHE\",LEFT($W$49,2)=\"PR\"),IFERROR(VLOOKUP(W52,$AA$39:$AC$45,2,FALSE),0)<>\"N\"),9,IF(AND(OR($W$49=\"JHE\",LEFT($W$49,2)=\"PR\"),IFERROR(VLOOKUP(W52,$AA$39:$AC$45,2,FALSE),0)=\"N\"),9,IF(AND(OR($W$49=\"HEA\",$W$49=\"HEB\"),IFERROR(VLOOKUP(W52,$AA$39:$AC$45,2,FALSE),0)<>\"N\"),12,IF(AND(OR($W$49=\"HEA\",$W$49=\"HEB\"),IFERROR(VLOOKUP(W52,$AA$39:$AC$45,2,FALSE),0)=\"N\"),10,\"ERREUR\")))))","v":12},{"$f":"IFERROR(VLOOKUP(X52,$AC$48:$AD$56,2,FALSE),\"\")","v":"01602108"},{"$f":"IF(W52=\"\",\"\",IF(AND($W$49=\"JHE\",IFERROR(VLOOKUP(W52,$AA$39:$AC$45,2,FALSE),0)<>\"N\"),15,IF(AND(LEFT($W$49,2)=\"PR\",IFERROR(VLOOKUP(W52,$AA$39:$AC$45,2,FALSE),0)<>\"N\"),9,IF(AND($W$58=\"JHE\",IFERROR(VLOOKUP(W52,$AA$39:$AC$45,2,FALSE),0)=\"N\"),15,IF(AND(LEFT($W$58,2)=\"PR\",IFERROR(VLOOKUP(W52,$AA$39:$AC$45,2,FALSE),0)=\"N\"),9,IF(AND(OR($W$49=\"HEA\",$W$49=\"HEB\"),IFERROR(VLOOKUP(W52,$AA$39:$AC$45,2,FALSE),0)<>\"N\"),19,IF(AND(OR($W$49=\"HEA\",$W$49=\"HEB\"),IFERROR(VLOOKUP(W52,$AA$39:$AC$45,2,FALSE),0)=\"N\"),18,\"ERREUR\")))))))","v":19},{"$f":"IFERROR(VLOOKUP(Z52,$AC$48:$AD$56,2,FALSE),\"\")","v":"01602487"},null,13,"01670239",null,2,{"$f":"IFERROR(VLOOKUP(AF52,$V$39:$W$45,2,FALSE),\"\")","v":"Hauban 2"},{"$f":"IF(AG52=\"\",\"\",IF(AND($AG$49=\"JHE\",VLOOKUP(AG52,$AA$39:$AC$45,2,FALSE)=\"N\"),20,\"\"))","v":""},{"$f":"IFERROR(VLOOKUP(AH52,$AC$48:$AD$58,2,FALSE),\"\")","v":""},{"$f":"IF(AG52=\"\",\"\",IF(AND($AG$49=\"JHE\",VLOOKUP(AG52,$AA$39:$AC$45,2,FALSE)=\"N\"),22,\"\"))","v":""},{"$f":"IFERROR(VLOOKUP(AJ52,$AC$48:$AD$58,2,FALSE),\"\")","v":""}]
[null,null,null,null,null,null,null,"Conducteur 3",{"$f":"IF(PlanAnca3=\"\",\"\",PlanAnca3)","v":""},{"$f":"IF(RepAnca3=\"\",\"\",RepAnca3)","v":""},{"$f":"IF(PlanAncb3=\"\",\"\",PlanAncb3)","v":""},{"$f":"IF(RepAncb3=\"\",\"\",RepAncb3)","v":""},null,null,"00986725",2000,null,{"$f":"IF(W54=\"\",\"\",IF(F1=\"O\",\"Sommier à définir\",IF($A$1=\"25 kV\",Y54,IF($A$1=\"1500 V\",AA54,IF($A$1=\"Autre\",\"A définir\",\"Erreur\")))))","v":""},{"$f":"IF(W63=\"\",\"\",IF(F1=\"O\",\"Sommier à définir\",IF($A$1=\"25 kV\",Y63,IF($A$1=\"1500 V\",AA63,IF($A$1=\"Autre\",\"A définir\",\"Erreur\")))))","v":""},"","",3,"","","","","",null,14,"08800300",null,3,"","","","",""]
[null,null,null,null,null,null,null,null,null,null,null,null,null,null,"00986726",2500,null,{"$f":"IF(W55=\"\",\"\",IF(F1=\"O\",\"Sommier à définir\",IF($A$1=\"25 kV\",Y55,IF($A$1=\"1500 V\",AA55,IF($A$1=\"Autre\",\"A définir\",\"Erreur\")))))","v":""},{"$f":"IF(W64=\"\",\"\",IF(F1=\"O\",\"Sommier à définir\",IF($A$1=\"25 kV\",Y64,IF($A$1=\"1500 V\",AA64,IF($A$1=\"Autre\",\"A définir\",\"Erreur\")))))","v":""},"","",4,"","","","",{"$f":"IFERROR(VLOOKUP(Z54,$AC$48:$AD$56,2,FALSE),\"\")","v":""},null,15,"08800278",null,4,"","","","",""]
["Coupon de RAil","Ancrage 1","Ancrage 2",null,null,null,null,"Isolement supplémentaire",null,null,null,null,null,null,"00986727",3000,null,{"$f":"IF(W56=\"\",\"\",IF(F1=\"O\",\"Sommier à définir\",IF($A$1=\"25 kV\",Y56,IF($A$1=\"1500 V\",AA56,IF($A$1=\"Autre\",\"A définir\",\"Erreur\")))))","v":""},{"$f":"IF(W65=\"\",\"\",IF(F1=\"O\",\"Sommier à définir\",IF($A$1=\"25 kV\",Y65,IF($A$1=\"1500 V\",AA65,IF($A$1=\"Autre\",\"A définir\",\"Erreur\")))))","v":""},"","",5,"","","","","",null,18,"01602443",null,5,"","","","",""]
["Massif Api ?",{"$f":"IF(B7=\"Api\",\"Oui\",\"Non\")","v":"Oui"},{"$f":"IF(C7=\"Api\",\"Oui\",\"Non\")","v":"Non"},null,null,null,null,null,"Iso 1","Iso 2","Iso 3","Quantités",null,null,"00986728",3500,null,{"$f":"IF(W57=\"\",\"\",IF(F1=\"O\",\"Sommier à définir\",IF($A$1=\"25 kV\",Y57,IF($A$1=\"1500 V\",AA57,IF($A$1=\"Autre\",\"A définir\",\"Erreur\")))))","v":""},{"$f":"IF(W66=\"\",\"\",IF(F1=\"O\",\"Sommier à définir\",IF($A$1=\"25 kV\",Y66,IF($A$1=\"1500 V\",AA66,IF($A$1=\"Autre\",\"A définir\",\"Erreur\")))))","v":""},"","",6,"","","","","",null,19,"01602487",null,6,"","","","",""]
["Type de Massif :",{"$f":"Impression!B10","v":9},{"$f":"Impression!F10","v":""},null,null,null,"Ancrage1","Conducteur 1",{"$f":"IFERROR(IF(OR(IsoSupa1=\"\",IsoSupa1=\"Non\"),\"\",VLOOKUP(I51&J51,Parametres!$AK$60:$AP$759,4,FALSE)),\"\")","v":""},{"$f":"IFERROR(IF(OR(IsoSupa1=\"\",IsoSupa1=\"Non\"),\"\",VLOOKUP(I51&J51,Parametres!$AK$60:$AP$759,5,FALSE)),\"\")","v":""},{"$f":"IFERROR(IF(OR(IsoSupa1=\"\",IsoSupa1=\"Non\"),\"\",VLOOKUP(I51&J51,Parametres!$AK$60:$AP$759,6,FALSE)),\"\")","v":""},{"$f":"IF(OR(IsoSupa1=\"\",IsoSupa1=\"Non\"),\"\",IsoSupa1)","v":""},1,null,null,null,null,null,null,{"$f":"(7-(COUNTBLANK(T50:T56)))*4","v":0},{"$f":"(7-(COUNTBLANK(U50:U56)))*4","v":0},7,"","","","","",null,20,"01680330",null,7,"","","","",""]
["Coupon de Rail",{"$f":"IF(B56=\"Oui\",VLOOKUP(B57,Parametres!$Z$33:$AA$44,2,FALSE),\"Aucun\")","v":1800},{"$f":"IF(C56=\"Oui\",VLOOKUP(C57,Parametres!$Z$33:$AA$44,2,FALSE),\"Aucun\")","v":"Aucun"},null,null,null,null,"Conducteur 2",{"$f":"IFERROR(IF(OR(IsoSupa2=\"\",IsoSupa2=\"Non\"),\"\",VLOOKUP(I52&J52,Parametres!$AK$60:$AP$759,4,FALSE)),\"\")","v":""},{"$f":"IFERROR(IF(OR(IsoSupa2=\"\",IsoSupa2=\"Non\"),\"\",VLOOKUP(I52&J52,Parametres!$AK$60:$AP$759,5,FALSE)),\"\")","v":""},{"$f":"IFERROR(IF(OR(IsoSupa2=\"\",IsoSupa2=\"Non\"),\"\",VLOOKUP(I52&J52,Parametres!$AK$60:$AP$759,6,FALSE)),\"\")","v":""},{"$f":"IF(OR(IsoSupa2=\"\",IsoSupa2=\"Non\"),\"\",IsoSupa2)","v":""},{"$f":"IF(I58<>I57,2,M57)","v":1},null,null,null,null,null,null,null,null,null,{"$f":"LEFT(D1,3)","v":"HEA"},"Ancrage 2",null,null,null,null,22,"01680333",null,null,{"$f":"LEFT(D1,3)","v":"HEA"},"Ancrage 2"]
["Liaison CdpA au support",{"$f":"IFERROR(IF(VLOOKUP(\"Ok\",F93:F100,1,FALSE)=\"Ok\",IF(F93=\"Ok\",E102,E103),\"\"),\"\")","v":""},{"$f":"IFERROR(IF(VLOOKUP(\"Ok\",G93:G100,1,FALSE)=\"Ok\",IF(G93=\"Ok\",E102,E103),\"\"),\"\")","v":""},null,null,null,null,"Conducteur 3",{"$f":"IFERROR(IF(OR(IsoSupa3=\"\",IsoSupa3=\"Non\"),\"\",VLOOKUP(I53&J53,Parametres!$AK$60:$AP$759,4,FALSE)),\"\")","v":""},{"$f":"IFERROR(IF(OR(IsoSupa3=\"\",IsoSupa3=\"Non\"),\"\",VLOOKUP(I53&J53,Parametres!$AK$60:$AP$759,5,FALSE)),\"\")","v":""},{"$f":"IFERROR(IF(OR(IsoSupa3=\"\",IsoSupa3=\"Non\"),\"\",VLOOKUP(I53&J53,Parametres!$AK$60:$AP$759,6,FALSE)),\"\")","v":""},{"$f":"IF(OR(IsoSupa3=\"\",IsoSupa3=\"Non\"),\"\",IsoSupa3)","v":""},{"$f":"IF(I59=I57,M57,IF(I59=I58,M58,3))","v":1},null,null,null,null,null,null,null,null,null,null,"25 kV","Symboles","1500 V","Symboles",null,null,null,null,null,null,"25 kV","Symboles","1500 V","Symboles"]
[null,null,null,null,null,null,"Ancrage2","Conducteur 1",{"$f":"IFERROR(IF(OR(IsoSupb1=\"\",IsoSupb1=\"Non\"),\"\",VLOOKUP(K51&L51,Parametres!$AK$60:$AP$759,4,FALSE)),\"\")","v":""},{"$f":"IFERROR(IF(OR(IsoSupb1=\"\",IsoSupb1=\"Non\"),\"\",VLOOKUP(K51&L51,Parametres!$AK$60:$AP$759,5,FALSE)),\"\")","v":""},{"$f":"IFERROR(IF(OR(IsoSupb1=\"\",IsoSupb1=\"Non\"),\"\",VLOOKUP(K51&L51,Parametres!$AK$60:$AP$759,6,FALSE)),\"\")","v":""},{"$f":"IF(OR(IsoSupb1=\"\",IsoSupb1=\"Non\"),\"\",IsoSupb1)","v":""},4,null,null,null,null,null,null,null,null,1,{"$f":"IFERROR(VLOOKUP(V60,$X$39:$Y$45,2,FALSE),\"\")","v":""},{"$f":"IF(W60=\"\",\"\",IF(AND(OR($W$58=\"JHE\",LEFT($W$58,2)=\"PR\"),IFERROR(VLOOKUP(W60,$AA$39:$AC$45,3,FALSE),0)<>\"N\"),9,IF(AND(OR($W$58=\"JHE\",LEFT($W$58,2)=\"PR\"),IFERROR(VLOOKUP(W60,$AA$39:$AC$45,3,FALSE),0)=\"N\"),9,IF(AND(OR($W$58=\"HEA\",$W$58=\"HEB\"),IFERROR(VLOOKUP(W60,$AA$39:$AC$45,3,FALSE),0)<>\"N\"),12,IF(AND(OR($W$58=\"HEA\",$W$58=\"HEB\"),IFERROR(VLOOKUP(W60,$AA$39:$AC$45,3,FALSE),0)=\"N\"),10,\"ERREUR\")))))","v":""},{"$f":"IFERROR(VLOOKUP(X60,$AC$48:$AD$56,2,FALSE),\"\")","v":""},{"$f":"IF(W60=\"\",\"\",IF(AND($W$58=\"JHE\",IFERROR(VLOOKUP(W60,$AA$39:$AC$45,3,FALSE),0)<>\"N\"),15,IF(AND(LEFT($W$58,2)=\"PR\",IFERROR(VLOOKUP(W60,$AA$39:$AC$45,3,FALSE),0)<>\"N\"),9,IF(AND($W$58=\"JHE\",IFERROR(VLOOKUP(W60,$AA$39:$AC$45,3,FALSE),0)=\"N\"),15,IF(AND(LEFT($W$58,2)=\"PR\",IFERROR(VLOOKUP(W60,$AA$39:$AC$45,3,FALSE),0)=\"N\"),9,IF(AND(OR($W$58=\"HEA\",$W$58=\"HEB\"),IFERROR(VLOOKUP(W60,$AA$39:$AC$45,3,FALSE),0)<>\"N\"),19,IF(AND(OR($W$58=\"HEA\",$W$58=\"HEB\"),IFERROR(VLOOKUP(W60,$AA$39:$AC$45,3,FALSE),0)=\"N\"),18,\"ERREUR\")))))))","v":""},{"$f":"IFERROR(VLOOKUP(Z60,$AC$48:$AD$56,2,FALSE),\"\")","v":""},null,null,null,null,1,{"$f":"IFERROR(VLOOKUP(AF60,$X$39:$Y$45,2,FALSE),\"\")","v":""},{"$f":"IF(AG60=\"\",\"\",IF(AND($AG$58=\"JHE\",VLOOKUP(AG60,$AA$39:$AC$45,3,FALSE)=\"N\"),20,\"\"))","v":""},{"$f":"IFERROR(VLOOKUP(AH60,$AC$48:$AD$58,2,FALSE),\"\")","v":""},{"$f":"IF(AG60=\"\",\"\",IF(AND($AG$58=\"JHE\",VLOOKUP(AG60,$AA$39:$AC$45,3,FALSE)=\"N\"),22,\"\"))","v":""},{"$f":"IFERROR(VLOOKUP(AJ60,$AC$48:$AD$58,2,FALSE),\"\")","v":""}]
["Percages E :",null,null,null,null,null,null,"Conducteur 2",{"$f":"IFERROR(IF(OR(IsoSupb2=\"\",IsoSupb2=\"Non\"),\"\",VLOOKUP(K52&L52,Parametres!$AK$60:$AP$759,4,FALSE)),\"\")","v":""},{"$f":"IFERROR(IF(OR(IsoSupb2=\"\",IsoSupb2=\"Non\"),\"\",VLOOKUP(K52&L52,Parametres!$AK$60:$AP$759,5,FALSE)),\"\")","v":""},{"$f":"IFERROR(IF(OR(IsoSupb2=\"\",IsoSupb2=\"Non\"),\"\",VLOOKUP(K52&L52,Parametres!$AK$60:$AP$759,6,FALSE)),\"\")","v":""},{"$f":"IF(OR(IsoSupb2=\"\",IsoSupb2=\"Non\"),\"\",IsoSupb2)","v":""},{"$f":"IF(I61<>I60,5,M60)","v":4},null,null,null,null,null,null,null,null,2,{"$f":"IFERROR(VLOOKUP(V61,$X$39:$Y$45,2,FALSE),\"\")","v":""},{"$f":"IF(W61=\"\",\"\",IF(AND(OR($W$58=\"JHE\",LEFT($W$58,2)=\"PR\"),IFERROR(VLOOKUP(W61,$AA$39:$AC$45,3,FALSE),0)<>\"N\"),9,IF(AND(OR($W$58=\"JHE\",LEFT($W$58,2)=\"PR\"),IFERROR(VLOOKUP(W61,$AA$39:$AC$45,3,FALSE),0)=\"N\"),9,IF(AND(OR($W$58=\"HEA\",$W$58=\"HEB\"),IFERROR(VLOOKUP(W61,$AA$39:$AC$45,3,FALSE),0)<>\"N\"),12,IF(AND(OR($W$58=\"HEA\",$W$58=\"HEB\"),IFERROR(VLOOKUP(W61,$AA$39:$AC$45,3,FALSE),0)=\"N\"),10,\"ERREUR\")))))","v":""},{"$f":"IFERROR(VLOOKUP(X61,$AC$48:$AD$56,2,FALSE),\"\")","v":""},{"$f":"IF(W61=\"\",\"\",IF(AND($W$58=\"JHE\",IFERROR(VLOOKUP(W61,$AA$39:$AC$45,3,FALSE),0)<>\"N\"),15,IF(AND(LEFT($W$58,2)=\"PR\",IFERROR(VLOOKUP(W61,$AA$39:$AC$45,3,FALSE),0)<>\"N\"),9,IF(AND($W$58=\"JHE\",IFERROR(VLOOKUP(W61,$AA$39:$AC$45,3,FALSE),0)=\"N\"),15,IF(AND(LEFT($W$58,2)=\"PR\",IFERROR(VLOOKUP(W61,$AA$39:$AC$45,3,FALSE),0)=\"N\"),9,IF(AND(OR($W$58=\"HEA\",$W$58=\"HEB\"),IFERROR(VLOOKUP(W61,$AA$39:$AC$45,3,FALSE),0)<>\"N\"),19,IF(AND(OR($W$58=\"HEA\",$W$58=\"HEB\"),IFERROR(VLOOKUP(W61,$AA$39:$AC$45,3,FALSE),0)=\"N\"),18,\"ERREUR\")))))))","v":""},{"$f":"IFERROR(VLOOKUP(Z61,$AC$48:$AD$56,2,FALSE),\"\")","v":""},null,null,null,null,2,{"$f":"IFERROR(VLOOKUP(AF61,$X$39:$Y$45,2,FALSE),\"\")","v":""},{"$f":"IF(AG61=\"\",\"\",IF(AND($W$58=\"JHE\",VLOOKUP(AG61,$AA$39:$AC$45,3,FALSE)=\"N\"),20,\"\"))","v":""},{"$f":"IFERROR(VLOOKUP(AH61,$AC$48:$AD$58,2,FALSE),\"\")","v":""},{"$f":"IF(AG61=\"\",\"\",IF(AND($AG$58=\"JHE\",VLOOKUP(AG61,$AA$39:$AC$45,3,FALSE)=\"N\"),22,\"\"))","v":""},{"$f":"IFERROR(VLOOKUP(AJ61,$AC$48:$AD$58,2,FALSE),\"\")","v":""}]
[null,"Ancrage 1","Ancrage 2",null,null,null,null,"Conducteur 3",{"$f":"IFERROR(IF(OR(IsoSupb3=\"\",IsoSupb3=\"Non\"),\"\",VLOOKUP(K53&L53,Parametres!$AK$60:$AP$759,4,FALSE)),\"\")","v":""},{"$f":"IFERROR(IF(OR(IsoSupb3=\"\",IsoSupb3=\"Non\"),\"\",VLOOKUP(K53&L53,Parametres!$AK$60:$AP$759,5,FALSE)),\"\")","v":""},{"$f":"IFERROR(IF(OR(IsoSupb3=\"\",IsoSupb3=\"Non\"),\"\",VLOOKUP(K53&L53,Parametres!$AK$60:$AP$759,6,FALSE)),\"\")","v":""},{"$f":"IF(OR(IsoSupb3=\"\",IsoSupb3=\"Non\"),\"\",IsoSupb3)","v":""},{"$f":"IF(I62=I60,M60,IF(I62=I61,M61,6))","v":4},null,null,null,null,null,null,null,null,3,"","","","","",null,null,null,null,3,"","","","",""]
["Pts 1",null,null,null,null,null,null,null,null,null,null,null,null,null,null,null,null,null,null,null,null,4,"","","","","",null,null,null,null,4,"","","","",""]
["Pts 2",null,null,null,null,null,"Total Isolement Supplémentaire",null,null,"Liste d'iso supp Ancrage 1",null,null,"Liste d'iso supp Ancrage 2",null,null,null,"Longueur AT","X","Y",null,null,5,"","","","","",null,null,null,null,5,"","","","",""]
["Pts 3",null,null,null,null,null,"Numéro","Isolateurs","Quantitées",null,"Isolateurs","Quantitées",null,"Isolateurs","Quantitées",null,222940,{"$f":"2061.13/1000","v":2.0611299999999999},0,null,null,6,"","","","","",null,null,null,null,6,"","","","",""]
["Pts 4",null,null,null,"Ancrage 1",{"$f":"IF($I$57<>0,$I$57,\"\")","v":""},{"$f":"IF(H66<>\"\",1,0)","v":0},{"$f":"IF($I$57<>0,$I$57,\"\")","v":""},{"$f":"L57","v":""},1,{"$f":"IFERROR(VLOOKUP(J66,$G$66:$I$74,2,FALSE),\"\")","v":""},{"$f":"IF(K66=\"\",\"\",SUMIF($H$66:$I$74,K66,$I$66:$I$74))","v":""},1,{"$f":"IFERROR(VLOOKUP(M66,$G$75:$I$83,2,FALSE),\"\")","v":""},{"$f":"IF(N66=\"\",\"\",SUMIF($H$75:$I$83,N66,$I$75:$I$83))","v":""},null,223015,{"$f":"1705/1000","v":1.7050000000000001},0,null,null,7,"","","","","",null,null,null,null,7,"","","","",""]
["Pts 5",null,null,null,null,{"$f":"IF($J$57<>0,$J$57,\"\")","v":""},{"$f":"IF(H67=H66,G66,IF(H67<>\"\",G66+1,\"\"))","v":0},{"$f":"IF($J$57<>0,$J$57,\"\")","v":""},{"$f":"IF(H67=\"\",\"\",L57)","v":""},2,{"$f":"IFERROR(VLOOKUP(J67,$G$66:$I$74,2,FALSE),\"\")","v":""},{"$f":"IF(K67=\"\",\"\",SUMIF($H$66:$I$74,K67,$I$66:$I$74))","v":""},2,{"$f":"IFERROR(VLOOKUP(M67,$G$75:$I$83,2,FALSE),\"\")","v":""},{"$f":"IF(N67=\"\",\"\",SUMIF($H$75:$I$83,N67,$I$75:$I$83))","v":""}]
["Pts 6",null,null,null,null,{"$f":"IF($K$57<>0,$K$57,\"\")","v":""},{"$f":"IF(H68=\"\",G67,IF(IFERROR(VLOOKUP(H68,$F$66:I67,1,FALSE)=H68,FALSE),VLOOKUP(H68,$F$66:I67,2,FALSE),IF(H68<>\"\",G67+1,G67)))","v":0},{"$f":"IF($K$57<>0,$K$57,\"\")","v":""},{"$f":"IF(H68=\"\",\"\",L57)","v":""},3,"","",3,"","",null,"Point n°1"]
["Pts 7",null,null,null,null,{"$f":"IF($I$58<>0,$I$58,\"\")","v":""},{"$f":"IF(H69=\"\",G68,IF(IFERROR(VLOOKUP(H69,$F$66:I68,1,FALSE)=H69,FALSE),VLOOKUP(H69,$F$66:I68,2,FALSE),IF(H69<>\"\",G68+1,G68)))","v":0},{"$f":"IF($I$58<>0,$I$58,\"\")","v":""},{"$f":"IF(H69=\"\",\"\",L58)","v":""},4,"","",4,"","",null,"Point n°2"]
["Massif Ae ?",{"$f":"IF(MassifAnc1=\"Ae\",\"OUI\",\"NON\")","v":"NON"},{"$f":"IF(MassifAnc2=\"Ae\",\"OUI\",\"NON\")","v":"NON"},null,null,{"$f":"IF($J$58<>0,$J$58,\"\")","v":""},{"$f":"IF(H70=\"\",G69,IF(IFERROR(VLOOKUP(H70,$F$66:I69,1,FALSE)=H70,FALSE),VLOOKUP(H70,$F$66:I69,2,FALSE),IF(H70<>\"\",G69+1,G69)))","v":0},{"$f":"IF($J$58<>0,$J$58,\"\")","v":""},{"$f":"IF(H70=\"\",\"\",L58)","v":""},5,"","",5,"","",null,"Point n°3",null,null,null,null,"Longueur de Cables Ancrage 1",null,null,null,"Longueur de Cables Ancrage 2",null,null,null,"Rondelles pour Ancrage seul sur JHE"]
["Type de Massif Ae",null,null,null,null,{"$f":"IF($K$58<>0,$K$58,\"\")","v":""},{"$f":"IF(H71=\"\",G70,IF(IFERROR(VLOOKUP(H71,$F$66:I70,1,FALSE)=H71,FALSE),VLOOKUP(H71,$F$66:I70,2,FALSE),IF(H71<>\"\",G70+1,G70)))","v":0},{"$f":"IF($K$58<>0,$K$58,\"\")","v":""},{"$f":"IF(H71=\"\",\"\",L58)","v":""},6,"","",6,"","",null,null,null,null,null,null,{"$f":"Haubpref1","v":"Rigide"},"Ac Inox 93²","Ac Inox 113²",null,{"$f":"Haubpref2","v":0},"Ac Inox 93²","Ac Inox 113²"]
["Tension Maxi du massif Ae",{"$f":"IF(B71=\"\",\"\",HLOOKUP(B71,Parametres!$K$47:$S$48,2,TRUE))","v":""},{"$f":"IF(C71=\"\",\"\",HLOOKUP(C71,Parametres!$K$47:$S$48,2,TRUE))","v":""},null,null,{"$f":"IF($I$59<>0,$I$59,\"\")","v":""},{"$f":"IF(H72=\"\",G71,IF(IFERROR(VLOOKUP(H72,$F$66:I71,1,FALSE)=H72,FALSE),VLOOKUP(H72,$F$66:I71,2,FALSE),IF(H72<>\"\",G71+1,G71)))","v":0},{"$f":"IF($I$59<>0,$I$59,\"\")","v":""},{"$f":"IF(H72=\"\",\"\",L59)","v":""},7,"","",7,"","",null,null,null,null,null,null,"Hauban 1",{"$f":"IF(B14=\"\",\"\",CEILING(SQRT(IF($B$7<>\"Apns\",B14,B14-2.9)^2+$B$18^2)+0.5,0.5))","v":11},{"$f":"IF(B14=\"\",\"\",CEILING(SQRT(IF($B$7<>\"Apns\",B14,B14-2.9)^2+$B$18^2)+0.5,0.5))","v":11},null,"Hauban 1",{"$f":"IF(C14=\"\",\"\",CEILING(SQRT(IF($C$7<>\"Apns\",C14,C14-2.9)^2+$C$18^2)+0.5,0.5))","v":""},{"$f":"IF(C14=\"\",\"\",CEILING(SQRT(IF($C$7<>\"Apns\",C14,C14-2.9)^2+$C$18^2)+0.5,0.5))","v":""}]
["Acceptable ?",{"$f":"IF(B72=\"\",\"OK\",IFERROR(IF(B72>B5,\"OK\",\"ERREUR\"),\"ERREUR\"))","v":"OK"},{"$f":"IF(C72=\"\",\"OK\",IFERROR(IF(C72>C5,\"OK\",\"ERREUR\"),\"ERREUR\"))","v":"OK"},null,null,{"$f":"IF($J$59<>0,$J$59,\"\")","v":""},{"$f":"IF(H73=\"\",G72,IF(IFERROR(VLOOKUP(H73,$F$66:I72,1,FALSE)=H73,FALSE),VLOOKUP(H73,$F$66:I72,2,FALSE),IF(H73<>\"\",G72+1,G72)))","v":0},{"$f":"IF($J$59<>0,$J$59,\"\")","v":""},{"$f":"IF(H73=\"\",\"\",L59)","v":""},8,"","",8,"","",null,null,null,null,null,null,"Hauban 2",{"$f":"IF(B15=\"\",\"\",CEILING(SQRT(IF($B$7<>\"Apns\",B15,B15-2.9)^2+($B$18+0.25)^2)+0.5,0.5))","v":10.5},{"$f":"IF(B15=\"\",\"\",CEILING(SQRT(IF($B$7<>\"Apns\",B15,B15-2.9)^2+($B$18+0.25)^2)+0.5,0.5))","v":10.5},null,"Hauban 2",{"$f":"IF(C15=\"\",\"\",CEILING(SQRT(IF($C$7<>\"Apns\",C15,C15-2.9)^2+($C$18+0.25)^2)+0.5,0.5))","v":""},{"$f":"IF(C15=\"\",\"\",CEILING(SQRT(IF($C$7<>\"Apns\",C15,C15-2.9)^2+($C$18+0.25)^2)+0.5,0.5))","v":""}]
[null,null,null,null,null,{"$f":"IF($K$59<>0,$K$59,\"\")","v":""},{"$f":"IF(H74=\"\",G73,IF(IFERROR(VLOOKUP(H74,$F$66:I73,1,FALSE)=H74,FALSE),VLOOKUP(H74,$F$66:I73,2,FALSE),IF(H74<>\"\",G73+1,G73)))","v":0},{"$f":"IF($K$59<>0,$K$59,\"\")","v":""},{"$f":"IF(H74=\"\",\"\",L59)","v":""},9,"","",9,"","",null,null,null,null,null,null,"Hauban 3",{"$f":"IF(B16=\"\",\"\",CEILING(SQRT(IF($B$7<>\"Apns\",B16,B16-2.9)^2+$B$18^2)+0.5,0.5))","v":""},{"$f":"IF(B16=\"\",\"\",CEILING(SQRT(IF($B$7<>\"Apns\",B16,B16-2.9)^2+$B$18^2)+0.5,0.5))","v":""},null,"Hauban 3",{"$f":"IF(C16=\"\",\"\",CEILING(SQRT(IF($C$7<>\"Apns\",C16,C16-2.9)^2+$C$18^2)+0.5,0.5))","v":""},{"$f":"IF(C16=\"\",\"\",CEILING(SQRT(IF($C$7<>\"Apns\",C16,C16-2.9)^2+$C$18^2)+0.5,0.5))","v":""}]
[null,null,null,null,"Ancrage 2",{"$f":"IF($I$60<>0,$I$60,\"\")","v":""},{"$f":"IF(H75<>\"\",1,0)","v":0},{"$f":"IF($I$60<>0,$I$60,\"\")","v":""},{"$f":"IF(H75=\"\",\"\",L60)","v":""},null,null,null,null,null,null,null,null,null,null,null,null,"Hauban 4",{"$f":"IF(B17=\"\",\"\",CEILING(SQRT(IF($B$7<>\"Apns\",B17,B17-2.9)^2+($B$18+0.25)^2)+0.5,0.5))","v":""},{"$f":"IF(B17=\"\",\"\",CEILING(SQRT(IF($B$7<>\"Apns\",B17,B17-2.9)^2+($B$18+0.25)^2)+0.5,0.5))","v":""},null,"Hauban 4",{"$f":"IF(C17=\"\",\"\",CEILING(SQRT(IF($C$7<>\"Apns\",C17,C17-2.9)^2+($C$18+0.25)^2)+0.5,0.5))","v":""},{"$f":"IF(C17=\"\",\"\",CEILING(SQRT(IF($C$7<>\"Apns\",C17,C17-2.9)^2+($C$18+0.25)^2)+0.5,0.5))","v":""}]
[null,null,null,null,null,{"$f":"IF($J$60<>0,$J$60,\"\")","v":""},{"$f":"IF(H76=\"\",G75,IF(IFERROR(VLOOKUP(H76,$F$75:I75,1,FALSE)=H76,FALSE),VLOOKUP(H76,$F$75:I75,2,FALSE),IF(H76<>\"\",G75+1,G75)))","v":0},{"$f":"IF($J$60<>0,$J$60,\"\")","v":""},{"$f":"IF(H76=\"\",\"\",L60)","v":""},null,null,null,null,null,null,null,null,null,null,null,null,null,"03682670","03682668",null,null,"03682670","03682668"]
[null,null,null,null,null,{"$f":"IF($K$60<>0,$K$60,\"\")","v":""},{"$f":"IF(H77=\"\",G76,IF(IFERROR(VLOOKUP(H77,$F$75:I76,1,FALSE)=H77,FALSE),VLOOKUP(H77,$F$75:I76,2,FALSE),IF(H77<>\"\",G76+1,G76)))","v":0},{"$f":"IF($K$60<>0,$K$60,\"\")","v":""},{"$f":"IF(H77=\"\",\"\",L60)","v":""}]
[null,null,null,null,null,{"$f":"IF($I$61<>0,$I$61,\"\")","v":""},{"$f":"IF(H78=\"\",G77,IF(IFERROR(VLOOKUP(H78,$F$75:I77,1,FALSE)=H78,FALSE),VLOOKUP(H78,$F$75:I77,2,FALSE),IF(H78<>\"\",G77+1,G77)))","v":0},{"$f":"IF($I$61<>0,$I$61,\"\")","v":""},{"$f":"IF(H78=\"\",\"\",L61)","v":""}]
[null,null,null,null,null,{"$f":"IF($J$61<>0,$J$61,\"\")","v":""},{"$f":"IF(H79=\"\",G78,IF(IFERROR(VLOOKUP(H79,$F$75:I78,1,FALSE)=H79,FALSE),VLOOKUP(H79,$F$75:I78,2,FALSE),IF(H79<>\"\",G78+1,G78)))","v":0},{"$f":"IF($J$61<>0,$J$61,\"\")","v":""},{"$f":"IF(H79=\"\",\"\",L61)","v":""},null,null,null,null,null,null,null,null,"Type de lignes",null,null,"Passage Feeder / CdPA / CdPAo"]
[null,null,null,null,null,{"$f":"IF($K$61<>0,$K$61,\"\")","v":""},{"$f":"IF(H80=\"\",G79,IF(IFERROR(VLOOKUP(H80,$F$75:I79,1,FALSE)=H80,FALSE),VLOOKUP(H80,$F$75:I79,2,FALSE),IF(H80<>\"\",G79+1,G79)))","v":0},{"$f":"IF($K$61<>0,$K$61,\"\")","v":""},{"$f":"IF(H80=\"\",\"\",L61)","v":""},null,null,null,null,null,null,null,null,"CdPAO-voie","CDPAO",1,"Type câble","Hauteur","type ligne",{"$f":"'X,Y'!D2","v":145}]
[null,null,null,null,null,{"$f":"IF($I$62<>0,$I$62,\"\")","v":""},{"$f":"IF(H81=\"\",G80,IF(IFERROR(VLOOKUP(H81,$F$75:I80,1,FALSE)=H81,FALSE),VLOOKUP(H81,$F$75:I80,2,FALSE),IF(H81<>\"\",G80+1,G80)))","v":0},{"$f":"IF($I$62<>0,$I$62,\"\")","v":""},{"$f":"IF(H81=\"\",\"\",L62)","v":""},null,null,null,null,null,null,null,null,"Feeder-voie","FEEDER_A",1,{"$f":"IF(cable1=\"\",\"\",cable1)","v":""},{"$f":"IF(Haut1=\"\",\"\",Haut1*1000)","v":""},{"$f":"IF(U81=\"\",\"\",(VLOOKUP(U81,$R$80:$S$85,2,FALSE)))","v":""},{"$f":"IF(U81=\"\",\"\",VLOOKUP(U81,$R$80:$T$85,3,FALSE))","v":""}]
[null,null,null,null,null,{"$f":"IF($J$62<>0,$J$62,\"\")","v":""},{"$f":"IF(H82=\"\",G81,IF(IFERROR(VLOOKUP(H82,$F$75:I81,1,FALSE)=H82,FALSE),VLOOKUP(H82,$F$75:I81,2,FALSE),IF(H82<>\"\",G81+1,G81)))","v":0},{"$f":"IF($J$62<>0,$J$62,\"\")","v":""},{"$f":"IF(H82=\"\",\"\",L62)","v":""},null,null,null,null,null,null,null,null,"CdPA-voie","CDPA",1,{"$f":"IF(cable2=\"\",\"\",cable2)","v":""},{"$f":"IF(haut2=\"\",\"\",haut2*1000)","v":""},{"$f":"IF(U82=\"\",\"\",(VLOOKUP(U82,$R$80:$S$85,2,FALSE)))","v":""},{"$f":"IF(U82=\"\",\"\",VLOOKUP(U82,$R$80:$T$85,3,FALSE))","v":""}]
[null,null,null,null,null,{"$f":"IF($K$62<>0,$K$62,\"\")","v":""},{"$f":"IF(H83=\"\",G82,IF(IFERROR(VLOOKUP(H83,$F$75:I82,1,FALSE)=H83,FALSE),VLOOKUP(H83,$F$75:I82,2,FALSE),IF(H83<>\"\",G82+1,G82)))","v":0},{"$f":"IF($K$62<>0,$K$62,\"\")","v":""},{"$f":"IF(H83=\"\",\"\",L62)","v":""},null,null,null,null,null,null,null,null,"CdPAO-champ","CDPAO",2,{"$f":"IF(cable3=\"\",\"\",cable3)","v":""},{"$f":"IF(haut3=\"\",\"\",haut3*1000)","v":""},{"$f":"IF(U83=\"\",\"\",(VLOOKUP(U83,$R$80:$S$85,2,FALSE)))","v":""},{"$f":"IF(U83=\"\",\"\",VLOOKUP(U83,$R$80:$T$85,3,FALSE))","v":""}]
[null,null,null,null,null,null,null,null,null,null,null,null,null,null,null,null,null,"Feeder-champ","FEEDER_A",2]
[null,null,"Support JHE ",null,null,"Profilé","Lettre Lg","Lg Maxi (m)",null,"Donnée pour Ancrage",null,null,null,null,null,null,null,"CdPA-champ","CDPA",2]
[null,null,"Si un support affecté est dans cette liste, insert un bloc correspondant a la vrai représentation",null,null,"JHE280A","L",13.9,null,"Support","Lg (m)"]
[null,null,null,null,null,"JHE280B","N",14.9,null,{"$f":"IF(Support=\"\",\"Aucun\",Support)","v":"HEA300"},{"$f":"IF(OR(Support=\"\",Hsupport=\"\",CoteA=\"\"),\"\",Hsupport+CoteA)","v":12.399999999999999}]
[null,null,null,null,null,"JHE320A","O",15.9,null,"Insert ?",{"$f":"IF(LEFT($J$87,2)=\"PR\",\"PR\",IF(IFERROR(VLOOKUP($J$87,$F$86:$F$89,1,FALSE),\"Non\")=\"Non\",\"Non\",IF(VLOOKUP($J$87,$F$86:$H$89,3,FALSE)>=K87,\"JHE\",\"Non\")))","v":"Non"}]
[null,null,null,null,null,"JHE320B","O",15.9]
[]
[null,null,"Si un de ces Ancrages est présent alors liaison du CdpA au support",null,null,null,null,null,null,"Nb",null,"H Perçages ","Nb","Hauteur E :"]
[null,null,"Elec","Plan","Repere","Ancrage 1","Ancrage 2",null,"Ancrage 1",{"$f":"M92","v":1},"Piece 1",{"$f":"HAnca1","v":7.45},{"$f":"IF(L92=0,0,1)","v":1},{"$f":"IF(AND($M$108<>0,$M$108+O92<=$M$107),\"E\"&$M$108+O92&\": L=\"&(VLOOKUP($M$108+O92,$J$92:$M$105,3,FALSE)+$M$109)&\" m\",\"\")","v":"E1: L=8.9 m"},0]
[null,null,"1500V",44050,801,{"$f":"IF(OR(PlanAnca1&RepAnca1=D93&E93,PlanAnca2&RepAnca2=D93&E93,PlanAnca3&RepAnca3=D93&E93),\"Ok\",\"Non\")","v":"Non"},{"$f":"IF(OR(PlanAncb1&RepAncb1=D93&E93,PlanAncb2&RepAncb2=D93&E93,PlanAncb3&RepAncb3=D93&E93),\"Ok\",\"Non\")","v":"Non"},null,null,{"$f":"M93","v":2},"Piece 2",{"$f":"HAnca2","v":6.45},{"$f":"IF(L93=0,M92,IF(L93=L92,M92,M92+1))","v":2},{"$f":"IF(AND($M$108<>0,$M$108+O93<=$M$107),\"E\"&$M$108+O93&\": L=\"&(VLOOKUP($M$108+O93,$J$92:$M$105,3,FALSE)+$M$109)&\" m\",\"\")","v":"E2: L=7.9 m"},1]
[null,null,"25 KV",310446,135,"Non","Non",null,null,2,"Piece 3",{"$f":"HAnca3","v":0},{"$f":"IF(L94=0,M93,IF(OR(L94=L93,L94=L92),M93,M93+1))","v":2},"",2]
[null,null,"25 KV",310484,135,"Non","Non",null,null,2,"Hauban 1",{"$f":"HHauba1","v":7.45},{"$f":"IF(L95=0,M94,IF(OR(L95=L92,L95=L94,L95=L93),M94,M94+1))","v":2},"",3]
[null,null,"25 KV",310483,721,"Non","Non",null,null,2,"Hauban 2",{"$f":"HHauba2","v":6.45},{"$f":"IF(L96=0,M95,IF(OR(L96=L92,L96=L93,L96=L95,L96=L94),M95,M95+1))","v":2},"",4]
[null,null,"25 KV",310484,721,"Non","Non",null,null,2,"Hauban 3",{"$f":"HHauba3","v":0},{"$f":"IF(L97=0,M96,IF(OR(L97=L92,L97=L93,L97=L94,L97=L96,L97=L95),M96,M96+1))","v":2},"",5]
[null,null,"25 KV",310480,136,"Non","Non",null,null,2,"Hauban 4",{"$f":"HHauba4","v":0},{"$f":"IF(L98=0,M97,IF(OR(L98=L92,L98=L93,L98=L94,L98=L95,L98=L97,L98=L96),M97,M97+1))","v":2},"",6]
[null,null,"25 KV",310489,136,"Non","Non",null,"Ancrage 2",2,"Piece 1",{"$f":"HAncb1","v":0},{"$f":"IF(L99=0,M98,IF(OR(L99=L92,L99=L93,L99=L94,L99=L95,L99=L96,L99=L98,L99=L97),M98,M98+1))","v":2},"",7]
[null,null,"25 KV",311446,135,"Non","Non",null,null,2,"Piece 2",{"$f":"HAncb2","v":0},{"$f":"IF(L100=0,M99,IF(OR(L100=L92,L100=L93,L100=L94,L100=L95,L100=L96,L100=L97,L100=L99,L100=L98),M99,M99+1))","v":2},"",8]
[null,null,null,null,null,null,null,null,null,2,"Piece 3",{"$f":"HAncb3","v":0},{"$f":"IF(L101=0,M100,IF(OR(L101=L92,L101=L93,L101=L94,L101=L95,L101=L96,L101=L97,L101=L98,L101=L100,L101=L99),M100,M100+1))","v":2},"",9]
[null,null,44050,802,10983630,null,null,null,null,2,"Hauban 1",{"$f":"HHaubb1","v":0},{"$f":"IF(L102=0,M101,IF(OR(L102=L92,L102=L93,L102=L94,L102=L95,L102=L96,L102=L97,L102=L98,L102=L99,L102=L101,L102=L100),M101,M101+1))","v":2},"",10]
[null,null,333090,"102A","20987297",null,null,null,null,2,"Hauban 2",{"$f":"HHaubb2","v":0},{"$f":"IF(L103=0,M102,IF(OR(L103=L92,L103=L93,L103=L94,L103=L95,L103=L96,L103=L97,L103=L98,L103=L99,L103=L100,L103=L102,L103=L101),M102,M102+1))","v":2},"",11]
[null,null,null,null,null,null,null,null,null,2,"Hauban 3",{"$f":"HHaubb3","v":0},{"$f":"IF(L104=0,M103,IF(OR(L104=L92,L104=L93,L104=L94,L104=L95,L104=L96,L104=L97,L104=L98,L104=L99,L104=L100,L104=L101,L104=L103,L104=L102),M103,M103+1))","v":2},"",12]
[null,null,null,null,null,null,null,null,null,2,"Hauban 4",{"$f":"HHaubb4","v":0},{"$f":"IF(L105=0,M104,IF(OR(L105=L92,L105=L93,L105=L94,L105=L95,L105=L96,L105=L97,L105=L98,L105=L99,L105=L100,L105=L101,L105=L102,L105=L104,L105=L103),M104,M104+1))","v":2},"",13]
[]
[null,null,null,null,null,null,null,null,null,null,null,"Max =",{"$f":"MAX(M92:M105)","v":2}]
[null,null,null,null,null,null,null,null,null,null,null,"Min =",{"$f":"MIN(M92:M105)","v":1}]
[null,null,null,null,null,null,null,null,null,null,null,"Côte A :",{"$f":"IF(CoteA=\"\",\"\",CoteA)","v":1.45}]

{"sheet":"Temp","index":9,"n_rows":58,"n_cols":15,"rows_kept":58,"cut":false,"hidden":true,"merged":[]}
[null,null,null,null,null,null,null,null,null,null,null,null,null,null,"<?xml version=\"1.0\" encoding=\"UTF-8\" standalone=\"yes\"?>"]
[null,null,null,null,null,null,null,null,null,null,null,null,null,null,"<root>"]
[]
["<way position=\"0\" support_name=\"","265-4","\" support_layer=\"","\" anchor_name=\"","\" anchor_layer=\"","\" name=\"\" statusName=\"","\" range=\"\" statusRange=\"","\" radius=\"\" statusRadius=\"","\" slope=\"\" statusSlope=\"","\" height=\"\" statusHeight=\"",null,null,{"$f":"IF(OR(L4=\"\",L4=\" \"),\"Existant\",L4)","v":"Existant"},"\">",{"$f":"A4&B4&C4&M4&D4&IF(Name1=\"\",\"\",Name1)&E4&M7&F4&M4&G4&M4&H4&M4&I4&M4&J4&M4&N4","v":"<way position=\"0\" support_name=\"265-4\" support_layer=\"Existant\" anchor_name=\"\" anchor_layer=\"Existant\" name=\"\" statusName=\"Existant\" range=\"\" statusRange=\"Existant\" radius=\"\" statusRadius=\"Existant\" slope=\"\" statusSlope=\"Existant\" height=\"\" statusHeight=\"Existant\">"}]
["<massif name=\"",{"$f":"A6&B6","v":""},"\" statusName=\"","\" volume=\"",{"$f":"IF(C6=\"\",\"\",C6)","v":""},"m3\" statusVolume=\"","\" momentPar=\"\" statusPar=\"","\" momentPerp=\"\" statusPerp=\"","\" ground=\"\" statusGround=\"",null,null,"Existant",{"$f":"IF(OR(L5=\"\",L5=\" \"),\"Existant\",L5)","v":"Existant"},"\"/>",{"$f":"A5&B5&C5&M5&D5&E5&F5&M5&G5&M5&H5&M5&I5&M5&N5","v":"<massif name=\"\" statusName=\"Existant\" volume=\"m3\" statusVolume=\"Existant\" momentPar=\"\" statusPar=\"Existant\" momentPerp=\"\" statusPerp=\"Existant\" ground=\"\" statusGround=\"Existant\"/>"}]
[null,null,{"$f":"IFERROR(VLOOKUP(A6&B6,Massifs!$Y$3:$Z$38,2,FALSE),\"\")","v":""}]
[null,{"$f":"IFERROR(VLOOKUP(A7,Matériels!$B$2:$F$1004,2,FALSE),\"\")","v":""},{"$f":"IFERROR(VLOOKUP(A7,Matériels!$B$2:$F$1004,4,FALSE),\"\")","v":""},{"$f":"IFERROR(IF(VLOOKUP(A7,Matériels!$B$2:$F$1004,5,FALSE)=\"\",\"\",VLOOKUP(A7,Matériels!$B$2:$F$1004,5,FALSE)),\"\")","v":""},null,null,"<material position=\"0","\" symbol=\"","\" total=\"","\" comment=\"True\" designation=\"","\" status=\"","Existant",{"$f":"IF(OR(L7=\"\",L7=\" \"),\"Existant\",L7)","v":"Existant"},"\"/>",{"$f":"IF(F7=\"\",IF(A7=\"\",\"\",G7&H7&A7&I7&E7&K7&M7&N7),G7&J7&\" Coupon de Rail Lg= \"&F7&\" mm\"&H7&I7&\"1\"&K7&M7&N7)","v":""}]
[null,{"$f":"IFERROR(VLOOKUP(A8,Matériels!$B$2:$F$1004,2,FALSE),\"\")","v":""},{"$f":"IFERROR(VLOOKUP(A8,Matériels!$B$2:$F$1004,4,FALSE),\"\")","v":""},{"$f":"IFERROR(IF(VLOOKUP(A8,Matériels!$B$2:$F$1004,5,FALSE)=\"\",\"\",VLOOKUP(A8,Matériels!$B$2:$F$1004,5,FALSE)),\"\")","v":""},null,null,"<material position=\"1","\" symbol=\"","\" total=\"","\" comment=\"True\" designation=\"","\" status=\"","Existant",{"$f":"IF(OR(L8=\"\",L8=\" \"),\"Existant\",L8)","v":"Existant"},"\"/>",{"$f":"IF(F8=\"\",IF(A8=\"\",\"\",G8&H8&A8&I8&E8&K8&M8&N8),G8&J8&\" Coupon de Rail Lg= \"&F8&\" mm\"&H8&I8&\"1\"&K8&M8&N8)","v":""}]
[null,{"$f":"IFERROR(VLOOKUP(A9,Matériels!$B$2:$F$1004,2,FALSE),\"\")","v":""},{"$f":"IFERROR(VLOOKUP(A9,Matériels!$B$2:$F$1004,4,FALSE),\"\")","v":""},{"$f":"IFERROR(IF(VLOOKUP(A9,Matériels!$B$2:$F$1004,5,FALSE)=\"\",\"\",VLOOKUP(A9,Matériels!$B$2:$F$1004,5,FALSE)),\"\")","v":""},null,null,"<material position=\"2","\" symbol=\"","\" total=\"","\" comment=\"True\" designation=\"","\" status=\"","Existant","Existant","\"/>",""]
[null,{"$f":"IFERROR(VLOOKUP(A10,Matériels!$B$2:$F$1004,2,FALSE),\"\")","v":""},{"$f":"IFERROR(VLOOKUP(A10,Matériels!$B$2:$F$1004,4,FALSE),\"\")","v":""},{"$f":"IFERROR(IF(VLOOKUP(A10,Matériels!$B$2:$F$1004,5,FALSE)=\"\",\"\",VLOOKUP(A10,Matériels!$B$2:$F$1004,5,FALSE)),\"\")","v":""},null,null,"<material position=\"3","\" symbol=\"","\" total=\"","\" comment=\"True\" designation=\"","\" status=\"","Existant","Existant","\"/>",""]
[null,{"$f":"IFERROR(VLOOKUP(A11,Matériels!$B$2:$F$1004,2,FALSE),\"\")","v":""},{"$f":"IFERROR(VLOOKUP(A11,Matériels!$B$2:$F$1004,4,FALSE),\"\")","v":""},{"$f":"IFERROR(IF(VLOOKUP(A11,Matériels!$B$2:$F$1004,5,FALSE)=\"\",\"\",VLOOKUP(A11,Matériels!$B$2:$F$1004,5,FALSE)),\"\")","v":""},null,null,"<material position=\"4","\" symbol=\"","\" total=\"","\" comment=\"True\" designation=\"","\" status=\"","Existant","Existant","\"/>",""]
[null,{"$f":"IFERROR(VLOOKUP(A12,Matériels!$B$2:$F$1004,2,FALSE),\"\")","v":""},{"$f":"IFERROR(VLOOKUP(A12,Matériels!$B$2:$F$1004,4,FALSE),\"\")","v":""},{"$f":"IFERROR(IF(VLOOKUP(A12,Matériels!$B$2:$F$1004,5,FALSE)=\"\",\"\",VLOOKUP(A12,Matériels!$B$2:$F$1004,5,FALSE)),\"\")","v":""},null,null,"<material position=\"5","\" symbol=\"","\" total=\"","\" comment=\"True\" designation=\"","\" status=\"","Existant","Existant","\"/>",""]
[null,{"$f":"IFERROR(VLOOKUP(A13,Matériels!$B$2:$F$1004,2,FALSE),\"\")","v":""},{"$f":"IFERROR(VLOOKUP(A13,Matériels!$B$2:$F$1004,4,FALSE),\"\")","v":""},{"$f":"IFERROR(IF(VLOOKUP(A13,Matériels!$B$2:$F$1004,5,FALSE)=\"\",\"\",VLOOKUP(A13,Matériels!$B$2:$F$1004,5,FALSE)),\"\")","v":""},null,null,"<material position=\"6","\" symbol=\"","\" total=\"","\" comment=\"True\" designation=\"","\" status=\"","Existant","Existant","\"/>",""]
[null,{"$f":"IFERROR(VLOOKUP(A14,Matériels!$B$2:$F$1004,2,FALSE),\"\")","v":""},{"$f":"IFERROR(VLOOKUP(A14,Matériels!$B$2:$F$1004,4,FALSE),\"\")","v":""},{"$f":"IFERROR(IF(VLOOKUP(A14,Matériels!$B$2:$F$1004,5,FALSE)=\"\",\"\",VLOOKUP(A14,Matériels!$B$2:$F$1004,5,FALSE)),\"\")","v":""},null,null,"<material position=\"7","\" symbol=\"","\" total=\"","\" comment=\"True\" designation=\"","\" status=\"","Existant","Existant","\"/>",""]
[null,{"$f":"IFERROR(VLOOKUP(A15,Matériels!$B$2:$F$1004,2,FALSE),\"\")","v":""},{"$f":"IFERROR(VLOOKUP(A15,Matériels!$B$2:$F$1004,4,FALSE),\"\")","v":""},{"$f":"IFERROR(IF(VLOOKUP(A15,Matériels!$B$2:$F$1004,5,FALSE)=\"\",\"\",VLOOKUP(A15,Matériels!$B$2:$F$1004,5,FALSE)),\"\")","v":""},null,null,"<material position=\"8","\" symbol=\"","\" total=\"","\" comment=\"True\" designation=\"","\" status=\"","Existant","Existant","\"/>",""]
[null,{"$f":"IFERROR(VLOOKUP(A16,Matériels!$B$2:$F$1004,2,FALSE),\"\")","v":""},{"$f":"IFERROR(VLOOKUP(A16,Matériels!$B$2:$F$1004,4,FALSE),\"\")","v":""},{"$f":"IFERROR(IF(VLOOKUP(A16,Matériels!$B$2:$F$1004,5,FALSE)=\"\",\"\",VLOOKUP(A16,Matériels!$B$2:$F$1004,5,FALSE)),\"\")","v":""},null,null,"<material position=\"9","\" symbol=\"","\" total=\"","\" comment=\"True\" designation=\"","\" status=\"","Existant","Existant","\"/>",""]
[null,{"$f":"IFERROR(VLOOKUP(A17,Matériels!$B$2:$F$1004,2,FALSE),\"\")","v":""},{"$f":"IFERROR(VLOOKUP(A17,Matériels!$B$2:$F$1004,4,FALSE),\"\")","v":""},{"$f":"IFERROR(IF(VLOOKUP(A17,Matériels!$B$2:$F$1004,5,FALSE)=\"\",\"\",VLOOKUP(A17,Matériels!$B$2:$F$1004,5,FALSE)),\"\")","v":""},null,null,"<material position=\"10","\" symbol=\"","\" total=\"","\" comment=\"True\" designation=\"","\" status=\"","Existant","Existant","\"/>",""]
[null,{"$f":"IFERROR(VLOOKUP(A18,Matériels!$B$2:$F$1004,2,FALSE),\"\")","v":""},{"$f":"IFERROR(VLOOKUP(A18,Matériels!$B$2:$F$1004,4,FALSE),\"\")","v":""},{"$f":"IFERROR(IF(VLOOKUP(A18,Matériels!$B$2:$F$1004,5,FALSE)=\"\",\"\",VLOOKUP(A18,Matériels!$B$2:$F$1004,5,FALSE)),\"\")","v":""},null,null,"<material position=\"11","\" symbol=\"","\" total=\"","\" comment=\"True\" designation=\"","\" status=\"","Existant","Existant","\"/>",""]
[null,{"$f":"IFERROR(VLOOKUP(A19,Matériels!$B$2:$F$1004,2,FALSE),\"\")","v":""},{"$f":"IFERROR(VLOOKUP(A19,Matériels!$B$2:$F$1004,4,FALSE),\"\")","v":""},{"$f":"IFERROR(IF(VLOOKUP(A19,Matériels!$B$2:$F$1004,5,FALSE)=\"\",\"\",VLOOKUP(A19,Matériels!$B$2:$F$1004,5,FALSE)),\"\")","v":""},null,null,"<material position=\"12","\" symbol=\"","\" total=\"","\" comment=\"True\" designation=\"","\" status=\"",null,"Existant","\"/>",""]
[null,{"$f":"IFERROR(VLOOKUP(A20,Matériels!$B$2:$F$1004,2,FALSE),\"\")","v":""},{"$f":"IFERROR(VLOOKUP(A20,Matériels!$B$2:$F$1004,4,FALSE),\"\")","v":""},{"$f":"IFERROR(IF(VLOOKUP(A20,Matériels!$B$2:$F$1004,5,FALSE)=\"\",\"\",VLOOKUP(A20,Matériels!$B$2:$F$1004,5,FALSE)),\"\")","v":""},null,null,"<material position=\"13","\" symbol=\"","\" total=\"","\" comment=\"True\" designation=\"","\" status=\"",null,"Existant","\"/>",""]
[null,{"$f":"IFERROR(VLOOKUP(A21,Matériels!$B$2:$F$1004,2,FALSE),\"\")","v":""},{"$f":"IFERROR(VLOOKUP(A21,Matériels!$B$2:$F$1004,4,FALSE),\"\")","v":""},{"$f":"IFERROR(IF(VLOOKUP(A21,Matériels!$B$2:$F$1004,5,FALSE)=\"\",\"\",VLOOKUP(A21,Matériels!$B$2:$F$1004,5,FALSE)),\"\")","v":""},null,null,"<material position=\"14","\" symbol=\"","\" total=\"","\" comment=\"True\" designation=\"","\" status=\"",null,"Existant","\"/>",""]
[null,{"$f":"IFERROR(VLOOKUP(A22,Matériels!$B$2:$F$1004,2,FALSE),\"\")","v":""},{"$f":"IFERROR(VLOOKUP(A22,Matériels!$B$2:$F$1004,4,FALSE),\"\")","v":""},{"$f":"IFERROR(IF(VLOOKUP(A22,Matériels!$B$2:$F$1004,5,FALSE)=\"\",\"\",VLOOKUP(A22,Matériels!$B$2:$F$1004,5,FALSE)),\"\")","v":""},null,null,"<material position=\"15","\" symbol=\"","\" total=\"","\" comment=\"True\" designation=\"","\" status=\"",null,"Existant","\"/>",""]
[null,{"$f":"IFERROR(VLOOKUP(A23,Matériels!$B$2:$F$1004,2,FALSE),\"\")","v":""},{"$f":"IFERROR(VLOOKUP(A23,Matériels!$B$2:$F$1004,4,FALSE),\"\")","v":""},{"$f":"IFERROR(IF(VLOOKUP(A23,Matériels!$B$2:$F$1004,5,FALSE)=\"\",\"\",VLOOKUP(A23,Matériels!$B$2:$F$1004,5,FALSE)),\"\")","v":""},null,null,"<material position=\"16","\" symbol=\"","\" total=\"","\" comment=\"True\" designation=\"","\" status=\"",null,"Existant","\"/>",""]
[null,{"$f":"IFERROR(VLOOKUP(A24,Matériels!$B$2:$F$1004,2,FALSE),\"\")","v":""},{"$f":"IFERROR(VLOOKUP(A24,Matériels!$B$2:$F$1004,4,FALSE),\"\")","v":""},{"$f":"IFERROR(IF(VLOOKUP(A24,Matériels!$B$2:$F$1004,5,FALSE)=\"\",\"\",VLOOKUP(A24,Matériels!$B$2:$F$1004,5,FALSE)),\"\")","v":""},null,null,"<material position=\"17","\" symbol=\"","\" total=\"","\" comment=\"True\" designation=\"","\" status=\"",null,"Existant","\"/>",""]
[null,{"$f":"IFERROR(VLOOKUP(A25,Matériels!$B$2:$F$1004,2,FALSE),\"\")","v":""},{"$f":"IFERROR(VLOOKUP(A25,Matériels!$B$2:$F$1004,4,FALSE),\"\")","v":""},{"$f":"IFERROR(IF(VLOOKUP(A25,Matériels!$B$2:$F$1004,5,FALSE)=\"\",\"\",VLOOKUP(A25,Matériels!$B$2:$F$1004,5,FALSE)),\"\")","v":""},null,null,"<material position=\"18","\" symbol=\"","\" total=\"","\" comment=\"True\" designation=\"","\" status=\"",null,"Existant","\"/>",""]
[null,{"$f":"IFERROR(VLOOKUP(A26,Matériels!$B$2:$F$1004,2,FALSE),\"\")","v":""},{"$f":"IFERROR(VLOOKUP(A26,Matériels!$B$2:$F$1004,4,FALSE),\"\")","v":""},{"$f":"IFERROR(IF(VLOOKUP(A26,Matériels!$B$2:$F$1004,5,FALSE)=\"\",\"\",VLOOKUP(A26,Matériels!$B$2:$F$1004,5,FALSE)),\"\")","v":""},null,null,"<material position=\"19","\" symbol=\"","\" total=\"","\" comment=\"True\" designation=\"","\" status=\"",null,"Existant","\"/>",""]
[null,{"$f":"IFERROR(VLOOKUP(A27,Matériels!$B$2:$F$1004,2,FALSE),\"\")","v":""},{"$f":"IFERROR(VLOOKUP(A27,Matériels!$B$2:$F$1004,4,FALSE),\"\")","v":""},{"$f":"IFERROR(IF(VLOOKUP(A27,Matériels!$B$2:$F$1004,5,FALSE)=\"\",\"\",VLOOKUP(A27,Matériels!$B$2:$F$1004,5,FALSE)),\"\")","v":""},null,null,"<material position=\"20","\" symbol=\"","\" total=\"","\" comment=\"True\" designation=\"","\" status=\"",null,"Existant","\"/>",""]
[null,{"$f":"IFERROR(VLOOKUP(A28,Matériels!$B$2:$F$1004,2,FALSE),\"\")","v":""},{"$f":"IFERROR(VLOOKUP(A28,Matériels!$B$2:$F$1004,4,FALSE),\"\")","v":""},{"$f":"IFERROR(IF(VLOOKUP(A28,Matériels!$B$2:$F$1004,5,FALSE)=\"\",\"\",VLOOKUP(A28,Matériels!$B$2:$F$1004,5,FALSE)),\"\")","v":""},null,null,"<material position=\"21","\" symbol=\"","\" total=\"","\" comment=\"True\" designation=\"","\" status=\"",null,"Existant","\"/>",""]
[null,null,null,null,null,null,null,null,null,null,null,null,null,null,"</way>"]
[]
[]
["<way position=\"1\" support_name=\"","197-50B Anc","\" support_layer=\"","\" anchor_name=\"","\" anchor_layer=\"","\" name=\"\" statusName=\"","\" range=\"\" statusRange=\"","\" radius=\"\" statusRadius=\"","\" slope=\"\" statusSlope=\"","\" height=\"\" statusHeight=\"",null,"Existant",{"$f":"IF(OR(L32=\"\",L32=\" \"),\"Existant\",L32)","v":"Existant"},"\">",{"$f":"A32&B32&C32&M32&D32&IF(Name2=\"\",\"\",Name2)&E32&M35&F32&M32&G32&M32&H32&M32&I32&M32&J32&M32&N32","v":"<way position=\"1\" support_name=\"197-50B Anc\" support_layer=\"Existant\" anchor_name=\"\" anchor_layer=\"Existant\" name=\"\" statusName=\"Existant\" range=\"\" statusRange=\"Existant\" radius=\"\" statusRadius=\"Existant\" slope=\"\" statusSlope=\"Existant\" height=\"\" statusHeight=\"Existant\">"}]
["<massif name=\"",{"$f":"A34&B34","v":""},"\" statusName=\"","\" volume=\"",{"$f":"IF(C34=\"\",\"\",C34)","v":""},"m3\" statusVolume=\"","\" momentPar=\"\" statusPar=\"","\" momentPerp=\"\" statusPerp=\"","\" ground=\"\" statusGround=\"",null,null,null,"Existant","\"/>",{"$f":"A33&B33&C33&M33&D33&E33&F33&M33&G33&M33&H33&M33&I33&M33&N33","v":"<massif name=\"\" statusName=\"Existant\" volume=\"m3\" statusVolume=\"Existant\" momentPar=\"\" statusPar=\"Existant\" momentPerp=\"\" statusPerp=\"Existant\" ground=\"\" statusGround=\"Existant\"/>"}]
[null,null,{"$f":"IFERROR(VLOOKUP(A34&B34,Massifs!$Y$3:$Z$38,2,FALSE),\"\")","v":""}]
[null,{"$f":"IFERROR(VLOOKUP(A35,Matériels!$B$2:$F$1004,2,FALSE),\"\")","v":""},{"$f":"IFERROR(VLOOKUP(A35,Matériels!$B$2:$F$1004,4,FALSE),\"\")","v":""},{"$f":"IFERROR(IF(VLOOKUP(A35,Matériels!$B$2:$F$1004,5,FALSE)=\"\",\"\",VLOOKUP(A35,Matériels!$B$2:$F$1004,5,FALSE)),\"\")","v":""},null,null,"<material position=\"0","\" symbol=\"","\" total=\"","\" comment=\"True\" designation=\"","\" status=\"",null,{"$f":"IF(OR(L35=\"\",L35=\" \"),\"Existant\",L35)","v":"Existant"},"\"/>",{"$f":"IF(F35=\"\",IF(A35=\"\",\"\",G35&H35&A35&I35&E35&K35&M35&N35),G35&J35&\" Coupon de Rail Lg= \"&F35&\" mm\"&H35&I35&\"1\"&K35&M35&N35)","v":""}]
[null,{"$f":"IFERROR(VLOOKUP(A36,Matériels!$B$2:$F$1004,2,FALSE),\"\")","v":""},{"$f":"IFERROR(VLOOKUP(A36,Matériels!$B$2:$F$1004,4,FALSE),\"\")","v":""},{"$f":"IFERROR(IF(VLOOKUP(A36,Matériels!$B$2:$F$1004,5,FALSE)=\"\",\"\",VLOOKUP(A36,Matériels!$B$2:$F$1004,5,FALSE)),\"\")","v":""},null,null,"<material position=\"1","\" symbol=\"","\" total=\"","\" comment=\"True\" designation=\"","\" status=\"",null,"Existant","\"/>",""]
[null,{"$f":"IFERROR(VLOOKUP(A37,Matériels!$B$2:$F$1004,2,FALSE),\"\")","v":""},{"$f":"IFERROR(VLOOKUP(A37,Matériels!$B$2:$F$1004,4,FALSE),\"\")","v":""},{"$f":"IFERROR(IF(VLOOKUP(A37,Matériels!$B$2:$F$1004,5,FALSE)=\"\",\"\",VLOOKUP(A37,Matériels!$B$2:$F$1004,5,FALSE)),\"\")","v":""},null,null,"<material position=\"2","\" symbol=\"","\" total=\"","\" comment=\"True\" designation=\"","\" status=\"",null,"Existant","\"/>",""]
[null,{"$f":"IFERROR(VLOOKUP(A38,Matériels!$B$2:$F$1004,2,FALSE),\"\")","v":""},{"$f":"IFERROR(VLOOKUP(A38,Matériels!$B$2:$F$1004,4,FALSE),\"\")","v":""},{"$f":"IFERROR(IF(VLOOKUP(A38,Matériels!$B$2:$F$1004,5,FALSE)=\"\",\"\",VLOOKUP(A38,Matériels!$B$2:$F$1004,5,FALSE)),\"\")","v":""},null,null,"<material position=\"3","\" symbol=\"","\" total=\"","\" comment=\"True\" designation=\"","\" status=\"",null,"Existant","\"/>",""]
[null,{"$f":"IFERROR(VLOOKUP(A39,Matériels!$B$2:$F$1004,2,FALSE),\"\")","v":""},{"$f":"IFERROR(VLOOKUP(A39,Matériels!$B$2:$F$1004,4,FALSE),\"\")","v":""},{"$f":"IFERROR(IF(VLOOKUP(A39,Matériels!$B$2:$F$1004,5,FALSE)=\"\",\"\",VLOOKUP(A39,Matériels!$B$2:$F$1004,5,FALSE)),\"\")","v":""},null,null,"<material position=\"4","\" symbol=\"","\" total=\"","\" comment=\"True\" designation=\"","\" status=\"",null,"Existant","\"/>",""]
[null,{"$f":"IFERROR(VLOOKUP(A40,Matériels!$B$2:$F$1004,2,FALSE),\"\")","v":""},{"$f":"IFERROR(VLOOKUP(A40,Matériels!$B$2:$F$1004,4,FALSE),\"\")","v":""},{"$f":"IFERROR(IF(VLOOKUP(A40,Matériels!$B$2:$F$1004,5,FALSE)=\"\",\"\",VLOOKUP(A40,Matériels!$B$2:$F$1004,5,FALSE)),\"\")","v":""},null,null,"<material position=\"5","\" symbol=\"","\" total=\"","\" comment=\"True\" designation=\"","\" status=\"",null,"Existant","\"/>",""]
[null,{"$f":"IFERROR(VLOOKUP(A41,Matériels!$B$2:$F$1004,2,FALSE),\"\")","v":""},{"$f":"IFERROR(VLOOKUP(A41,Matériels!$B$2:$F$1004,4,FALSE),\"\")","v":""},{"$f":"IFERROR(IF(VLOOKUP(A41,Matériels!$B$2:$F$1004,5,FALSE)=\"\",\"\",VLOOKUP(A41,Matériels!$B$2:$F$1004,5,FALSE)),\"\")","v":""},null,null,"<material position=\"6","\" symbol=\"","\" total=\"","\" comment=\"True\" designation=\"","\" status=\"",null,"Existant","\"/>",""]
[null,{"$f":"IFERROR(VLOOKUP(A42,Matériels!$B$2:$F$1004,2,FALSE),\"\")","v":""},{"$f":"IFERROR(VLOOKUP(A42,Matériels!$B$2:$F$1004,4,FALSE),\"\")","v":""},{"$f":"IFERROR(IF(VLOOKUP(A42,Matériels!$B$2:$F$1004,5,FALSE)=\"\",\"\",VLOOKUP(A42,Matériels!$B$2:$F$1004,5,FALSE)),\"\")","v":""},null,null,"<material position=\"7","\" symbol=\"","\" total=\"","\" comment=\"True\" designation=\"","\" status=\"",null,"Existant","\"/>",""]
[null,{"$f":"IFERROR(VLOOKUP(A43,Matériels!$B$2:$F$1004,2,FALSE),\"\")","v":""},{"$f":"IFERROR(VLOOKUP(A43,Matériels!$B$2:$F$1004,4,FALSE),\"\")","v":""},{"$f":"IFERROR(IF(VLOOKUP(A43,Matériels!$B$2:$F$1004,5,FALSE)=\"\",\"\",VLOOKUP(A43,Matériels!$B$2:$F$1004,5,FALSE)),\"\")","v":""},null,null,"<material position=\"8","\" symbol=\"","\" total=\"","\" comment=\"True\" designation=\"","\" status=\"",null,"Existant","\"/>",""]
[null,{"$f":"IFERROR(VLOOKUP(A44,Matériels!$B$2:$F$1004,2,FALSE),\"\")","v":""},{"$f":"IFERROR(VLOOKUP(A44,Matériels!$B$2:$F$1004,4,FALSE),\"\")","v":""},{"$f":"IFERROR(IF(VLOOKUP(A44,Matériels!$B$2:$F$1004,5,FALSE)=\"\",\"\",VLOOKUP(A44,Matériels!$B$2:$F$1004,5,FALSE)),\"\")","v":""},null,null,"<material position=\"9","\" symbol=\"","\" total=\"","\" comment=\"True\" designation=\"","\" status=\"",null,"Existant","\"/>",""]
[null,{"$f":"IFERROR(VLOOKUP(A45,Matériels!$B$2:$F$1004,2,FALSE),\"\")","v":""},{"$f":"IFERROR(VLOOKUP(A45,Matériels!$B$2:$F$1004,4,FALSE),\"\")","v":""},{"$f":"IFERROR(IF(VLOOKUP(A45,Matériels!$B$2:$F$1004,5,FALSE)=\"\",\"\",VLOOKUP(A45,Matériels!$B$2:$F$1004,5,FALSE)),\"\")","v":""},null,null,"<material position=\"10","\" symbol=\"","\" total=\"","\" comment=\"True\" designation=\"","\" status=\"",null,"Existant","\"/>",""]
[null,{"$f":"IFERROR(VLOOKUP(A46,Matériels!$B$2:$F$1004,2,FALSE),\"\")","v":""},{"$f":"IFERROR(VLOOKUP(A46,Matériels!$B$2:$F$1004,4,FALSE),\"\")","v":""},{"$f":"IFERROR(IF(VLOOKUP(A46,Matériels!$B$2:$F$1004,5,FALSE)=\"\",\"\",VLOOKUP(A46,Matériels!$B$2:$F$1004,5,FALSE)),\"\")","v":""},null,null,"<material position=\"11","\" symbol=\"","\" total=\"","\" comment=\"True\" designation=\"","\" status=\"",null,"Existant","\"/>",""]
[null,{"$f":"IFERROR(VLOOKUP(A47,Matériels!$B$2:$F$1004,2,FALSE),\"\")","v":""},{"$f":"IFERROR(VLOOKUP(A47,Matériels!$B$2:$F$1004,4,FALSE),\"\")","v":""},{"$f":"IFERROR(IF(VLOOKUP(A47,Matériels!$B$2:$F$1004,5,FALSE)=\"\",\"\",VLOOKUP(A47,Matériels!$B$2:$F$1004,5,FALSE)),\"\")","v":""},null,null,"<material position=\"12","\" symbol=\"","\" total=\"","\" comment=\"True\" designation=\"","\" status=\"",null,"Existant","\"/>",""]
[null,{"$f":"IFERROR(VLOOKUP(A48,Matériels!$B$2:$F$1004,2,FALSE),\"\")","v":""},{"$f":"IFERROR(VLOOKUP(A48,Matériels!$B$2:$F$1004,4,FALSE),\"\")","v":""},{"$f":"IFERROR(IF(VLOOKUP(A48,Matériels!$B$2:$F$1004,5,FALSE)=\"\",\"\",VLOOKUP(A48,Matériels!$B$2:$F$1004,5,FALSE)),\"\")","v":""},null,null,"<material position=\"13","\" symbol=\"","\" total=\"","\" comment=\"True\" designation=\"","\" status=\"",null,"Existant","\"/>",""]
[null,{"$f":"IFERROR(VLOOKUP(A49,Matériels!$B$2:$F$1004,2,FALSE),\"\")","v":""},{"$f":"IFERROR(VLOOKUP(A49,Matériels!$B$2:$F$1004,4,FALSE),\"\")","v":""},{"$f":"IFERROR(IF(VLOOKUP(A49,Matériels!$B$2:$F$1004,5,FALSE)=\"\",\"\",VLOOKUP(A49,Matériels!$B$2:$F$1004,5,FALSE)),\"\")","v":""},null,null,"<material position=\"14","\" symbol=\"","\" total=\"","\" comment=\"True\" designation=\"","\" status=\"",null,"Existant","\"/>",""]
[null,{"$f":"IFERROR(VLOOKUP(A50,Matériels!$B$2:$F$1004,2,FALSE),\"\")","v":""},{"$f":"IFERROR(VLOOKUP(A50,Matériels!$B$2:$F$1004,4,FALSE),\"\")","v":""},{"$f":"IFERROR(IF(VLOOKUP(A50,Matériels!$B$2:$F$1004,5,FALSE)=\"\",\"\",VLOOKUP(A50,Matériels!$B$2:$F$1004,5,FALSE)),\"\")","v":""},null,null,"<material position=\"15","\" symbol=\"","\" total=\"","\" comment=\"True\" designation=\"","\" status=\"",null,"Existant","\"/>",""]
[null,{"$f":"IFERROR(VLOOKUP(A51,Matériels!$B$2:$F$1004,2,FALSE),\"\")","v":""},{"$f":"IFERROR(VLOOKUP(A51,Matériels!$B$2:$F$1004,4,FALSE),\"\")","v":""},{"$f":"IFERROR(IF(VLOOKUP(A51,Matériels!$B$2:$F$1004,5,FALSE)=\"\",\"\",VLOOKUP(A51,Matériels!$B$2:$F$1004,5,FALSE)),\"\")","v":""},null,null,"<material position=\"16","\" symbol=\"","\" total=\"","\" comment=\"True\" designation=\"","\" status=\"",null,"Existant","\"/>",""]
[null,{"$f":"IFERROR(VLOOKUP(A52,Matériels!$B$2:$F$1004,2,FALSE),\"\")","v":""},{"$f":"IFERROR(VLOOKUP(A52,Matériels!$B$2:$F$1004,4,FALSE),\"\")","v":""},{"$f":"IFERROR(IF(VLOOKUP(A52,Matériels!$B$2:$F$1004,5,FALSE)=\"\",\"\",VLOOKUP(A52,Matériels!$B$2:$F$1004,5,FALSE)),\"\")","v":""},null,null,"<material position=\"17","\" symbol=\"","\" total=\"","\" comment=\"True\" designation=\"","\" status=\"",null,"Existant","\"/>",""]
[null,{"$f":"IFERROR(VLOOKUP(A53,Matériels!$B$2:$F$1004,2,FALSE),\"\")","v":""},{"$f":"IFERROR(VLOOKUP(A53,Matériels!$B$2:$F$1004,4,FALSE),\"\")","v":""},{"$f":"IFERROR(IF(VLOOKUP(A53,Matériels!$B$2:$F$1004,5,FALSE)=\"\",\"\",VLOOKUP(A53,Matériels!$B$2:$F$1004,5,FALSE)),\"\")","v":""},null,null,"<material position=\"18","\" symbol=\"","\" total=\"","\" comment=\"True\" designation=\"","\" status=\"",null,"Existant","\"/>",""]
[null,{"$f":"IFERROR(VLOOKUP(A54,Matériels!$B$2:$F$1004,2,FALSE),\"\")","v":""},{"$f":"IFERROR(VLOOKUP(A54,Matériels!$B$2:$F$1004,4,FALSE),\"\")","v":""},{"$f":"IFERROR(IF(VLOOKUP(A54,Matériels!$B$2:$F$1004,5,FALSE)=\"\",\"\",VLOOKUP(A54,Matériels!$B$2:$F$1004,5,FALSE)),\"\")","v":""},null,null,"<material position=\"19","\" symbol=\"","\" total=\"","\" comment=\"True\" designation=\"","\" status=\"",null,"Existant","\"/>",""]
[null,{"$f":"IFERROR(VLOOKUP(A55,Matériels!$B$2:$F$1004,2,FALSE),\"\")","v":""},{"$f":"IFERROR(VLOOKUP(A55,Matériels!$B$2:$F$1004,4,FALSE),\"\")","v":""},{"$f":"IFERROR(IF(VLOOKUP(A55,Matériels!$B$2:$F$1004,5,FALSE)=\"\",\"\",VLOOKUP(A55,Matériels!$B$2:$F$1004,5,FALSE)),\"\")","v":""},null,null,"<material position=\"20","\" symbol=\"","\" total=\"","\" comment=\"True\" designation=\"","\" status=\"",null,"Existant","\"/>",""]
[null,{"$f":"IFERROR(VLOOKUP(A56,Matériels!$B$2:$F$1004,2,FALSE),\"\")","v":""},{"$f":"IFERROR(VLOOKUP(A56,Matériels!$B$2:$F$1004,4,FALSE),\"\")","v":""},{"$f":"IFERROR(IF(VLOOKUP(A56,Matériels!$B$2:$F$1004,5,FALSE)=\"\",\"\",VLOOKUP(A56,Matériels!$B$2:$F$1004,5,FALSE)),\"\")","v":""},null,null,"<material position=\"21","\" symbol=\"","\" total=\"","\" comment=\"True\" designation=\"","\" status=\"",null,"Existant","\"/>",""]
[null,null,null,null,null,null,null,null,null,null,null,null,null,null,"</way>"]
[null,null,null,null,null,null,null,null,null,null,null,null,null,null,"</root>"]

{"sheet":"Matériels","index":10,"n_rows":764,"n_cols":16,"rows_kept":764,"cut":false,"hidden":true,"merged":[]}
[null,"Symbole","Matériels","Type","Plan","Repère","Paramètre","Unité","Symbole","Plan+Repère","Matériels","Plan","Repère","Symbole",null,"Plage_Plans"]
[null,"A définir","A définir","A définir","A définir","A définir","A définir","A définir","A définir","A définir","A définir","A définir","A définir","A définir",null,"A définir"]
[null,"08828805","Piece de Reglage","Ø24",37605,null,null,null,"08828805",{"$f":"L3&M3","v":"37605"},"Piece de Reglage",37605,null,"08828805",null,37605]
[null,"08828800","Piece de Reglage","Ø30 ou 36",37606,null,null,null,"08828800",{"$f":"L4&M4","v":"37606"},"Piece de Reglage",37606,null,"08828800",null,37606]
[null,"00986713","hauban d'ancrage en câble Ac Inox 93²","Câble Ac Inox 93²",37560,103,null,null,"00986713",{"$f":"L5&M5","v":"37560103"},"hauban d'ancrage en câble Ac Inox 93²",37560,103,"00986713",null,37560]
[null,"00986715","hauban d'ancrage en câble Ac Inox 113²","Câble Ac Inox 113²",37560,105,null,null,"00986715","37560105","hauban d'ancrage en câble Ac Inox 113²",37560,105,"00986715",null,37530]
[null,"08828680","hauban d'ancrage Ø30 de Lg= 4,75m","rigide Ø30",37530,37531,4.75,"m","08828680","3753037531","hauban d'ancrage Ø30 de Lg= 4,75m",37530,37531,"08828680",null,37550]
[null,"08828684","hauban d'ancrage Ø30 de Lg= 5,75m","rigide Ø30",37530,37533,5.75,"m","08828684","3753037533","hauban d'ancrage Ø30 de Lg= 5,75m",37530,37533,"08828684",null,"03682668"]
[null,"08828692","hauban d'ancrage Ø30 de Lg= 8,75m","rigide Ø30",37530,37536,8.75,"m","08828692","3753037536","hauban d'ancrage Ø30 de Lg= 8,75m",37530,37536,"08828692",null,"03682670"]
[null,"08828696","hauban d'ancrage Ø30 de Lg= 9,75m","rigide Ø30",37530,37538,9.75,"m","08828696","3753037538","hauban d'ancrage Ø30 de Lg= 9,75m",37530,37538,"08828696",null,39510]
[null,"08828740","hauban d'ancrage Ø36 de Lg= 4,75m","rigide Ø36",37550,37551,4.75,"m","08828740","3755037551","hauban d'ancrage Ø36 de Lg= 4,75m",37550,37551,"08828740",null,239527]
[null,"08828744","hauban d'ancrage Ø36 de Lg= 5,75m","rigide Ø36",37550,37553,5.75,"m","08828744","3755037553","hauban d'ancrage Ø36 de Lg= 5,75m",37550,37553,"08828744",null,20280]
[null,"08828752","hauban d'ancrage Ø36 de Lg= 8,75m","rigide Ø36",37550,37556,8.75,"m","08828752","3755037556","hauban d'ancrage Ø36 de Lg= 8,75m",37550,37556,"08828752",null,20283]
[null,"08828756","hauban d'ancrage Ø36 de Lg= 9,75m","rigide Ø36",37550,37558,9.75,"m","08828756","3755037558","hauban d'ancrage Ø36 de Lg= 9,75m",37550,37558,"08828756",null,20284]
[null,"03682668","Cable Ac. Inox 113²","113mm²","03682668",null,"A définir","m","03682668","03682668","Cable Ac. Inox 113²","03682668",null,"03682668",null,20285]
[null,"03682670","Cable Ac. Inox 93²","93mm²","03682670",null,"A définir","m","03682670","03682670","Cable Ac. Inox 93²","03682670",null,"03682670",null,220108]
[null,"08828920","Etrier","Ø27",39510,39511,2,"m","08828920","3951039511","Etrier",39510,39511,"08828920",null,222210]
[null,"08828921","Etrier","Ø27",39510,39512,2.2999999999999998,"m","08828921","3951039512","Etrier",39510,39512,"08828921",null,222211]
[null,"08828922","Etrier","Ø27",39510,39513,2.6,"m","08828922","3951039513","Etrier",39510,39513,"08828922",null,22173]
[null,"08858855","Etrier","Ø27 pour massif Acn",239527,null,null,null,"08858855","239527","Etrier",239527,null,"08858855",null,22155]
[null,"08850445","poutrelle d'ancrage  HEA240 ou HEB220","HEA240 ou HEB220",20280,20281,null,null,"08850445","2028020281","poutrelle d'ancrage  HEA240 ou HEB220",20280,20281,"08850445",null,"08800262"]
[null,"08820504","poutrelle d'ancrage  HEA320 ou HEB300","HEA320 ou HEB300",20283,null,null,null,"08820504","20283","poutrelle d'ancrage  HEA320 ou HEB300",20283,null,"08820504",null,"01602026"]
[null,"08820509","poutrelle d'ancrage  HEA320r ou HE300B","HEA320r ou HE300B",20284,null,null,null,"08820509","20284","poutrelle d'ancrage  HEA320r ou HE300B",20284,null,"08820509",null,"01602058"]
[null,"08820495","poutrelle d'ancrage  HEB260","HEB260",20280,20282,null,null,"08820495","2028020282","poutrelle d'ancrage  HEB260",20280,20282,"08820495",null,"01602108"]
[null,"08820520","poutrelle d'ancrage  HEA320 jumelés","HEA320 jumelés",20285,101,null,null,"08820520","20285101","poutrelle d'ancrage  HEA320 jumelés",20285,101,"08820520",null,"01670239"]
[null,"08820521","poutrelle d'ancrage  HEB300 jumelés","HEB300 jumelés",20285,102,null,null,"08820521","20285102","poutrelle d'ancrage  HEB300 jumelés",20285,102,"08820521",null,"08800300"]
[null,"08850435","poutrelle d'ancrage  HEA200 Massif Acn","HEA200 Massif Acn",220108,101,null,null,"08850435","220108101","poutrelle d'ancrage  HEA200 Massif Acn",220108,101,"08850435",null,"08800278"]
[null,"08850436","poutrelle d'ancrage  HEA200 Massif Acn","HEA200 Massif Acn",220108,102,null,null,"08850436","220108102","poutrelle d'ancrage  HEA200 Massif Acn",220108,102,"08850436",null,"01602487"]
[null,"08850437","poutrelle d'ancrage  HEA200 Massif Acn","HEA200 Massif Acn",220108,103,null,null,"08850437","220108103","poutrelle d'ancrage  HEA200 Massif Acn",220108,103,"08850437",null,"01602443"]
[null,"08850442","poutrelle d'ancrage  HEA200 Massif Acn","HEA200 Massif Acn",220108,108,null,null,"08850442","220108108","poutrelle d'ancrage  HEA200 Massif Acn",220108,108,"08850442",null,"01680330"]
[null,"08850900","Piece d'ancrage Câble","25KV Poteaux HE ",222210,null,null,null,"08850900","222210","Piece d'ancrage Câble",222210,null,"08850900",null,"01680333"]
[null,"08850905","Piece d'ancrage Hauban","25KV Poteaux HE",222211,null,null,null,"08850905","222211","Piece d'ancrage Hauban",222211,null,"08850905",null,333090]
[null,"08820583","Piece d'ancrage Câble","1500V Poteaux HE ",22173,null,null,null,"08820583","22173","Piece d'ancrage Câble",22173,null,"08820583",null,37620]
[null,"08820565","Piece d'ancrage Hauban","1500V Poteaux HE",22155,null,null,null,"08820565","22155","Piece d'ancrage Hauban",22155,null,"08820565",null,37623]
[9,"08800262","Tige filetee 20-700/300","1500/25 KV (HE J. / P.P.)","08800262",null,null,null,"08800262","08800262","Tige filetee 20-700/300","08800262",null,"08800262",null,37627]
[10,"01602026","B. H M20-65/46","25KV (Anc isolé)","01602026",null,null,null,"01602026","01602026","B. H M20-65/46","01602026",null,"01602026",null,223015]
[11,"01602058","B. H M20-75/46","25KV (Piece + Allonge)","01602058",null,null,null,"01602058","01602058","B. H M20-75/46","01602058",null,"01602058",null,222940]
[12,"01602108","B. H M20-90/46","25KV (Anc face à face)","01602108",null,null,null,"01602108","01602108","B. H M20-90/46","01602108",null,"01602108",null,305093]
[13,"01670239","Ecrou H M20","25KV (Piece + Allonge)","01670239",null,null,null,"01670239","01670239","Ecrou H M20","01670239",null,"01670239",null,44050]
[14,"08800300","TF 27-1000/300","1500/25KV (Anc. Surelevé)","08800300",null,null,null,"08800300","08800300","TF 27-1000/300","08800300",null,"08800300",null,10985]
[15,"08800278","TF 22-700/300","1500 V (HE Jumelé)","08800278",null,null,null,"08800278","08800278","TF 22-700/300","08800278",null,"08800278",null,10996]
[18,"01602487","B. H M22-100/50","1500 V (Anc isolé)","01602487",null,null,null,"01602487","01602487","B. H M22-100/50","01602487",null,"01602487",null,10965]
[19,"01602443","B. H M22-75/50","1500 V (Anc face à face)","01602443",null,null,null,"01602443","01602443","B. H M22-75/50","01602443",null,"01602443",null,10981]
[null,"08828842","Semelle d'appui","1500/25 KV (Anc. Surelevé)",37620,null,null,null,"08828842","37620","Semelle d'appui",37620,null,"08828842",null,310479]
[null,"08828552","Cuvette","1500/25 KV (Anc. Surelevé)",37623,null,null,null,"08828552","37623","Cuvette",37623,null,"08828552",null,310446]
[null,"00986721","Jumelles de 0,12m",null,37627,101,null,null,"00986721","37627101","Jumelles de 0,12m",37627,101,"00986721",null,310484]
[null,"00986722","Jumelles de 0,50m",null,37627,102,null,null,"00986722","37627102","Jumelles de 0,50m",37627,102,"00986722",null,310481]
[null,"00986723","Jumelles de 1,00m",null,37627,103,null,null,"00986723","37627103","Jumelles de 1,00m",37627,103,"00986723",null,310483]
[null,"00986724","Jumelles de 1,50m",null,37627,104,null,null,"00986724","37627104","Jumelles de 1,50m",37627,104,"00986724",null,310480]
[null,"00986725","Jumelles de 2,00m",null,37627,105,null,null,"00986725","37627105","Jumelles de 2,00m",37627,105,"00986725",null,310489]
[null,"00986726","Jumelles de 2,50m",null,37627,106,null,null,"00986726","37627106","Jumelles de 2,50m",37627,106,"00986726",null,311446]
[null,"00986727","Jumelles de 3,00m",null,37627,107,null,null,"00986727","37627107","Jumelles de 3,00m",37627,107,"00986727"]
[null,"00986728","Jumelles de 3,50m",null,37627,108,null,null,"00986728","37627108","Jumelles de 3,50m",37627,108,"00986728"]
[101,"20984162","Ens. Montage Appareil Tendeur","25 KV",223015,101,null,null,"20984162","223015101","Ens. Montage Appareil Tendeur",223015,101,"20984162"]
[102,"20984163","Ens. Montage Appareil Tendeur","25 KV",223015,102,null,null,"20984163","223015102","Ens. Montage Appareil Tendeur",223015,102,"20984163"]
[103,"20984164","Ens. Montage Appareil Tendeur","25 KV",223015,103,null,null,"20984164","223015103","Ens. Montage Appareil Tendeur",223015,103,"20984164"]
[104,"20984165","Ens. Montage Appareil Tendeur","25 KV",223015,104,null,null,"20984165","223015104","Ens. Montage Appareil Tendeur",223015,104,"20984165"]
[105,"20984166","Ens. Montage Appareil Tendeur","25 KV",223015,105,null,null,"20984166","223015105","Ens. Montage Appareil Tendeur",223015,105,"20984166"]
[106,"20984167","Ens. Montage Appareil Tendeur","25 KV",223015,106,null,null,"20984167","223015106","Ens. Montage Appareil Tendeur",223015,106,"20984167"]
[107,"20984168","Ens. Montage Appareil Tendeur","25 KV",223015,107,null,null,"20984168",{"$f":"L60&M60","v":"223015107"},"Ens. Montage Appareil Tendeur",223015,107,"20984168"]
[108,"20984169","Ens. Montage Appareil Tendeur","25 KV",223015,108,null,null,"20984169","223015108","Ens. Montage Appareil Tendeur",223015,108,"20984169"]
[109,"20984170","Ens. Montage Appareil Tendeur","25 KV",223015,109,null,null,"20984170","223015109","Ens. Montage Appareil Tendeur",223015,109,"20984170"]
[110,"20984171","Ens. Montage Appareil Tendeur","25 KV",223015,110,null,null,"20984171","223015110","Ens. Montage Appareil Tendeur",223015,110,"20984171"]
[111,"20984172","Ens. Montage Appareil Tendeur","25 KV",223015,111,null,null,"20984172","223015111","Ens. Montage Appareil Tendeur",223015,111,"20984172"]
[112,"20984173","Ens. Montage Appareil Tendeur","25 KV",223015,112,null,null,"20984173","223015112","Ens. Montage Appareil Tendeur",223015,112,"20984173"]
[113,"20984174","Ens. Montage Appareil Tendeur","25 KV",223015,113,null,null,"20984174","223015113","Ens. Montage Appareil Tendeur",223015,113,"20984174"]
[114,"20984175","Ens. Montage Appareil Tendeur","25 KV",223015,114,null,null,"20984175","223015114","Ens. Montage Appareil Tendeur",223015,114,"20984175"]
[115,"20984176","Ens. Montage Appareil Tendeur","25 KV",223015,115,null,null,"20984176","223015115","Ens. Montage Appareil Tendeur",223015,115,"20984176"]
[116,"20984177","Ens. Montage Appareil Tendeur","25 KV",223015,116,null,null,"20984177","223015116","Ens. Montage Appareil Tendeur",223015,116,"20984177"]
[121,"20984185","Ens. Montage Appareil Tendeur","25 KV",223015,121,null,null,"20984185","223015121","Ens. Montage Appareil Tendeur",223015,121,"20984185"]
[222941,"10984101","Ens. Montage Appareil Tendeur","1500 V",222940,222941,null,null,"10984101","222940222941","Ens. Montage Appareil Tendeur",222940,222941,"10984101"]
[222942,"10984102","Ens. Montage Appareil Tendeur","1500 V",222940,222942,null,null,"10984102","222940222942","Ens. Montage Appareil Tendeur",222940,222942,"10984102"]
[222943,"10984103","Ens. Montage Appareil Tendeur","1500 V",222940,222943,null,null,"10984103","222940222943","Ens. Montage Appareil Tendeur",222940,222943,"10984103"]
[222944,"10984104","Ens. Montage Appareil Tendeur","1500 V",222940,222944,null,null,"10984104","222940222944","Ens. Montage Appareil Tendeur",222940,222944,"10984104"]
[null,"PT100122","Dé de protection",null,305093,null,null,null,"PT100122","305093","Dé de protection",305093,null,"PT100122"]
[{"$f":"E76&F76","v":"44050801"},10983629,"Ancrage 1 CdPa - 1500V","1500V",44050,801,null,null,10983629,"44050801","Ancrage 1 CdPa - 1500V",44050,801,10983629]
["44050802",10983630,"Liaison au support CdPa - 1500V","1500V",44050,802,null,null,10983630,"44050802","Liaison au support CdPa - 1500V",44050,802,10983630]
["10985204","30982654","Isolement supplementaire PP Bz 116","1500 V",10985,204,null,null,"30982654",{"$f":"L78&M78","v":"10985204"},"Isolement supplementaire PP Bz 116",10985,204,"30982654"]
["10985205","30982655","Isolement supplementaire PP Bz 65","1500 V",10985,205,null,null,"30982655","10985205","Isolement supplementaire PP Bz 65",10985,205,"30982655"]
["10985206","30982803","Isolement supplementaire","1500 V",10985,206,null,null,"30982803","10985206","Isolement supplementaire",10985,206,"30982803"]
["10985251","30982800","Isolement supplementaire","1500 V",10985,251,null,null,"30982800","10985251","Isolement supplementaire",10985,251,"30982800"]
["10985252","30982801","Isolement supplementaire","1500 V",10985,252,null,null,"30982801","10985252","Isolement supplementaire",10985,252,"30982801"]
["10985253","30982802","Isolement supplementaire","1500 V",10985,253,null,null,"30982802","10985253","Isolement supplementaire",10985,253,"30982802"]
["10985351","30982804","Ancrage de 2 Porteurs CN","1500 V",10985,351,null,null,"30982804","10985351","Ancrage de 2 Porteurs CN",10985,351,"30982804"]
["10985352","30982805","Ancrage de 2 Porteurs CR","1500 V",10985,352,null,null,"30982805","10985352","Ancrage de 2 Porteurs CR",10985,352,"30982805"]
["10985361","30982806","Ancrage de 2 Porteurs CN avec 1 traversée","1500 V",10985,361,null,null,"30982806","10985361","Ancrage de 2 Porteurs CN avec 1 traversée",10985,361,"30982806"]
["10985362","30982807","Ancrage de 2 Porteurs CR avec 1 traversée","1500 V",10985,362,null,null,"30982807","10985362","Ancrage de 2 Porteurs CR avec 1 traversée",10985,362,"30982807"]
["10985451","30982808","Ancrage de 2 Fc Cu 107 avec AT","1500 V",10985,451,null,null,"30982808","10985451","Ancrage de 2 Fc Cu 107 avec AT",10985,451,"30982808"]
["10985452","30982809","Ancrage-Type voir rep 1452","1500 V",10985,452,null,null,"30982809","10985452","Ancrage-Type voir rep 1452",10985,452,"30982809"]
["10985461","30982810","Ancrage de 2 Fc Cu 107 avec AT et 1 traversée","1500 V",10985,461,null,null,"30982810","10985461","Ancrage de 2 Fc Cu 107 avec AT et 1 traversée",10985,461,"30982810"]
["10985462","30982811","Ancrage-Type voir rep 1462","1500 V",10985,462,null,null,"30982811","10985462","Ancrage-Type voir rep 1462",10985,462,"30982811"]
["10985521","30982670","Ancrage-Type 10985 Repere 521","1500 V",10985,521,null,null,"30982670","10985521","Ancrage-Type 10985 Repere 521",10985,521,"30982670"]
["10985522","30982660","Ancrage-Type 10985  Repere 522","1500 V",10985,522,null,null,"30982660","10985522","Ancrage-Type 10985  Repere 522",10985,522,"30982660"]
["10985531","30982661","Ancrage-Type 10985  Repere 531","1500 V",10985,531,null,null,"30982661","10985531","Ancrage-Type 10985  Repere 531",10985,531,"30982661"]
["10985532","30982662","Ancrage-Type 10985  Repere 532","1500 V",10985,532,null,null,"30982662","10985532","Ancrage-Type 10985  Repere 532",10985,532,"30982662"]
["10985551","30982812","Ancrage 2fc sans AT","1500 V",10985,551,null,null,"30982812","10985551","Ancrage 2fc sans AT",10985,551,"30982812"]
["10985552","30982813","Ancrage-Type 10985 Repere 552","1500 V",10985,552,null,null,"30982813","10985552","Ancrage-Type 10985 Repere 552",10985,552,"30982813"]
["10985553","30982814","Ancrage-Type 10985 Repere 553","1500 V",10985,553,null,null,"30982814","10985553","Ancrage-Type 10985 Repere 553",10985,553,"30982814"]
["10985561","30982815","Ancrage 2fc sans AT et 1 traversée","1500 V",10985,561,null,null,"30982815","10985561","Ancrage 2fc sans AT et 1 traversée",10985,561,"30982815"]
["10985562","30982816","Ancrage-Type 10985 Repere 562","1500 V",10985,562,null,null,"30982816","10985562","Ancrage-Type 10985 Repere 562",10985,562,"30982816"]
["10985563","30982817","Ancrage-Type 10985 Repere 563","1500 V",10985,563,null,null,"30982817","10985563","Ancrage-Type 10985 Repere 563",10985,563,"30982817"]
["10985601","30982818","Ancrage-Type 10985 Repere 601","1500 V",10985,601,null,null,"30982818","10985601","Ancrage-Type 10985 Repere 601",10985,601,"30982818"]
["10985602","30982672","Ancrage PP Bz 116 sans traversee","1500 V",10985,602,null,null,"30982672","10985602","Ancrage PP Bz 116 sans traversee",10985,602,"30982672"]
["10985603","30982673","Ancrage-Type 10985 Repere 603","1500 V",10985,603,null,null,"30982673","10985603","Ancrage-Type 10985 Repere 603",10985,603,"30982673"]
["10985604","30982674","Ancrage-Type 10985 Repere 604","1500 V",10985,604,null,null,"30982674","10985604","Ancrage-Type 10985 Repere 604",10985,604,"30982674"]
["10985611","30982819","Ancrage-Type 10985 Repere 611","1500 V",10985,611,null,null,"30982819","10985611","Ancrage-Type 10985 Repere 611",10985,611,"30982819"]
["10985612","30982676","Ancrage d'un conducteur sans AT Bz116","1500 V",10985,612,null,null,"30982676","10985612","Ancrage d'un conducteur sans AT Bz116",10985,612,"30982676"]
["10985613","30982677","Ancrage d'un conducteur sans AT Bz65","1500 V",10985,613,null,null,"30982677","10985613","Ancrage d'un conducteur sans AT Bz65",10985,613,"30982677"]
["10985614","30982678","Ancrage d'un conducteur sans AT Fil rainure","1500 V",10985,614,null,null,"30982678","10985614","Ancrage d'un conducteur sans AT Fil rainure",10985,614,"30982678"]
["10985621","30982679","Ancrage-Type 10985 Repere 621","1500 V",10985,621,null,null,"30982679","10985621","Ancrage-Type 10985 Repere 621",10985,621,"30982679"]
["10985631","30982663","Ancrage-Type 10985  Repere 631","1500 V",10985,631,null,null,"30982663","10985631","Ancrage-Type 10985  Repere 631",10985,631,"30982663"]
["10985701","30982680","Ancrage-Type 10985 Repere 701","1500 V",10985,701,null,null,"30982680","10985701","Ancrage-Type 10985 Repere 701",10985,701,"30982680"]
["10985703","30982682","Ancrage-Type 10985 Repere 703","1500 V",10985,703,null,null,"30982682","10985703","Ancrage-Type 10985 Repere 703",10985,703,"30982682"]
["10985731","30982683","Ancrage-Type 10985 Repere 731","1500 V",10985,731,null,null,"30982683","10985731","Ancrage-Type 10985 Repere 731",10985,731,"30982683"]
["10985732","30982684","Ancrage-Type 10985 Repere 732","1500 V",10985,732,null,null,"30982684","10985732","Ancrage-Type 10985 Repere 732",10985,732,"30982684"]
[{"$f":"E116&F116","v":"10985752"},"30982820","Ancrage-Type 10985 Repere 752","1500 V",10985,752,null,null,"30982820","10985752","Ancrage-Type 10985 Repere 752",10985,752,"30982820"]
["10996204","30982504","Ancrage-Type 10996 Repere 204","1500 V",10996,204,null,null,"30982504","10996204","Ancrage-Type 10996 Repere 204",10996,204,"30982504"]
["10996205","30982505","Ancrage-Type 10996 Repere 205","1500 V",10996,205,null,null,"30982505","10996205","Ancrage-Type 10996 Repere 205",10996,205,"30982505"]
["10996521","30982520","Ancrage-Type 10996 Repere 521","1500 V",10996,521,null,null,"30982520","10996521","Ancrage-Type 10996 Repere 521",10996,521,"30982520"]
["10996601","30982521","Ancrage-Type 10996 Repere 601","1500 V",10996,601,null,null,"30982521","10996601","Ancrage-Type 10996 Repere 601",10996,601,"30982521"]
["10996602","30982522","Ancrage-Type 10996 Repere 602","1500 V",10996,602,null,null,"30982522","10996602","Ancrage-Type 10996 Repere 602",10996,602,"30982522"]
["10996603","30982523","Ancrage-Type 10996 Repere 603","1500 V",10996,603,null,null,"30982523","10996603","Ancrage-Type 10996 Repere 603",10996,603,"30982523"]
["10996604","30982524","Ancrage-Type 10996 Repere 604","1500 V",10996,604,null,null,"30982524","10996604","Ancrage-Type 10996 Repere 604",10996,604,"30982524"]
["10996611","30982525","Ancrage-Type 10996 Repere 611","1500 V",10996,611,null,null,"30982525","10996611","Ancrage-Type 10996 Repere 611",10996,611,"30982525"]
["10996612","30982526","Ancrage-Type 10996 Repere 612","1500 V",10996,612,null,null,"30982526",{"$f":"L125&M125","v":"10996612"},"Ancrage-Type 10996 Repere 612",10996,612,"30982526"]
["10996613","30982527","Ancrage-Type 10996 Repere 613","1500 V",10996,613,null,null,"30982527","10996613","Ancrage-Type 10996 Repere 613",10996,613,"30982527"]
["10996614","30982528","Ancrage-Type 10996 Repere 614","1500 V",10996,614,null,null,"30982528","10996614","Ancrage-Type 10996 Repere 614",10996,614,"30982528"]
["10996621","30982529","Ancrage-Type 10996 Repere 621","1500 V",10996,621,null,null,"30982529","10996621","Ancrage-Type 10996 Repere 621",10996,621,"30982529"]
["10996701","30982530","Ancrage-Type 10996 Repere 701","1500 V",10996,701,null,null,"30982530","10996701","Ancrage-Type 10996 Repere 701",10996,701,"30982530"]
["10996703","30982532","Ancrage-Type 10996 Repere 703","1500 V",10996,703,null,null,"30982532","10996703","Ancrage-Type 10996 Repere 703",10996,703,"30982532"]
["10996711","30982533","Ancrage-Type 10996 Repere 711","1500 V",10996,711,null,null,"30982533","10996711","Ancrage-Type 10996 Repere 711",10996,711,"30982533"]
["10996713","30982535","Ancrage-Type 10996 Repere 713","1500 V",10996,713,null,null,"30982535","10996713","Ancrage-Type 10996 Repere 713",10996,713,"30982535"]
["10996721","30982537","Ancrage-Type 10996 Repere 721","1500 V",10996,721,null,null,"30982537","10996721","Ancrage-Type 10996 Repere 721",10996,721,"30982537"]
["10996722","30982538","Ancrage-Type 10996 Repere 722","1500 V",10996,722,null,null,"30982538","10996722","Ancrage-Type 10996 Repere 722",10996,722,"30982538"]
["10996723","30982539","Ancrage-Type 10996 Repere 723","1500 V",10996,723,null,null,"30982539","10996723","Ancrage-Type 10996 Repere 723",10996,723,"30982539"]
["10996724","30982540","Ancrage-Type 10996 Repere 724","1500 V",10996,724,null,null,"30982540","10996724","Ancrage-Type 10996 Repere 724",10996,724,"30982540"]
["10996775","30982541","Ancrage-Type  10996 Repere 775","1500 V",10996,775,null,null,"30982541","10996775","Ancrage-Type  10996 Repere 775",10996,775,"30982541"]
["10996726","30982542","Ancrage-Type 10996 Repere 726","1500 V",10996,726,null,null,"30982542","10996726","Ancrage-Type 10996 Repere 726",10996,726,"30982542"]
["10996731","30982543","Ancrage-Type 10996 Repere 731","1500 V",10996,731,null,null,"30982543","10996731","Ancrage-Type 10996 Repere 731",10996,731,"30982543"]
["10996732","30982544","Ancrage-Type 10996 Repere 732","1500 V",10996,732,null,null,"30982544","10996732","Ancrage-Type 10996 Repere 732",10996,732,"30982544"]
["10996522","30982545","Ancrage-Type  10996 Repere 522","1500 V",10996,522,null,null,"30982545","10996522","Ancrage-Type  10996 Repere 522",10996,522,"30982545"]
["10996531","30982546","Ancrage-Type  10996 Repere 531","1500 V",10996,531,null,null,"30982546","10996531","Ancrage-Type  10996 Repere 531",10996,531,"30982546"]
[{"$f":"E143&F143","v":"10996532"},"30982547","Ancrage-Type  10996 Repere 532","1500 V",10996,532,null,null,"30982547","10996532","Ancrage-Type  10996 Repere 532",10996,532,"30982547"]
["10996631","30982548","Ancrage-Type  10996 Repere 631","1500 V",10996,631,null,null,"30982548","10996631","Ancrage-Type  10996 Repere 631",10996,631,"30982548"]
["10996251","30982700","Isolement supplémentaire","1500 V",10996,251,null,null,"30982700","10996251","Isolement supplémentaire",10996,251,"30982700"]
["10996252","30982701","Isolement supplémentaire","1500 V",10996,252,null,null,"30982701","10996252","Isolement supplémentaire",10996,252,"30982701"]
["10996253","30982702","Isolement supplémentaire","1500 V",10996,253,null,null,"30982702","10996253","Isolement supplémentaire",10996,253,"30982702"]
["10996206","30982703","Ancrage-Type 10996 Repere 206","1500 V",10996,206,null,null,"30982703","10996206","Ancrage-Type 10996 Repere 206",10996,206,"30982703"]
["10996351","30982704","Ancrage CN 2 Porteurs","1500 V",10996,351,null,null,"30982704","10996351","Ancrage CN 2 Porteurs",10996,351,"30982704"]
["10996352","30982705","Ancrage CR 2 Porteurs","1500 V",10996,352,null,null,"30982705","10996352","Ancrage CR 2 Porteurs",10996,352,"30982705"]
["10996361","30982706","Ancrage CN 2 Porteurs avec 1 traversée","1500 V",10996,361,null,null,"30982706","10996361","Ancrage CN 2 Porteurs avec 1 traversée",10996,361,"30982706"]
["10996362","30982707","Ancrage CR 2 Porteurs avec 1 traversée","1500 V",10996,362,null,null,"30982707","10996362","Ancrage CR 2 Porteurs avec 1 traversée",10996,362,"30982707"]
["10996451","30982708","Ancrage-Type 10996 Repere 451","1500 V",10996,451,null,null,"30982708","10996451","Ancrage-Type 10996 Repere 451",10996,451,"30982708"]
["10996452","30982709","Ancrage-Type 10996 Repere 452","1500 V",10996,452,null,null,"30982709","10996452","Ancrage-Type 10996 Repere 452",10996,452,"30982709"]
["10996461","30982710","Ancrage 2Fc de 107mm² avec 1 traversée","1500 V",10996,461,null,null,"30982710","10996461","Ancrage 2Fc de 107mm² avec 1 traversée",10996,461,"30982710"]
["10996462","30982711","Ancrage-Type voir rep 1462","1500 V",10996,462,null,null,"30982711","10996462","Ancrage-Type voir rep 1462",10996,462,"30982711"]
["10996551","30982712","Ancrage-Type 10996 Repere 551","1500 V",10996,551,null,null,"30982712","10996551","Ancrage-Type 10996 Repere 551",10996,551,"30982712"]
["10996552","30982713","Ancrage-Type 10996 Repere 552","1500 V",10996,552,null,null,"30982713","10996552","Ancrage-Type 10996 Repere 552",10996,552,"30982713"]
["10996553","30982714","Ancrage-Type 10996 Repere 553","1500 V",10996,553,null,null,"30982714","10996553","Ancrage-Type 10996 Repere 553",10996,553,"30982714"]
["10996561","30982715","Ancrage-Type 10996 Repere 561","1500 V",10996,561,null,null,"30982715","10996561","Ancrage-Type 10996 Repere 561",10996,561,"30982715"]
["10996562","30982716","Ancrage-Type 10996 Repere 562","1500 V",10996,562,null,null,"30982716","10996562","Ancrage-Type 10996 Repere 562",10996,562,"30982716"]
["10996563","30982717","Ancrage-Type 10996 Repere 563","1500 V",10996,563,null,null,"30982717","10996563","Ancrage-Type 10996 Repere 563",10996,563,"30982717"]
["10996752","30982718","Ancrage-Type 10996 Repere 752","1500 V",10996,752,null,null,"30982718","10996752","Ancrage-Type 10996 Repere 752",10996,752,"30982718"]
["10996762","30982719","Ancrage-Type 10996 Repere 762","1500 V",10996,762,null,null,"30982719","10996762","Ancrage-Type 10996 Repere 762",10996,762,"30982719"]
["10996764","30982720","Ancrage-Type 10996 Repere 764","1500 V",10996,764,null,null,"30982720","10996764","Ancrage-Type 10996 Repere 764",10996,764,"30982720"]
["10965201","30982601","Ancrage-Type 10965 Repere 201","1500 V",10965,201,null,null,"30982601","10965201","Ancrage-Type 10965 Repere 201",10965,201,"30982601"]
["10965202","30982602","Ancrage-Type 10965 Repere 202","1500 V",10965,202,null,null,"30982602","10965202","Ancrage-Type 10965 Repere 202",10965,202,"30982602"]
["10965203","30982603","Ancrage-Type 10965 Repere 203","1500 V",10965,203,null,null,"30982603","10965203","Ancrage-Type 10965 Repere 203",10965,203,"30982603"]
["10965204","30982604","Ancrage-Type 10965 Repere 204","1500 V",10965,204,null,null,"30982604","10965204","Ancrage-Type 10965 Repere 204",10965,204,"30982604"]
["10965211","30982605","Ancrage-Type 10965 Repere 211","1500 V",10965,211,null,null,"30982605","10965211","Ancrage-Type 10965 Repere 211",10965,211,"30982605"]
["10965212","30982606","Ancrage-Type 10965 Repere 212","1500 V",10965,212,null,null,"30982606","10965212","Ancrage-Type 10965 Repere 212",10965,212,"30982606"]
["10965213","30982607","Ancrage-Type 10965 Repere 213","1500 V",10965,213,null,null,"30982607","10965213","Ancrage-Type 10965 Repere 213",10965,213,"30982607"]
["10965214","30982608","Ancrage-Type 10965 Repere 214","1500 V",10965,214,null,null,"30982608","10965214","Ancrage-Type 10965 Repere 214",10965,214,"30982608"]
["10965301","30982609","Ancrage-Type 10965 Repere 301","1500 V",10965,301,null,null,"30982609","10965301","Ancrage-Type 10965 Repere 301",10965,301,"30982609"]
["10965302","30982610","Ancrage-Type 10965 Repere 302","1500 V",10965,302,null,null,"30982610","10965302","Ancrage-Type 10965 Repere 302",10965,302,"30982610"]
["10965311","30982613","Ancrage-Type 10965 Repere 311","1500 V",10965,311,null,null,"30982613","10965311","Ancrage-Type 10965 Repere 311",10965,311,"30982613"]
["10965312","30982614","Ancrage-Type 10965 Repere 312","1500 V",10965,312,null,null,"30982614","10965312","Ancrage-Type 10965 Repere 312",10965,312,"30982614"]
["10965402","30982618","Ancrage-Type 10965 Repere 402","1500 V",10965,402,null,null,"30982618","10965402","Ancrage-Type 10965 Repere 402",10965,402,"30982618"]
["10965403","30982619","Ancrage-Type 10965 Repere 403","1500 V",10965,403,null,null,"30982619","10965403","Ancrage-Type 10965 Repere 403",10965,403,"30982619"]
["10965502","30982622","Ancrage-Type 10965 Repere 502","1500 V",10965,502,null,null,"30982622","10965502","Ancrage-Type 10965 Repere 502",10965,502,"30982622"]
["10965503","30982623","Ancrage-Type 10965 Repere 503","1500 V",10965,503,null,null,"30982623","10965503","Ancrage-Type 10965 Repere 503",10965,503,"30982623"]
["10965604","30982627","Ancrage-Type 10965 Repere 604","1500 V",10965,604,null,null,"30982627","10965604","Ancrage-Type 10965 Repere 604",10965,604,"30982627"]
["10965605","30982628","Ancrage-Type 10965 Repere 605","1500 V",10965,605,null,null,"30982628","10965605","Ancrage-Type 10965 Repere 605",10965,605,"30982628"]
["10965701","30982629","Ancrage-Type 10965 Repere 701","1500 V",10965,701,null,null,"30982629","10965701","Ancrage-Type 10965 Repere 701",10965,701,"30982629"]
["10965702","30982630","Ancrage-Type 10965 Repere 702","1500 V",10965,702,null,null,"30982630","10965702","Ancrage-Type 10965 Repere 702",10965,702,"30982630"]
["10965712","30982634","Ancrage-Type 10965 Repere 712","1500 V",10965,712,null,null,"30982634","10965712","Ancrage-Type 10965 Repere 712",10965,712,"30982634"]
["10965801","30982636","Ancrage-Type 10965 Repere 801","1500 V",10965,801,null,null,"30982636","10965801","Ancrage-Type 10965 Repere 801",10965,801,"30982636"]
["10965813","30982637","Ancrage-Type 10965 Repere 813","1500 V",10965,813,null,null,"30982637","10965813","Ancrage-Type 10965 Repere 813",10965,813,"30982637"]
["10965821","30982638","Ancrage-Type 10965 Repere 821","1500 V",10965,821,null,null,"30982638",{"$f":"L189&M189","v":"10965821"},"Ancrage-Type 10965 Repere 821",10965,821,"30982638"]
["10965822","30982639","Ancrage-Type 10965 Repere 822","1500 V",10965,822,null,null,"30982639","10965822","Ancrage-Type 10965 Repere 822",10965,822,"30982639"]
["10965901","30982640","Ancrage-Type 10965 Repere 901","1500 V",10965,901,null,null,"30982640","10965901","Ancrage-Type 10965 Repere 901",10965,901,"30982640"]
["10965902","30982641","Ancrage-Type 10965 Repere 902","1500 V",10965,902,null,null,"30982641","10965902","Ancrage-Type 10965 Repere 902",10965,902,"30982641"]
["10965911","30982642","Ancrage-Type 10965 Repere 911","1500 V",10965,911,null,null,"30982642","10965911","Ancrage-Type 10965 Repere 911",10965,911,"30982642"]
["10965912","30982643","Ancrage-Type 10965 Repere 912","1500 V",10965,912,null,null,"30982643","10965912","Ancrage-Type 10965 Repere 912",10965,912,"30982643"]
["109651001","30982644","Ancrage-Type 10965 Repere 1001","1500 V",10965,1001,null,null,"30982644","109651001","Ancrage-Type 10965 Repere 1001",10965,1001,"30982644"]
["109651002","30982645","Ancrage-Type 10965 Repere 1002","1500 V",10965,1002,null,null,"30982645","109651002","Ancrage-Type 10965 Repere 1002",10965,1002,"30982645"]
["109651003","30982646","Ancrage-Type 10965 Repere 1003","1500 V",10965,1003,null,null,"30982646","109651003","Ancrage-Type 10965 Repere 1003",10965,1003,"30982646"]
["109651004","30982647","Ancrage-Type 10965 Repere 1004","1500 V",10965,1004,null,null,"30982647","109651004","Ancrage-Type 10965 Repere 1004",10965,1004,"30982647"]
["109651011","30982648","Ancrage-Type 10965 Repere 1011","1500 V",10965,1011,null,null,"30982648","109651011","Ancrage-Type 10965 Repere 1011",10965,1011,"30982648"]
["109651012","30982649","Ancrage-Type 10965 Repere 1012","1500 V",10965,1012,null,null,"30982649","109651012","Ancrage-Type 10965 Repere 1012",10965,1012,"30982649"]
["10965353","30982730","Ancrage-Type 10965 Repere 353","1500 V",10965,353,null,null,"30982730","10965353","Ancrage-Type 10965 Repere 353",10965,353,"30982730"]
["10965354","30982731","Ancrage-Type 10965 Repere 354","1500 V",10965,354,null,null,"30982731","10965354","Ancrage-Type 10965 Repere 354",10965,354,"30982731"]
["10965363","30982732","Ancrage-Type 10965 Repere 363","1500 V",10965,363,null,null,"30982732","10965363","Ancrage-Type 10965 Repere 363",10965,363,"30982732"]
["10965364","30982733","Ancrage-Type 10965 Repere 364","1500 V",10965,364,null,null,"30982733","10965364","Ancrage-Type 10965 Repere 364",10965,364,"30982733"]
["10965451","30982734","Ancrage-Type 10965 Repere 451","1500 V",10965,451,null,null,"30982734","10965451","Ancrage-Type 10965 Repere 451",10965,451,"30982734"]
["10965454","30982735","Ancrage-Type 10965 Repere 454","1500 V",10965,454,null,null,"30982735","10965454","Ancrage-Type 10965 Repere 454",10965,454,"30982735"]
[{"$f":"E207&F207","v":"10965551"},"30982736","Ancrage-Type 10965 Repere 551","1500 V",10965,551,null,null,"30982736","10965551","Ancrage-Type 10965 Repere 551",10965,551,"30982736"]
["10965554","30982737","Ancrage-Type 10965 Repere 554","1500 V",10965,554,null,null,"30982737","10965554","Ancrage-Type 10965 Repere 554",10965,554,"30982737"]
["10965652","30982738","Ancrage-Type 10965 Repere 652","1500 V",10965,652,null,null,"30982738","10965652","Ancrage-Type 10965 Repere 652",10965,652,"30982738"]
["10965653","30982739","Ancrage-Type 10965 Repere 653","1500 V",10965,653,null,null,"30982739","10965653","Ancrage-Type 10965 Repere 653",10965,653,"30982739"]
["10965753","30982740","Ancrage-Type 10965 Repere 753","1500 V",10965,753,null,null,"30982740","10965753","Ancrage-Type 10965 Repere 753",10965,753,"30982740"]
["10965754","30982741","Ancrage-Type 10965 Repere 754","1500 V",10965,754,null,null,"30982741","10965754","Ancrage-Type 10965 Repere 754",10965,754,"30982741"]
["10965763","30982742","Ancrage-Type 10965 Repere 763","1500 V",10965,763,null,null,"30982742","10965763","Ancrage-Type 10965 Repere 763",10965,763,"30982742"]
["10965761","30982743","Ancrage-Type 10965 Repere 761","1500 V",10965,761,null,null,"30982743","10965761","Ancrage-Type 10965 Repere 761",10965,761,"30982743"]
["10965903","30982744","Ancrage-Type 10965 Repere 903","1500 V",10965,903,null,null,"30982744","10965903","Ancrage-Type 10965 Repere 903",10965,903,"30982744"]
["10965904","30982745","Ancrage-Type 10965 Repere 904","1500 V",10965,904,null,null,"30982745","10965904","Ancrage-Type 10965 Repere 904",10965,904,"30982745"]
["10981201","30982551","Ancrage-Type 10981 Repere 201","1500 V",10981,201,null,null,"30982551","10981201","Ancrage-Type 10981 Repere 201",10981,201,"30982551"]
["10981202","30982552","Ancrage-Type 10981 Repere 202","1500 V",10981,202,null,null,"30982552","10981202","Ancrage-Type 10981 Repere 202",10981,202,"30982552"]
["10981203","30982553","Ancrage-Type 10981 Repere 203","1500 V",10981,203,null,null,"30982553","10981203","Ancrage-Type 10981 Repere 203",10981,203,"30982553"]
["10981204","30982554","Ancrage-Type 10981 Repere 204","1500 V",10981,204,null,null,"30982554","10981204","Ancrage-Type 10981 Repere 204",10981,204,"30982554"]
["10981211","30982555","Ancrage-Type 10981 Repere 211","1500 V",10981,211,null,null,"30982555","10981211","Ancrage-Type 10981 Repere 211",10981,211,"30982555"]
["10981212","30982556","Ancrage-Type 10981 Repere 212","1500 V",10981,212,null,null,"30982556","10981212","Ancrage-Type 10981 Repere 212",10981,212,"30982556"]
["10981213","30982557","Ancrage-Type 10981 Repere 213","1500 V",10981,213,null,null,"30982557","10981213","Ancrage-Type 10981 Repere 213",10981,213,"30982557"]
["10981214","30982558","Ancrage-Type 10981 Repere 214","1500 V",10981,214,null,null,"30982558","10981214","Ancrage-Type 10981 Repere 214",10981,214,"30982558"]
["10981301","30982559","Ancrage-Type 10981 Repere 301","1500 V",10981,301,null,null,"30982559","10981301","Ancrage-Type 10981 Repere 301",10981,301,"30982559"]
["10981302","30982560","Ancrage-Type 10981 Repere 302","1500 V",10981,302,null,null,"30982560","10981302","Ancrage-Type 10981 Repere 302",10981,302,"30982560"]
["10981311","30982563","Ancrage-Type 10981 Repere 311","1500 V",10981,311,null,null,"30982563","10981311","Ancrage-Type 10981 Repere 311",10981,311,"30982563"]
["10981312","30982564","Ancrage-Type 10981 Repere 312","1500 V",10981,312,null,null,"30982564","10981312","Ancrage-Type 10981 Repere 312",10981,312,"30982564"]
["10981402","30982568","Ancrage-Type 10981 Repere 402","1500 V",10981,402,null,null,"30982568","10981402","Ancrage-Type 10981 Repere 402",10981,402,"30982568"]
["10981403","30982569","Ancrage-Type 10981 Repere 403","1500 V",10981,403,null,null,"30982569","10981403","Ancrage-Type 10981 Repere 403",10981,403,"30982569"]
["10981502","30982572","Ancrage-Type 10981 Repere 502","1500 V",10981,502,null,null,"30982572","10981502","Ancrage-Type 10981 Repere 502",10981,502,"30982572"]
["10981503","30982573","Ancrage-Type 10981 Repere 503","1500 V",10981,503,null,null,"30982573","10981503","Ancrage-Type 10981 Repere 503",10981,503,"30982573"]
["10981604","30982578","Ancrage-Type 10981 Repere 604","1500 V",10981,604,null,null,"30982578","10981604","Ancrage-Type 10981 Repere 604",10981,604,"30982578"]
["10981605","30982579","Ancrage-Type 10981 Repere 605","1500 V",10981,605,null,null,"30982579","10981605","Ancrage-Type 10981 Repere 605",10981,605,"30982579"]
["10981701","30982580","Ancrage-Type 10981 Repere 701","1500 V",10981,701,null,null,"30982580","10981701","Ancrage-Type 10981 Repere 701",10981,701,"30982580"]
["10981702","30982581","Ancrage-Type 10981 Repere 702","1500 V",10981,702,null,null,"30982581","10981702","Ancrage-Type 10981 Repere 702",10981,702,"30982581"]
["10981712","30982585","Ancrage-Type 10981 Repere 712","1500 V",10981,712,null,null,"30982585","10981712","Ancrage-Type 10981 Repere 712",10981,712,"30982585"]
["10981801","30982587","Ancrage-Type 10981 Repere 801","1500 V",10981,801,null,null,"30982587","10981801","Ancrage-Type 10981 Repere 801",10981,801,"30982587"]
["10981813","30982588","Ancrage-Type 10981 Repere 813","1500 V",10981,813,null,null,"30982588","10981813","Ancrage-Type 10981 Repere 813",10981,813,"30982588"]
["10981821","30982589","Ancrage-Type 10981 Repere 821","1500 V",10981,821,null,null,"30982589","10981821","Ancrage-Type 10981 Repere 821",10981,821,"30982589"]
["10981822","30982590","Ancrage-Type 10981 Repere 822","1500 V",10981,822,null,null,"30982590","10981822","Ancrage-Type 10981 Repere 822",10981,822,"30982590"]
["10981901","30982591","Ancrage-Type 10981 Repere 901","1500 V",10981,901,null,null,"30982591","10981901","Ancrage-Type 10981 Repere 901",10981,901,"30982591"]
["10981902","30982592","Ancrage-Type 10981 Repere 902","1500 V",10981,902,null,null,"30982592","10981902","Ancrage-Type 10981 Repere 902",10981,902,"30982592"]
["10981911","30982593","Ancrage-Type 10981 Repere 911","1500 V",10981,911,null,null,"30982593","10981911","Ancrage-Type 10981 Repere 911",10981,911,"30982593"]
["10981912","30982594","Ancrage-Type 10981 Repere 912","1500 V",10981,912,null,null,"30982594","10981912","Ancrage-Type 10981 Repere 912",10981,912,"30982594"]
["109811001","30982595","Ancrage-Type 10981 Repere 1001","1500 V",10981,1001,null,null,"30982595","109811001","Ancrage-Type 10981 Repere 1001",10981,1001,"30982595"]
["109811002","30982596","Ancrage-Type 10981 Repere 1002","1500 V",10981,1002,null,null,"30982596","109811002","Ancrage-Type 10981 Repere 1002",10981,1002,"30982596"]
["109811003","30982597","Ancrage-Type 10981 Repere 1003","1500 V",10981,1003,null,null,"30982597","109811003","Ancrage-Type 10981 Repere 1003",10981,1003,"30982597"]
["109811004","30982598","Ancrage-Type 10981 Repere 1004","1500 V",10981,1004,null,null,"30982598","109811004","Ancrage-Type 10981 Repere 1004",10981,1004,"30982598"]
["109811011","30982599","Ancrage-Type 10981 Repere 1011","1500 V",10981,1011,null,null,"30982599","109811011","Ancrage-Type 10981 Repere 1011",10981,1011,"30982599"]
["109811012","30982600","Ancrage-Type 10981 Repere 1012","1500 V",10981,1012,null,null,"30982600","109811012","Ancrage-Type 10981 Repere 1012",10981,1012,"30982600"]
["10981353","30982750","Ancrage-Type 10981 Repere 353","1500 V",10981,353,null,null,"30982750","10981353","Ancrage-Type 10981 Repere 353",10981,353,"30982750"]
["10981354","30982751","Ancrage-Type 10981 Repere 354","1500 V",10981,354,null,null,"30982751",{"$f":"L253&M253","v":"10981354"},"Ancrage-Type 10981 Repere 354",10981,354,"30982751"]
["10981363","30982752","Ancrage-Type 10981 Repere 363","1500 V",10981,363,null,null,"30982752","10981363","Ancrage-Type 10981 Repere 363",10981,363,"30982752"]
["10981364","30982753","Ancrage-Type 10981 Repere 364","1500 V",10981,364,null,null,"30982753","10981364","Ancrage-Type 10981 Repere 364",10981,364,"30982753"]
["10981451","30982754","Ancrage-Type 10981 Repere 451","1500 V",10981,451,null,null,"30982754","10981451","Ancrage-Type 10981 Repere 451",10981,451,"30982754"]
["10981454","30982755","Ancrage-Type 10981 Repere 454","1500 V",10981,454,null,null,"30982755","10981454","Ancrage-Type 10981 Repere 454",10981,454,"30982755"]
["10981551","30982756","Ancrage-Type 10981 Repere 551","1500 V",10981,551,null,null,"30982756","10981551","Ancrage-Type 10981 Repere 551",10981,551,"30982756"]
["10981554","30982757","Ancrage-Type 10981 Repere 554","1500 V",10981,554,null,null,"30982757","10981554","Ancrage-Type 10981 Repere 554",10981,554,"30982757"]
["10981652","30982758","Ancrage-Type 10981 Repere 652","1500 V",10981,652,null,null,"30982758","10981652","Ancrage-Type 10981 Repere 652",10981,652,"30982758"]
["10981653","30982759","Ancrage-Type 10981 Repere 653","1500 V",10981,653,null,null,"30982759","10981653","Ancrage-Type 10981 Repere 653",10981,653,"30982759"]
["10981753","30982760","Ancrage-Type 10981 Repere 753","1500 V",10981,753,null,null,"30982760","10981753","Ancrage-Type 10981 Repere 753",10981,753,"30982760"]
["10981754","30982761","Ancrage-Type 10981 Repere 754","1500 V",10981,754,null,null,"30982761","10981754","Ancrage-Type 10981 Repere 754",10981,754,"30982761"]
["10981761","30982762","Ancrage-Type 10981 Repere 761","1500 V",10981,761,null,null,"30982762","10981761","Ancrage-Type 10981 Repere 761",10981,761,"30982762"]
["10981763","30982763","Ancrage-Type 10981 Repere 763","1500 V",10981,763,null,null,"30982763","10981763","Ancrage-Type 10981 Repere 763",10981,763,"30982763"]
["10981903","30982764","Ancrage-Type 10981 Repere 903","1500 V",10981,903,null,null,"30982764","10981903","Ancrage-Type 10981 Repere 903",10981,903,"30982764"]
["10981904","30982765","Ancrage-Type 10981 Repere 904","1500 V",10981,904,null,null,"30982765","10981904","Ancrage-Type 10981 Repere 904",10981,904,"30982765"]
["310479201","20982760","Ancrage Feeder Z. Polluee  201","1500 V",310479,201,null,null,"20982760","310479201","Ancrage Feeder Z. Polluee  201",310479,201,"20982760"]
["310479202","20982761","Ancrage Feeder Z. Polluee  202","1500 V",310479,202,null,null,"20982761","310479202","Ancrage Feeder Z. Polluee  202",310479,202,"20982761"]
["310479203","20982762","Ancrage Feeder Z. Polluee  203","1500 V",310479,203,null,null,"20982762","310479203","Ancrage Feeder Z. Polluee  203",310479,203,"20982762"]
[{"$f":"E271&F271","v":"310479204"},"20982763","Ancrage Feeder Z. Polluee  204","1500 V",310479,204,null,null,"20982763","310479204","Ancrage Feeder Z. Polluee  204",310479,204,"20982763"]
["310479211","20982764","Ancrage Feeder Z. Polluee  211","1500 V",310479,211,null,null,"20982764","310479211","Ancrage Feeder Z. Polluee  211",310479,211,"20982764"]
["310479212","20982765","Ancrage Feeder Z. Polluee  212","1500 V",310479,212,null,null,"20982765","310479212","Ancrage Feeder Z. Polluee  212",310479,212,"20982765"]
["310479213","20982766","Ancrage Feeder Z. Polluee  213","1500 V",310479,213,null,null,"20982766","310479213","Ancrage Feeder Z. Polluee  213",310479,213,"20982766"]
["310479214","20982767","Ancrage Feeder Z. Polluee  214","1500 V",310479,214,null,null,"20982767","310479214","Ancrage Feeder Z. Polluee  214",310479,214,"20982767"]
["310479221","20982768","Ancrage Feeder Z. Polluee  221","1500 V",310479,221,null,null,"20982768","310479221","Ancrage Feeder Z. Polluee  221",310479,221,"20982768"]
["310479222","20982769","Ancrage Feeder Z. Polluee  222","1500 V",310479,222,null,null,"20982769","310479222","Ancrage Feeder Z. Polluee  222",310479,222,"20982769"]
["310479223","20982770","Ancrage Feeder Z. Polluee  223","1500 V",310479,223,null,null,"20982770","310479223","Ancrage Feeder Z. Polluee  223",310479,223,"20982770"]
["310479224","20982771","Ancrage Feeder Z. Polluee  224","1500 V",310479,224,null,null,"20982771","310479224","Ancrage Feeder Z. Polluee  224",310479,224,"20982771"]
["310479231","20982772","Ancrage Feeder Z. Polluee  231","1500 V",310479,231,null,null,"20982772","310479231","Ancrage Feeder Z. Polluee  231",310479,231,"20982772"]
["310479232","20982773","Ancrage Feeder Z. Polluee  232","1500 V",310479,232,null,null,"20982773","310479232","Ancrage Feeder Z. Polluee  232",310479,232,"20982773"]
["310479233","20982774","Ancrage Feeder Z. Polluee  233","1500 V",310479,233,null,null,"20982774","310479233","Ancrage Feeder Z. Polluee  233",310479,233,"20982774"]
["310479234","20982775","Ancrage Feeder Z. Polluee  234","1500 V",310479,234,null,null,"20982775","310479234","Ancrage Feeder Z. Polluee  234",310479,234,"20982775"]
["310479241","20982776","Ancrage Feeder Z. Polluee  241","1500 V",310479,241,null,null,"20982776","310479241","Ancrage Feeder Z. Polluee  241",310479,241,"20982776"]
["310479242","20982777","Ancrage Feeder Z. Polluee  242","1500 V",310479,242,null,null,"20982777","310479242","Ancrage Feeder Z. Polluee  242",310479,242,"20982777"]
["310479251","20982778","Ancrage Feeder Z. Polluee  251","1500 V",310479,251,null,null,"20982778","310479251","Ancrage Feeder Z. Polluee  251",310479,251,"20982778"]
["310479252","20982779","Ancrage Feeder Z. Polluee  252","1500 V",310479,252,null,null,"20982779","310479252","Ancrage Feeder Z. Polluee  252",310479,252,"20982779"]
["310479301","20982780","Ancrage Feeder Z. Polluee  301","1500 V",310479,301,null,null,"20982780","310479301","Ancrage Feeder Z. Polluee  301",310479,301,"20982780"]
["310479302","20982781","Ancrage Feeder Z. Polluee  302","1500 V",310479,302,null,null,"20982781","310479302","Ancrage Feeder Z. Polluee  302",310479,302,"20982781"]
["310479311","20982782","Ancrage Feeder Z. Polluee  311","1500 V",310479,311,null,null,"20982782","310479311","Ancrage Feeder Z. Polluee  311",310479,311,"20982782"]
["310479312","20982783","Ancrage Feeder Z. Polluee  312","1500 V",310479,312,null,null,"20982783","310479312","Ancrage Feeder Z. Polluee  312",310479,312,"20982783"]
["310479401","20982784","Ancrage Feeder Z. Polluee  401","1500 V",310479,401,null,null,"20982784","310479401","Ancrage Feeder Z. Polluee  401",310479,401,"20982784"]
["310479402","20982785","Ancrage Feeder Z. Polluee  402","1500 V",310479,402,null,null,"20982785","310479402","Ancrage Feeder Z. Polluee  402",310479,402,"20982785"]
["310479411","20982786","Ancrage Feeder Z. Polluee  411","1500 V",310479,411,null,null,"20982786","310479411","Ancrage Feeder Z. Polluee  411",310479,411,"20982786"]
["310479421","20982787","Ancrage Feeder Z. Polluee  421","1500 V",310479,421,null,null,"20982787","310479421","Ancrage Feeder Z. Polluee  421",310479,421,"20982787"]
["310479431","20982788","Ancrage Feeder Z. Polluee  431","1500 V",310479,431,null,null,"20982788","310479431","Ancrage Feeder Z. Polluee  431",310479,431,"20982788"]
["310479432","20982789","Ancrage Feeder Z. Polluee  432","1500 V",310479,432,null,null,"20982789","310479432","Ancrage Feeder Z. Polluee  432",310479,432,"20982789"]
["333090102A",20987297,"Liaison du CdPA au support","25 KV",333090,"102A",null,null,20987297,"333090102A","Liaison du CdPA au support",333090,"102A",20987297]
["333090102A","20987297","Liaison du CdPA au support","25 KV",333090,"102A",null,null,"20987297","333090102A","Liaison du CdPA au support",333090,"102A",60985988]
[null,null,null,"25 KV",333090,"102C",null,null,60985988,"333090102C","Liaison du CdPA au support",333090,"102C",60985988]
[null,null,null,"25 KV",333090,"102C",null,null,"60985988","333090102C","Liaison du CdPA au support",333090,"102C","60985988"]
["310446101","40982761","Ancrage-Type 310446 Repere 101","25 KV",310446,101,null,null,"40982761","310446101","Ancrage-Type 310446 Repere 101",310446,101,"40982761"]
["310446102","40982762","Ancrage-Type 310446 Repere 102","25 KV",310446,102,null,null,"40982762","310446102","Ancrage-Type 310446 Repere 102",310446,102,"40982762"]
[{"$f":"E304&F304","v":"310446103"},"40982763","Ancrage-Type 310446 Repere 103","25 KV",310446,103,null,null,"40982763","310446103","Ancrage-Type 310446 Repere 103",310446,103,"40982763"]
["310446104","40982764","Ancrage-Type 310446 Repere 104","25 KV",310446,104,null,null,"40982764","310446104","Ancrage-Type 310446 Repere 104",310446,104,"40982764"]
["310446106","40982766","Ancrage-Type 310446 Repere 106","25 KV",310446,106,null,null,"40982766","310446106","Ancrage-Type 310446 Repere 106",310446,106,"40982766"]
["310446107","40982767","Ancrage-Type 310446 Repere 107","25 KV",310446,107,null,null,"40982767","310446107","Ancrage-Type 310446 Repere 107",310446,107,"40982767"]
["310446108","40982768","Ancrage-Type 310446 Repere 108","25 KV",310446,108,null,null,"40982768","310446108","Ancrage-Type 310446 Repere 108",310446,108,"40982768"]
["310446109","40982769","Ancrage-Type 310446 Repere 109","25 KV",310446,109,null,null,"40982769","310446109","Ancrage-Type 310446 Repere 109",310446,109,"40982769"]
["310446110","40982770","Ancrage-Type 310446 Repere 110","25 KV",310446,110,null,null,"40982770","310446110","Ancrage-Type 310446 Repere 110",310446,110,"40982770"]
["310446112","40982772","Ancrage-Type 310446 Repere 112","25 KV",310446,112,null,null,"40982772","310446112","Ancrage-Type 310446 Repere 112",310446,112,"40982772"]
["310446113","40982773","Ancrage-Type 310446 Repere 113","25 KV",310446,113,null,null,"40982773","310446113","Ancrage-Type 310446 Repere 113",310446,113,"40982773"]
["310446114","40982774","Ancrage-Type 310446 Repere 114","25 KV",310446,114,null,null,"40982774","310446114","Ancrage-Type 310446 Repere 114",310446,114,"40982774"]
["310446115","40982775","Ancrage-Type 310446 Repere 115","25 KV",310446,115,null,null,"40982775","310446115","Ancrage-Type 310446 Repere 115",310446,115,"40982775"]
["310446116","40982776","Ancrage-Type 310446 Repere 116","25 KV",310446,116,null,null,"40982776","310446116","Ancrage-Type 310446 Repere 116",310446,116,"40982776"]
["310446117","40982777","Ancrage-Type 310446 Repere 117","25 KV",310446,117,null,null,"40982777","310446117","Ancrage-Type 310446 Repere 117",310446,117,"40982777"]
["310446118","40982778","Ancrage-Type 310446 Repere 118","25 KV",310446,118,null,null,"40982778","310446118","Ancrage-Type 310446 Repere 118",310446,118,"40982778"]
["310446119","40982779","Ancrage-Type 310446 Repere 119","25 KV",310446,119,null,null,"40982779","310446119","Ancrage-Type 310446 Repere 119",310446,119,"40982779"]
["310446120","40982780","Ancrage-Type 310446 Repere 120","25 KV",310446,120,null,null,"40982780","310446120","Ancrage-Type 310446 Repere 120",310446,120,"40982780"]
["310446122","40982782","Ancrage-Type 310446 Repere 122","25 KV",310446,122,null,null,"40982782",{"$f":"L320&M320","v":"310446122"},"Ancrage-Type 310446 Repere 122",310446,122,"40982782"]
["310446123","40982783","Ancrage-Type 310446 Repere 123","25 KV",310446,123,null,null,"40982783","310446123","Ancrage-Type 310446 Repere 123",310446,123,"40982783"]
["310446124","40982784","Ancrage-Type 310446 Repere 124","25 KV",310446,124,null,null,"40982784","310446124","Ancrage-Type 310446 Repere 124",310446,124,"40982784"]
["310446125","40982785","Ancrage-Type 310446 Repere 125","25 KV",310446,125,null,null,"40982785","310446125","Ancrage-Type 310446 Repere 125",310446,125,"40982785"]
["310446127","40982787","Ancrage-Type 310446 Repere 127","25 KV",310446,127,null,null,"40982787","310446127","Ancrage-Type 310446 Repere 127",310446,127,"40982787"]
["310446129","40982789","Ancrage-Type 310446 Repere 129","25 KV",310446,129,null,null,"40982789","310446129","Ancrage-Type 310446 Repere 129",310446,129,"40982789"]
["310446130","40982790","Ancrage-Type 310446 Repere 130","25 KV",310446,130,null,null,"40982790","310446130","Ancrage-Type 310446 Repere 130",310446,130,"40982790"]
["310446135","40982795","Ancrage-Type 310446 Repere 135","25 KV",310446,135,null,null,"40982795","310446135","Ancrage-Type 310446 Repere 135",310446,135,"40982795"]
["310446137","40982797","Ancrage-Type 310446 Repere 137","25 KV",310446,137,null,null,"40982797","310446137","Ancrage-Type 310446 Repere 137",310446,137,"40982797"]
["310446139","40982799","Ancrage-Type 310446 Repere 139","25 KV",310446,139,null,null,"40982799","310446139","Ancrage-Type 310446 Repere 139",310446,139,"40982799"]
["310446140","40982800","Ancrage-Type 310446 Repere 140","25 KV",310446,140,null,null,"40982800","310446140","Ancrage-Type 310446 Repere 140",310446,140,"40982800"]
["310446143","40982803","Ancrage-Type 310446 Repere 143","25 KV",310446,143,null,null,"40982803","310446143","Ancrage-Type 310446 Repere 143",310446,143,"40982803"]
["310446144","40982804","Ancrage-Type 310446 Repere 144","25 KV",310446,144,null,null,"40982804","310446144","Ancrage-Type 310446 Repere 144",310446,144,"40982804"]
["310446146","40982806","Ancrage-Type 310446 Repere 146","25 KV",310446,146,null,null,"40982806","310446146","Ancrage-Type 310446 Repere 146",310446,146,"40982806"]
["310446147","40982807","Ancrage-Type 310446 Repere 147","25 KV",310446,147,null,null,"40982807","310446147","Ancrage-Type 310446 Repere 147",310446,147,"40982807"]
["310446148","40982808","Ancrage-Type 310446 Repere 148","25 KV",310446,148,null,null,"40982808","310446148","Ancrage-Type 310446 Repere 148",310446,148,"40982808"]
["310446149","40982809","Ancrage-Type 310446 Repere 149","25 KV",310446,149,null,null,"40982809","310446149","Ancrage-Type 310446 Repere 149",310446,149,"40982809"]
["310446150","40982810","Ancrage-Type 310446 Repere 150","25 KV",310446,150,null,null,"40982810","310446150","Ancrage-Type 310446 Repere 150",310446,150,"40982810"]
["310446151","40982811","Ancrage-Type 310446 Repere 151","25 KV",310446,151,null,null,"40982811","310446151","Ancrage-Type 310446 Repere 151",310446,151,"40982811"]
["310446153","40982813","Ancrage-Type 310446 Repere 153","25 KV",310446,153,null,null,"40982813","310446153","Ancrage-Type 310446 Repere 153",310446,153,"40982813"]
["310446154","40982814","Ancrage-Type 310446 Repere 154","25 KV",310446,154,null,null,"40982814","310446154","Ancrage-Type 310446 Repere 154",310446,154,"40982814"]
["310446155","40982815","Ancrage-Type 310446 Repere 155","25 KV",310446,155,null,null,"40982815","310446155","Ancrage-Type 310446 Repere 155",310446,155,"40982815"]
["310446157","40982817","Ancrage-Type 310446 Repere 157","25 KV",310446,157,null,null,"40982817","310446157","Ancrage-Type 310446 Repere 157",310446,157,"40982817"]
["310446158","40982818","Ancrage-Type 310446 Repere 158","25 KV",310446,158,null,null,"40982818","310446158","Ancrage-Type 310446 Repere 158",310446,158,"40982818"]
["310446159","40982819","Ancrage-Type 310446 Repere 159","25 KV",310446,159,null,null,"40982819","310446159","Ancrage-Type 310446 Repere 159",310446,159,"40982819"]
["310446161","40982821","Ancrage-Type 310446 Repere 161","25 KV",310446,161,null,null,"40982821","310446161","Ancrage-Type 310446 Repere 161",310446,161,"40982821"]
["310446163","40982823","Ancrage-Type 310446 Repere 163","25 KV",310446,163,null,null,"40982823","310446163","Ancrage-Type 310446 Repere 163",310446,163,"40982823"]
["310446164","40982825","Ancrage-Type   310446 Rep. 164","25 KV",310446,164,null,null,"40982825","310446164","Ancrage-Type   310446 Rep. 164",310446,164,"40982825"]
["310446167","40982827","Ancrage-Type 310446 Repere 167","25 KV",310446,167,null,null,"40982827","310446167","Ancrage-Type 310446 Repere 167",310446,167,"40982827"]
["310446168","40982829","Ancrage-Type   310446 Rep. 168","25 KV",310446,168,null,null,"40982829","310446168","Ancrage-Type   310446 Rep. 168",310446,168,"40982829"]
["310446137P","40982830","Ancrage-Type     310446 R.137P","25 KV",310446,"137P",null,null,"40982830","310446137P","Ancrage-Type     310446 R.137P",310446,"137P","40982830"]
["310446101P","40982985","Anctage-Type 310446  Rep. 101P","25 KV",310446,"101P",null,null,"40982985","310446101P","Anctage-Type 310446  Rep. 101P",310446,"101P","40982985"]
["310446103P","40982986","Ancrage-Type 310446  Rep. 103P","25 KV",310446,"103P",null,null,"40982986","310446103P","Ancrage-Type 310446  Rep. 103P",310446,"103P","40982986"]
["310446106P","40982987","Ancrage-Type 310446  Rep. 106P","25 KV",310446,"106P",null,null,"40982987","310446106P","Ancrage-Type 310446  Rep. 106P",310446,"106P","40982987"]
["310446112P","40982989","Ancrage-Type 310446  Rep. 112P","25 KV",310446,"112P",null,null,"40982989","310446112P","Ancrage-Type 310446  Rep. 112P",310446,"112P","40982989"]
["310446113P","40982990","Ancrage-Type 310446  Rep. 113P","25 KV",310446,"113P",null,null,"40982990","310446113P","Ancrage-Type 310446  Rep. 113P",310446,"113P","40982990"]
["310446117P","40982992","Ancrage-Type 310446  Rep. 117P","25 KV",310446,"117P",null,null,"40982992","310446117P","Ancrage-Type 310446  Rep. 117P",310446,"117P","40982992"]
["310446127P","40982996","Ancrage-Type 310446  Rep. 127P","25 KV",310446,"127P",null,null,"40982996","310446127P","Ancrage-Type 310446  Rep. 127P",310446,"127P","40982996"]
["310446129P","40982998","Ancrage-Type 310446  Rep. 129P","25 KV",310446,"129P",null,null,"40982998","310446129P","Ancrage-Type 310446  Rep. 129P",310446,"129P","40982998"]
["310446130P","40982999","Ancrage-Type 310446  Rep. 130P","25 KV",310446,"130P",null,null,"40982999","310446130P","Ancrage-Type 310446  Rep. 130P",310446,"130P","40982999"]
["310446143P","40983000","Ancrage-Type 310446  Rep. 143P","25 KV",310446,"143P",null,null,"40983000","310446143P","Ancrage-Type 310446  Rep. 143P",310446,"143P","40983000"]
["310446152","60982501","Ancrage-Type 310446 Repere 152","25 KV",310446,152,null,null,"60982501","310446152","Ancrage-Type 310446 Repere 152",310446,152,"60982501"]
["310446149P","60982502","Ancrage-Type 310446  Rep. 149P","25 KV",310446,"149P",null,null,"60982502","310446149P","Ancrage-Type 310446  Rep. 149P",310446,"149P","60982502"]
["310446157P","60982504","Ancrage-Type 310446  Rep. 157P","25 KV",310446,"157P",null,null,"60982504","310446157P","Ancrage-Type 310446  Rep. 157P",310446,"157P","60982504"]
["310446158P","60982505","Ancrage-Type 310446  Rep. 158P","25 KV",310446,"158P",null,null,"60982505","310446158P","Ancrage-Type 310446  Rep. 158P",310446,"158P","60982505"]
["310446159P","60982506","Ancrage-Type 310446  Rep. 159P","25 KV",310446,"159P",null,null,"60982506","310446159P","Ancrage-Type 310446  Rep. 159P",310446,"159P","60982506"]
[{"$f":"E366&F366","v":"310446161P"},"60982508","Ancrage-Type 310446  Rep. 161P","25 KV",310446,"161P",null,null,"60982508","310446161P","Ancrage-Type 310446  Rep. 161P",310446,"161P","60982508"]
["310484101","20982790","Ancrage Zone Polluee C85 R101","25 KV",310484,101,null,null,"20982790","310484101","Ancrage Zone Polluee C85 R101",310484,101,"20982790"]
["310484101P","20982791","Ancrage Zone Polluee C85 R101P","25 KV",310484,"101P",null,null,"20982791","310484101P","Ancrage Zone Polluee C85 R101P",310484,"101P","20982791"]
["310484102","20982792","Ancrage Zone Polluee C85 R102","25 KV",310484,102,null,null,"20982792","310484102","Ancrage Zone Polluee C85 R102",310484,102,"20982792"]
["310484103","20982793","Ancrage Zone Polluee C85 R103","25 KV",310484,103,null,null,"20982793","310484103","Ancrage Zone Polluee C85 R103",310484,103,"20982793"]
["310484103P","20982794","Ancrage Zone Polluee C85 R103P","25 KV",310484,"103P",null,null,"20982794","310484103P","Ancrage Zone Polluee C85 R103P",310484,"103P","20982794"]
["310484104","20982795","Ancrage Zone Polluee C85 R104","25 KV",310484,104,null,null,"20982795","310484104","Ancrage Zone Polluee C85 R104",310484,104,"20982795"]
["310484106","20982796","Ancrage Zone Polluee C85 R106","25 KV",310484,106,null,null,"20982796","310484106","Ancrage Zone Polluee C85 R106",310484,106,"20982796"]
["310484106P","20982797","Ancrage Zone Polluee C85 R106P","25 KV",310484,"106P",null,null,"20982797","310484106P","Ancrage Zone Polluee C85 R106P",310484,"106P","20982797"]
["310484107","20982798","Ancrage Zone Polluee C85 R107","25 KV",310484,107,null,null,"20982798","310484107","Ancrage Zone Polluee C85 R107",310484,107,"20982798"]
["310484108","20982799","Ancrage Zone Polluee C85 R108","25 KV",310484,108,null,null,"20982799","310484108","Ancrage Zone Polluee C85 R108",310484,108,"20982799"]
["310484109","20982800","Ancrage Zone Polluee C85 R109","25 KV",310484,109,null,null,"20982800","310484109","Ancrage Zone Polluee C85 R109",310484,109,"20982800"]
["310484110","20982801","Ancrage Zone Polluee C85 R110","25 KV",310484,110,null,null,"20982801","310484110","Ancrage Zone Polluee C85 R110",310484,110,"20982801"]
["310484112","20982802","Ancrage Zone Polluee C85 R112","25 KV",310484,112,null,null,"20982802","310484112","Ancrage Zone Polluee C85 R112",310484,112,"20982802"]
["310484112P","20982803","Ancrage Zone Polluee C85 R112P","25 KV",310484,"112P",null,null,"20982803","310484112P","Ancrage Zone Polluee C85 R112P",310484,"112P","20982803"]
["310484113","20982804","Ancrage Zone Polluee C85 R113","25 KV",310484,113,null,null,"20982804","310484113","Ancrage Zone Polluee C85 R113",310484,113,"20982804"]
["310484113P","20982805","Ancrage Zone Polluee C85 R113P","25 KV",310484,"113P",null,null,"20982805","310484113P","Ancrage Zone Polluee C85 R113P",310484,"113P","20982805"]
["310484114","20982806","Ancrage Zone Polluee C85 R114","25 KV",310484,114,null,null,"20982806","310484114","Ancrage Zone Polluee C85 R114",310484,114,"20982806"]
["310484115","20982807","Ancrage Zone Polluee C85 R115","25 KV",310484,115,null,null,"20982807",{"$f":"L384&M384","v":"310484115"},"Ancrage Zone Polluee C85 R115",310484,115,"20982807"]
["310484116","20982808","Ancrage Zone Polluee C85 R116","25 KV",310484,116,null,null,"20982808","310484116","Ancrage Zone Polluee C85 R116",310484,116,"20982808"]
["310484117","20982809","Ancrage Zone Polluee C85 R117","25 KV",310484,117,null,null,"20982809","310484117","Ancrage Zone Polluee C85 R117",310484,117,"20982809"]
["310484117P","20982810","Ancrage Zone Polluee C85 R117P","25 KV",310484,"117P",null,null,"20982810","310484117P","Ancrage Zone Polluee C85 R117P",310484,"117P","20982810"]
["310484118","20982811","Ancrage Zone Polluee C85 R118","25 KV",310484,118,null,null,"20982811","310484118","Ancrage Zone Polluee C85 R118",310484,118,"20982811"]
["310484119","20982812","Ancrage Zone Polluee C85 R119","25 KV",310484,119,null,null,"20982812","310484119","Ancrage Zone Polluee C85 R119",310484,119,"20982812"]
["310484120","20982813","Ancrage Zone Polluee C85 R120","25 KV",310484,120,null,null,"20982813","310484120","Ancrage Zone Polluee C85 R120",310484,120,"20982813"]
["310484122","20982814","Ancrage Zone Polluee C85 R122","25 KV",310484,122,null,null,"20982814","310484122","Ancrage Zone Polluee C85 R122",310484,122,"20982814"]
["310484123","20982815","Ancrage Zone Polluee C85 R123","25 KV",310484,123,null,null,"20982815","310484123","Ancrage Zone Polluee C85 R123",310484,123,"20982815"]
["310484124","20982816","Ancrage Zone Polluee C85 R124","25 KV",310484,124,null,null,"20982816","310484124","Ancrage Zone Polluee C85 R124",310484,124,"20982816"]
["310484125","20982817","Ancrage Zone Polluee C85 R125","25 KV",310484,125,null,null,"20982817","310484125","Ancrage Zone Polluee C85 R125",310484,125,"20982817"]
["310484127","20982818","Ancrage Zone Polluee C85 R127","25 KV",310484,127,null,null,"20982818","310484127","Ancrage Zone Polluee C85 R127",310484,127,"20982818"]
["310484127P","20982819","Ancrage Zone Polluee C85 R127P","25 KV",310484,"127P",null,null,"20982819","310484127P","Ancrage Zone Polluee C85 R127P",310484,"127P","20982819"]
["310484129","20982820","Ancrage Zone Polluee C85 R129","25 KV",310484,129,null,null,"20982820","310484129","Ancrage Zone Polluee C85 R129",310484,129,"20982820"]
["310484129P","20982821","Ancrage Zone Polluee C85 R129P","25 KV",310484,"129P",null,null,"20982821","310484129P","Ancrage Zone Polluee C85 R129P",310484,"129P","20982821"]
["310484130","20982822","Ancrage Zone Polluee C85 R130","25 KV",310484,130,null,null,"20982822","310484130","Ancrage Zone Polluee C85 R130",310484,130,"20982822"]
["310484130P","20982823","Ancrage Zone Polluee C85 R130P","25 KV",310484,"130P",null,null,"20982823","310484130P","Ancrage Zone Polluee C85 R130P",310484,"130P","20982823"]
["310484135","20982825","Ancrage Zone Polluee C85 R135","25 KV",310484,135,null,null,"20982825","310484135","Ancrage Zone Polluee C85 R135",310484,135,"20982825"]
["310484137","20982826","Ancrage Zone Polluee C85 R137","25 KV",310484,137,null,null,"20982826","310484137","Ancrage Zone Polluee C85 R137",310484,137,"20982826"]
["310484137P","20982827","Ancrage Zone Polluee C85 R137P","25 KV",310484,"137P",null,null,"20982827","310484137P","Ancrage Zone Polluee C85 R137P",310484,"137P","20982827"]
["310484139","20982828","Ancrage Zone Polluee C85 R139","25 KV",310484,139,null,null,"20982828","310484139","Ancrage Zone Polluee C85 R139",310484,139,"20982828"]
["310484140","20982829","Ancrage Zone Polluee C85 R140","25 KV",310484,140,null,null,"20982829","310484140","Ancrage Zone Polluee C85 R140",310484,140,"20982829"]
["310484143","20982830","Ancrage Zone Polluee C85 R143","25 KV",310484,143,null,null,"20982830","310484143","Ancrage Zone Polluee C85 R143",310484,143,"20982830"]
["310484143P","20982831","Ancrage Zone Polluee C85 R143P","25 KV",310484,"143P",null,null,"20982831","310484143P","Ancrage Zone Polluee C85 R143P",310484,"143P","20982831"]
["310484144","20982832","Ancrage Zone Polluee C85 R144","25 KV",310484,144,null,null,"20982832","310484144","Ancrage Zone Polluee C85 R144",310484,144,"20982832"]
["310484146","20982833","Ancrage Zone Polluee C85 R146","25 KV",310484,146,null,null,"20982833","310484146","Ancrage Zone Polluee C85 R146",310484,146,"20982833"]
["310484147","20982834","Ancrage Zone Polluee C85 R147","25 KV",310484,147,null,null,"20982834","310484147","Ancrage Zone Polluee C85 R147",310484,147,"20982834"]
["310484148","20982835","Ancrage Zone Polluee C85 R148","25 KV",310484,148,null,null,"20982835","310484148","Ancrage Zone Polluee C85 R148",310484,148,"20982835"]
["310484149","20982836","Ancrage Zone Polluee C85 R149","25 KV",310484,149,null,null,"20982836","310484149","Ancrage Zone Polluee C85 R149",310484,149,"20982836"]
["310484149P","20982837","Ancrage Zone Polluee C85 R149P","25 KV",310484,"149P",null,null,"20982837","310484149P","Ancrage Zone Polluee C85 R149P",310484,"149P","20982837"]
["310484150","20982838","Ancrage Zone Polluee C85 R150","25 KV",310484,150,null,null,"20982838","310484150","Ancrage Zone Polluee C85 R150",310484,150,"20982838"]
["310484151","20982839","Ancrage Zone Polluee C85 R151","25 KV",310484,151,null,null,"20982839","310484151","Ancrage Zone Polluee C85 R151",310484,151,"20982839"]
["310484152","20982840","Ancrage Zone Polluee C85 R152","25 KV",310484,152,null,null,"20982840","310484152","Ancrage Zone Polluee C85 R152",310484,152,"20982840"]
["310484153","20982841","Ancrage Zone Polluee C85 R153","25 KV",310484,153,null,null,"20982841","310484153","Ancrage Zone Polluee C85 R153",310484,153,"20982841"]
["310484154","20982842","Ancrage Zone Polluee C85 R154","25 KV",310484,154,null,null,"20982842","310484154","Ancrage Zone Polluee C85 R154",310484,154,"20982842"]
["310484155","20982843","Ancrage Zone Polluee C85 R155","25 KV",310484,155,null,null,"20982843","310484155","Ancrage Zone Polluee C85 R155",310484,155,"20982843"]
["310484157","20982844","Ancrage Zone Polluee C85 R157","25 KV",310484,157,null,null,"20982844","310484157","Ancrage Zone Polluee C85 R157",310484,157,"20982844"]
["310484157P","20982845","Ancrage Zone Polluee C85 R157P","25 KV",310484,"157P",null,null,"20982845","310484157P","Ancrage Zone Polluee C85 R157P",310484,"157P","20982845"]
["310484158","20982846","Ancrage Zone Polluee C85 R158","25 KV",310484,158,null,null,"20982846","310484158","Ancrage Zone Polluee C85 R158",310484,158,"20982846"]
["31048458P","20982847","Ancrage Zone Polluee C85 R158P","25 KV",310484,"58P",null,null,"20982847","31048458P","Ancrage Zone Polluee C85 R158P",310484,"58P","20982847"]
["310484159","20982848","Ancrage Zone Polluee C85 R159","25 KV",310484,159,null,null,"20982848","310484159","Ancrage Zone Polluee C85 R159",310484,159,"20982848"]
["310484159P","20982849","Ancrage Zone Polluee C85 R159P","25 KV",310484,"159P",null,null,"20982849","310484159P","Ancrage Zone Polluee C85 R159P",310484,"159P","20982849"]
["310484161","20982850","Ancrage Zone Polluee C85 R161","25 KV",310484,161,null,null,"20982850","310484161","Ancrage Zone Polluee C85 R161",310484,161,"20982850"]
["310484161P","20982851","Ancrage Zone Polluee C85 R161P","25 KV",310484,"161P",null,null,"20982851","310484161P","Ancrage Zone Polluee C85 R161P",310484,"161P","20982851"]
["310484162","20982852","Ancrage Zone Polluee C85 R162","25 KV",310484,162,null,null,"20982852","310484162","Ancrage Zone Polluee C85 R162",310484,162,"20982852"]
["310484163","20982853","Ancrage Zone Polluee C85 R163","25 KV",310484,163,null,null,"20982853","310484163","Ancrage Zone Polluee C85 R163",310484,163,"20982853"]
[{"$f":"E430&F430","v":"310484164"},"20982854","Ancrage Zone Polluee C85 R164","25 KV",310484,164,null,null,"20982854","310484164","Ancrage Zone Polluee C85 R164",310484,164,"20982854"]
["310484167","20982855","Ancrage Zone Polluee C85 R167","25 KV",310484,167,null,null,"20982855","310484167","Ancrage Zone Polluee C85 R167",310484,167,"20982855"]
["310484168","20982856","Ancrage Zone Polluee C85 R168","25 KV",310484,168,null,null,"20982856","310484168","Ancrage Zone Polluee C85 R168",310484,168,"20982856"]
["310481201","20982601","Ancrage-Type      310481 R.201","25 KV",310481,201,null,null,"20982601","310481201","Ancrage-Type      310481 R.201",310481,201,"20982601"]
["310481202","20982602","Ancrage-Type      310481 R.202","25 KV",310481,202,null,null,"20982602","310481202","Ancrage-Type      310481 R.202",310481,202,"20982602"]
["310481203","20982603","Ancrage-Type      310481 R.203","25 KV",310481,203,null,null,"20982603","310481203","Ancrage-Type      310481 R.203",310481,203,"20982603"]
["310481400020",20982604,"Ancrage-Type      310481 R.204","25 KV",310481,400020,null,null,20982604,"310481400020","Ancrage-Type      310481 R.204",310481,400020,20982604]
["310481211","20982607","Ancrage-Type      310481 R.211","25 KV",310481,211,null,null,"20982607","310481211","Ancrage-Type      310481 R.211",310481,211,"20982607"]
["310481212","20982608","Ancrage-Type      310481 R.212","25 KV",310481,212,null,null,"20982608","310481212","Ancrage-Type      310481 R.212",310481,212,"20982608"]
["310481213","20982609","Ancrage-Type      310481 R.213","25 KV",310481,213,null,null,"20982609","310481213","Ancrage-Type      310481 R.213",310481,213,"20982609"]
["310481214","20982610","Ancrage-Type      310481 R.214","25 KV",310481,214,null,null,"20982610","310481214","Ancrage-Type      310481 R.214",310481,214,"20982610"]
["310481221","20982614","Ancrage-Type      310481 R.221","25 KV",310481,221,null,null,"20982614","310481221","Ancrage-Type      310481 R.221",310481,221,"20982614"]
["310481222","20982615","Ancrage-Type      310481 R.222","25 KV",310481,222,null,null,"20982615","310481222","Ancrage-Type      310481 R.222",310481,222,"20982615"]
["310481223","20982616","Ancrage-Type      310481 R.223","25 KV",310481,223,null,null,"20982616","310481223","Ancrage-Type      310481 R.223",310481,223,"20982616"]
["310481224","20982617","Ancrage-Type      310481 R.224","25 KV",310481,224,null,null,"20982617","310481224","Ancrage-Type      310481 R.224",310481,224,"20982617"]
["310481231","20982620","Ancrage-Type      310481 R.231","25 KV",310481,231,null,null,"20982620","310481231","Ancrage-Type      310481 R.231",310481,231,"20982620"]
["310481232","20982621","Ancrage-Type      310481 R.232","25 KV",310481,232,null,null,"20982621","310481232","Ancrage-Type      310481 R.232",310481,232,"20982621"]
["310481233","20982622","Ancrage-Type      310481 R.233","25 KV",310481,233,null,null,"20982622","310481233","Ancrage-Type      310481 R.233",310481,233,"20982622"]
["310481234","20982623","Ancrage-Type      310481 R.234","25 KV",310481,234,null,null,"20982623",{"$f":"L448&M448","v":"310481234"},"Ancrage-Type      310481 R.234",310481,234,"20982623"]
["310481241","20982626","Ancrage-Type      310481 R.241","25 KV",310481,241,null,null,"20982626","310481241","Ancrage-Type      310481 R.241",310481,241,"20982626"]
["310481242","20982627","Ancrage-Type      310481 R.242","25 KV",310481,242,null,null,"20982627","310481242","Ancrage-Type      310481 R.242",310481,242,"20982627"]
["310481251","20982630","Ancrage-Type      310481 R.251","25 KV",310481,251,null,null,"20982630","310481251","Ancrage-Type      310481 R.251",310481,251,"20982630"]
["310481252","20982631","Ancrage-Type      310481 R.252","25 KV",310481,252,null,null,"20982631","310481252","Ancrage-Type      310481 R.252",310481,252,"20982631"]
["310481301","20982635","Ancrage-Type      310481 R.301","25 KV",310481,301,null,null,"20982635","310481301","Ancrage-Type      310481 R.301",310481,301,"20982635"]
["310481302","20982636","Ancrage-Type      310481 R.302","25 KV",310481,302,null,null,"20982636","310481302","Ancrage-Type      310481 R.302",310481,302,"20982636"]
["310481311","20982640","Ancrage-Type      310481 R.311","25 KV",310481,311,null,null,"20982640","310481311","Ancrage-Type      310481 R.311",310481,311,"20982640"]
["310481312","20982641","Ancrage-Type      310481 R.312","25 KV",310481,312,null,null,"20982641","310481312","Ancrage-Type      310481 R.312",310481,312,"20982641"]
["310481401","20982645","Ancrage-Type      310481 R.401","25 KV",310481,401,null,null,"20982645","310481401","Ancrage-Type      310481 R.401",310481,401,"20982645"]
["310481402","20982646","Ancrage-Type      310481 R.402","25 KV",310481,402,null,null,"20982646","310481402","Ancrage-Type      310481 R.402",310481,402,"20982646"]
["310481411","20982647","Ancrage-Type      310481 R.411","25 KV",310481,411,null,null,"20982647","310481411","Ancrage-Type      310481 R.411",310481,411,"20982647"]
["310481421","20982648","Ancrage-Type      310481 R.421","25 KV",310481,421,null,null,"20982648","310481421","Ancrage-Type      310481 R.421",310481,421,"20982648"]
["310481431","20982649","Ancrage-Type      310481 R.431","25 KV",310481,431,null,null,"20982649","310481431","Ancrage-Type      310481 R.431",310481,431,"20982649"]
["310481432","20982650","Ancrage-Type      310481 R.432","25 KV",310481,432,null,null,"20982650","310481432","Ancrage-Type      310481 R.432",310481,432,"20982650"]
["310479201","20982760","Ancrage Feeder Z. Polluee  201","25 KV",310479,201,null,null,"20982760","310479201","Ancrage Feeder Z. Polluee  201",310479,201,"20982760"]
["310479202","20982761","Ancrage Feeder Z. Polluee  202","25 KV",310479,202,null,null,"20982761","310479202","Ancrage Feeder Z. Polluee  202",310479,202,"20982761"]
["310479203","20982762","Ancrage Feeder Z. Polluee  203","25 KV",310479,203,null,null,"20982762","310479203","Ancrage Feeder Z. Polluee  203",310479,203,"20982762"]
["310479204","20982763","Ancrage Feeder Z. Polluee  204","25 KV",310479,204,null,null,"20982763","310479204","Ancrage Feeder Z. Polluee  204",310479,204,"20982763"]
["310479211","20982764","Ancrage Feeder Z. Polluee  211","25 KV",310479,211,null,null,"20982764","310479211","Ancrage Feeder Z. Polluee  211",310479,211,"20982764"]
["310479212","20982765","Ancrage Feeder Z. Polluee  212","25 KV",310479,212,null,null,"20982765","310479212","Ancrage Feeder Z. Polluee  212",310479,212,"20982765"]
["310479213","20982766","Ancrage Feeder Z. Polluee  213","25 KV",310479,213,null,null,"20982766","310479213","Ancrage Feeder Z. Polluee  213",310479,213,"20982766"]
["310479214","20982767","Ancrage Feeder Z. Polluee  214","25 KV",310479,214,null,null,"20982767","310479214","Ancrage Feeder Z. Polluee  214",310479,214,"20982767"]
["310479221","20982768","Ancrage Feeder Z. Polluee  221","25 KV",310479,221,null,null,"20982768","310479221","Ancrage Feeder Z. Polluee  221",310479,221,"20982768"]
["310479222","20982769","Ancrage Feeder Z. Polluee  222","25 KV",310479,222,null,null,"20982769","310479222","Ancrage Feeder Z. Polluee  222",310479,222,"20982769"]
["310479223","20982770","Ancrage Feeder Z. Polluee  223","25 KV",310479,223,null,null,"20982770","310479223","Ancrage Feeder Z. Polluee  223",310479,223,"20982770"]
["310479224","20982771","Ancrage Feeder Z. Polluee  224","25 KV",310479,224,null,null,"20982771","310479224","Ancrage Feeder Z. Polluee  224",310479,224,"20982771"]
["310479231","20982772","Ancrage Feeder Z. Polluee  231","25 KV",310479,231,null,null,"20982772","310479231","Ancrage Feeder Z. Polluee  231",310479,231,"20982772"]
["310479232","20982773","Ancrage Feeder Z. Polluee  232","25 KV",310479,232,null,null,"20982773","310479232","Ancrage Feeder Z. Polluee  232",310479,232,"20982773"]
["310479233","20982774","Ancrage Feeder Z. Polluee  233","25 KV",310479,233,null,null,"20982774","310479233","Ancrage Feeder Z. Polluee  233",310479,233,"20982774"]
["310479234","20982775","Ancrage Feeder Z. Polluee  234","25 KV",310479,234,null,null,"20982775","310479234","Ancrage Feeder Z. Polluee  234",310479,234,"20982775"]
["310479241","20982776","Ancrage Feeder Z. Polluee  241","25 KV",310479,241,null,null,"20982776","310479241","Ancrage Feeder Z. Polluee  241",310479,241,"20982776"]
["310479242","20982777","Ancrage Feeder Z. Polluee  242","25 KV",310479,242,null,null,"20982777","310479242","Ancrage Feeder Z. Polluee  242",310479,242,"20982777"]
["310479251","20982778","Ancrage Feeder Z. Polluee  251","25 KV",310479,251,null,null,"20982778","310479251","Ancrage Feeder Z. Polluee  251",310479,251,"20982778"]
["310479252","20982779","Ancrage Feeder Z. Polluee  252","25 KV",310479,252,null,null,"20982779","310479252","Ancrage Feeder Z. Polluee  252",310479,252,"20982779"]
["310479301","20982780","Ancrage Feeder Z. Polluee  301","25 KV",310479,301,null,null,"20982780","310479301","Ancrage Feeder Z. Polluee  301",310479,301,"20982780"]
["310479302","20982781","Ancrage Feeder Z. Polluee  302","25 KV",310479,302,null,null,"20982781","310479302","Ancrage Feeder Z. Polluee  302",310479,302,"20982781"]
["310479311","20982782","Ancrage Feeder Z. Polluee  311","25 KV",310479,311,null,null,"20982782","310479311","Ancrage Feeder Z. Polluee  311",310479,311,"20982782"]
["310479312","20982783","Ancrage Feeder Z. Polluee  312","25 KV",310479,312,null,null,"20982783","310479312","Ancrage Feeder Z. Polluee  312",310479,312,"20982783"]
["310479401","20982784","Ancrage Feeder Z. Polluee  401","25 KV",310479,401,null,null,"20982784","310479401","Ancrage Feeder Z. Polluee  401",310479,401,"20982784"]
["310479402","20982785","Ancrage Feeder Z. Polluee  402","25 KV",310479,402,null,null,"20982785","310479402","Ancrage Feeder Z. Polluee  402",310479,402,"20982785"]
["310479411","20982786","Ancrage Feeder Z. Polluee  411","25 KV",310479,411,null,null,"20982786","310479411","Ancrage Feeder Z. Polluee  411",310479,411,"20982786"]
["310479421","20982787","Ancrage Feeder Z. Polluee  421","25 KV",310479,421,null,null,"20982787","310479421","Ancrage Feeder Z. Polluee  421",310479,421,"20982787"]
["310479431","20982788","Ancrage Feeder Z. Polluee  431","25 KV",310479,431,null,null,"20982788","310479431","Ancrage Feeder Z. Polluee  431",310479,431,"20982788"]
["310479432","20982789","Ancrage Feeder Z. Polluee  432","25 KV",310479,432,null,null,"20982789","310479432","Ancrage Feeder Z. Polluee  432",310479,432,"20982789"]
["310483401","20982701","Ancrage-Type C98 310483 R.401","25 KV",310483,401,null,null,"20982701","310483401","Ancrage-Type C98 310483 R.401",310483,401,"20982701"]
[{"$f":"E494&F494","v":"310483401P"},"20982702","Ancrage-Type C98 310483 R.401P","25 KV",310483,"401P",null,null,"20982702","310483401P","Ancrage-Type C98 310483 R.401P",310483,"401P","20982702"]
["310483402","20982703","Ancrage-Type C98 310483 R.402","25 KV",310483,402,null,null,"20982703","310483402","Ancrage-Type C98 310483 R.402",310483,402,"20982703"]
["310483411","20982704","Ancrage-Type C98 310483 R.411","25 KV",310483,411,null,null,"20982704","310483411","Ancrage-Type C98 310483 R.411",310483,411,"20982704"]
["310483411P","20982705","Ancrage-Type C98 310483 R.411P","25 KV",310483,"411P",null,null,"20982705","310483411P","Ancrage-Type C98 310483 R.411P",310483,"411P","20982705"]
["310483412","20982706","Ancrage-Type C98 310483 R.412","25 KV",310483,412,null,null,"20982706","310483412","Ancrage-Type C98 310483 R.412",310483,412,"20982706"]
["310483431","20982707","Ancrage-Type C98 310483 R.431","25 KV",310483,431,null,null,"20982707","310483431","Ancrage-Type C98 310483 R.431",310483,431,"20982707"]
["310483431P","20982708","Ancrage-Type C98 310483 R.431P","25 KV",310483,"431P",null,null,"20982708","310483431P","Ancrage-Type C98 310483 R.431P",310483,"431P","20982708"]
["310483432","20982709","Ancrage-Type C98 310483 R.432","25 KV",310483,432,null,null,"20982709","310483432","Ancrage-Type C98 310483 R.432",310483,432,"20982709"]
["310483441","20982710","Ancrage-Type C98 310483 R.441","25 KV",310483,441,null,null,"20982710","310483441","Ancrage-Type C98 310483 R.441",310483,441,"20982710"]
["310483442","20982711","Ancrage-Type C98 310483 R.442","25 KV",310483,442,null,null,"20982711","310483442","Ancrage-Type C98 310483 R.442",310483,442,"20982711"]
["310483446","20982712","Ancrage-Type C98 310483 R.446","25 KV",310483,446,null,null,"20982712","310483446","Ancrage-Type C98 310483 R.446",310483,446,"20982712"]
["310483446P","20982713","Ancrage-Type C98 310483 R.446P","25 KV",310483,"446P",null,null,"20982713","310483446P","Ancrage-Type C98 310483 R.446P",310483,"446P","20982713"]
["310483501","20982714","Ancrage-Type C98 310483 R.501","25 KV",310483,501,null,null,"20982714","310483501","Ancrage-Type C98 310483 R.501",310483,501,"20982714"]
["310483501P","20982715","Ancrage-Type C98 310483 R.501P","25 KV",310483,"501P",null,null,"20982715","310483501P","Ancrage-Type C98 310483 R.501P",310483,"501P","20982715"]
["310483511","20982716","Ancrage-Type C98 310483 R.511","25 KV",310483,511,null,null,"20982716","310483511","Ancrage-Type C98 310483 R.511",310483,511,"20982716"]
["310483512","20982717","Ancrage-Type C98 310483 R.512","25 KV",310483,512,null,null,"20982717","310483512","Ancrage-Type C98 310483 R.512",310483,512,"20982717"]
["310483516","20982718","Ancrage-Type C98 310483 R.516","25 KV",310483,516,null,null,"20982718","310483516","Ancrage-Type C98 310483 R.516",310483,516,"20982718"]
["310483516P","20982719","Ancrage-Type C98 310483 R.516P","25 KV",310483,"516P",null,null,"20982719","310483516P","Ancrage-Type C98 310483 R.516P",310483,"516P","20982719"]
["310483521","20982720","Ancrage-Type C98 310483 R.521","25 KV",310483,521,null,null,"20982720",{"$f":"L512&M512","v":"310483521"},"Ancrage-Type C98 310483 R.521",310483,521,"20982720"]
["310483522","20982721","Ancrage-Type C98 310483 R.522","25 KV",310483,522,null,null,"20982721","310483522","Ancrage-Type C98 310483 R.522",310483,522,"20982721"]
["310483526","20982722","Ancrage-Type C98 310483 R.526","25 KV",310483,526,null,null,"20982722","310483526","Ancrage-Type C98 310483 R.526",310483,526,"20982722"]
["310483531","20982723","Ancrage-Type C98 310483 R.531","25 KV",310483,531,null,null,"20982723","310483531","Ancrage-Type C98 310483 R.531",310483,531,"20982723"]
["310483532","20982724","Ancrage-Type C98 310483 R.532","25 KV",310483,532,null,null,"20982724","310483532","Ancrage-Type C98 310483 R.532",310483,532,"20982724"]
["310483601","20982725","Ancrage-Type C98 310483 R.601","25 KV",310483,601,null,null,"20982725","310483601","Ancrage-Type C98 310483 R.601",310483,601,"20982725"]
["310483611","20982726","Ancrage-Type C98 310483 R.611","25 KV",310483,611,null,null,"20982726","310483611","Ancrage-Type C98 310483 R.611",310483,611,"20982726"]
["310483611P","20982727","Ancrage-Type C98 310483 R.611P","25 KV",310483,"611P",null,null,"20982727","310483611P","Ancrage-Type C98 310483 R.611P",310483,"611P","20982727"]
["310483621","20982728","Ancrage-Type C98 310483 R.621","25 KV",310483,621,null,null,"20982728","310483621","Ancrage-Type C98 310483 R.621",310483,621,"20982728"]
["310483621P","20982729","Ancrage-Type C98 310483 R.621P","25 KV",310483,"621P",null,null,"20982729","310483621P","Ancrage-Type C98 310483 R.621P",310483,"621P","20982729"]
["310483631","20982730","Ancrage-Type C98 310483 R.631","25 KV",310483,631,null,null,"20982730","310483631","Ancrage-Type C98 310483 R.631",310483,631,"20982730"]
["310483631P","20982731","Ancrage-Type C98 310483 R.631P","25 KV",310483,"631P",null,null,"20982731","310483631P","Ancrage-Type C98 310483 R.631P",310483,"631P","20982731"]
["310483711","20982732","Ancrage-Type C98 310483 R.711","25 KV",310483,711,null,null,"20982732","310483711","Ancrage-Type C98 310483 R.711",310483,711,"20982732"]
["310483711P","20982733","Ancrage-Type C98 310483 R.711P","25 KV",310483,"711P",null,null,"20982733","310483711P","Ancrage-Type C98 310483 R.711P",310483,"711P","20982733"]
["310483713","20982734","Ancrage-Type C98 310483 R.713","25 KV",310483,713,null,null,"20982734","310483713","Ancrage-Type C98 310483 R.713",310483,713,"20982734"]
["310483714","20982735","Ancrage-Type C98 310483 R.714","25 KV",310483,714,null,null,"20982735","310483714","Ancrage-Type C98 310483 R.714",310483,714,"20982735"]
["310483721","20982736","Ancrage-Type C98 310483 R.721","25 KV",310483,721,null,null,"20982736","310483721","Ancrage-Type C98 310483 R.721",310483,721,"20982736"]
["310483731","20982737","Ancrage-Type C98  310483 R.731","25 KV",310483,731,null,null,"20982737","310483731","Ancrage-Type C98  310483 R.731",310483,731,"20982737"]
["310483741","20982738","Ancrage-Type C98  310483 R.741","25 KV",310483,741,null,null,"20982738","310483741","Ancrage-Type C98  310483 R.741",310483,741,"20982738"]
["310483801","20982740","Ancrage-Type C98 310483 R.801","25 KV",310483,801,null,null,"20982740","310483801","Ancrage-Type C98 310483 R.801",310483,801,"20982740"]
["310483801P","20982741","Ancrage-Type C98 310483 R.801P","25 KV",310483,"801P",null,null,"20982741","310483801P","Ancrage-Type C98 310483 R.801P",310483,"801P","20982741"]
["310483802","20982742","Ancrage-Type C98 310483 R.802","25 KV",310483,802,null,null,"20982742","310483802","Ancrage-Type C98 310483 R.802",310483,802,"20982742"]
["310483821","20982743","Ancrage-Type C98 310483 R.821","25 KV",310483,821,null,null,"20982743","310483821","Ancrage-Type C98 310483 R.821",310483,821,"20982743"]
["310483822","20982744","Ancrage-Type C98 310483 R.822","25 KV",310483,822,null,null,"20982744","310483822","Ancrage-Type C98 310483 R.822",310483,822,"20982744"]
["310483831","20982745","Ancrage-Type C98 310483 R.831","25 KV",310483,831,null,null,"20982745","310483831","Ancrage-Type C98 310483 R.831",310483,831,"20982745"]
["310483831P","20982746","Ancrage-Type C98 310483 R.831P","25 KV",310483,"831P",null,null,"20982746","310483831P","Ancrage-Type C98 310483 R.831P",310483,"831P","20982746"]
["310483841","20982747","Ancrage-Type C98 310483 R.841","25 KV",310483,841,null,null,"20982747","310483841","Ancrage-Type C98 310483 R.841",310483,841,"20982747"]
["310483842","20982748","Ancrage-Type C98 310483 R.842","25 KV",310483,842,null,null,"20982748","310483842","Ancrage-Type C98 310483 R.842",310483,842,"20982748"]
["310483901","20982749","Ancrage-Type C98 310483 R.901","25 KV",310483,901,null,null,"20982749","310483901","Ancrage-Type C98 310483 R.901",310483,901,"20982749"]
["310483902","20982750","Ancrage-Type C98 310483 R.902","25 KV",310483,902,null,null,"20982750","310483902","Ancrage-Type C98 310483 R.902",310483,902,"20982750"]
["310483911","20982751","Ancrage-Type C98 310483 R.911","25 KV",310483,911,null,null,"20982751","310483911","Ancrage-Type C98 310483 R.911",310483,911,"20982751"]
["310483911P","20982752","Ancrage-Type C98 310483 R.911P","25 KV",310483,"911P",null,null,"20982752","310483911P","Ancrage-Type C98 310483 R.911P",310483,"911P","20982752"]
["310483921","20982753","Ancrage-Type C98 310483 R.921","25 KV",310483,921,null,null,"20982753","310483921","Ancrage-Type C98 310483 R.921",310483,921,"20982753"]
["310483921P","20982754","Ancrage-Type C98 310483 R.921P","25 KV",310483,"921P",null,null,"20982754","310483921P","Ancrage-Type C98 310483 R.921P",310483,"921P","20982754"]
["3104831001","20982755","Ancrage-Type C98 310483 R.1001","25 KV",310483,1001,null,null,"20982755","3104831001","Ancrage-Type C98 310483 R.1001",310483,1001,"20982755"]
["3104831001P","20982756","Ancrage-Type C98 310483 R1001P","25 KV",310483,"1001P",null,null,"20982756","3104831001P","Ancrage-Type C98 310483 R1001P",310483,"1001P","20982756"]
["3104831011","20982757","Ancrage-Type C98 310483 R.1011","25 KV",310483,1011,null,null,"20982757","3104831011","Ancrage-Type C98 310483 R.1011",310483,1011,"20982757"]
["310484101","20982790","Ancrage Zone Polluee C85 R101","25 KV",310484,101,null,null,"20982790","310484101","Ancrage Zone Polluee C85 R101",310484,101,"20982790"]
["310484101P","20982791","Ancrage Zone Polluee C85 R101P","25 KV",310484,"101P",null,null,"20982791","310484101P","Ancrage Zone Polluee C85 R101P",310484,"101P","20982791"]
["310484102","20982792","Ancrage Zone Polluee C85 R102","25 KV",310484,102,null,null,"20982792","310484102","Ancrage Zone Polluee C85 R102",310484,102,"20982792"]
["310484103","20982793","Ancrage Zone Polluee C85 R103","25 KV",310484,103,null,null,"20982793","310484103","Ancrage Zone Polluee C85 R103",310484,103,"20982793"]
["310484103P","20982794","Ancrage Zone Polluee C85 R103P","25 KV",310484,"103P",null,null,"20982794","310484103P","Ancrage Zone Polluee C85 R103P",310484,"103P","20982794"]
["310484104","20982795","Ancrage Zone Polluee C85 R104","25 KV",310484,104,null,null,"20982795","310484104","Ancrage Zone Polluee C85 R104",310484,104,"20982795"]
["310484106","20982796","Ancrage Zone Polluee C85 R106","25 KV",310484,106,null,null,"20982796","310484106","Ancrage Zone Polluee C85 R106",310484,106,"20982796"]
["310484106P","20982797","Ancrage Zone Polluee C85 R106P","25 KV",310484,"106P",null,null,"20982797","310484106P","Ancrage Zone Polluee C85 R106P",310484,"106P","20982797"]
["310484107","20982798","Ancrage Zone Polluee C85 R107","25 KV",310484,107,null,null,"20982798","310484107","Ancrage Zone Polluee C85 R107",310484,107,"20982798"]
[{"$f":"E558&F558","v":"310484108"},"20982799","Ancrage Zone Polluee C85 R108","25 KV",310484,108,null,null,"20982799","310484108","Ancrage Zone Polluee C85 R108",310484,108,"20982799"]
["310484109","20982800","Ancrage Zone Polluee C85 R109","25 KV",310484,109,null,null,"20982800","310484109","Ancrage Zone Polluee C85 R109",310484,109,"20982800"]
["310484110","20982801","Ancrage Zone Polluee C85 R110","25 KV",310484,110,null,null,"20982801","310484110","Ancrage Zone Polluee C85 R110",310484,110,"20982801"]
["310484112","20982802","Ancrage Zone Polluee C85 R112","25 KV",310484,112,null,null,"20982802","310484112","Ancrage Zone Polluee C85 R112",310484,112,"20982802"]
["310484112P","20982803","Ancrage Zone Polluee C85 R112P","25 KV",310484,"112P",null,null,"20982803","310484112P","Ancrage Zone Polluee C85 R112P",310484,"112P","20982803"]
["310484113","20982804","Ancrage Zone Polluee C85 R113","25 KV",310484,113,null,null,"20982804","310484113","Ancrage Zone Polluee C85 R113",310484,113,"20982804"]
["310484113P","20982805","Ancrage Zone Polluee C85 R113P","25 KV",310484,"113P",null,null,"20982805","310484113P","Ancrage Zone Polluee C85 R113P",310484,"113P","20982805"]
["310484114","20982806","Ancrage Zone Polluee C85 R114","25 KV",310484,114,null,null,"20982806","310484114","Ancrage Zone Polluee C85 R114",310484,114,"20982806"]
["310484115","20982807","Ancrage Zone Polluee C85 R115","25 KV",310484,115,null,null,"20982807","310484115","Ancrage Zone Polluee C85 R115",310484,115,"20982807"]
["310484116","20982808","Ancrage Zone Polluee C85 R116","25 KV",310484,116,null,null,"20982808","310484116","Ancrage Zone Polluee C85 R116",310484,116,"20982808"]
["310484117","20982809","Ancrage Zone Polluee C85 R117","25 KV",310484,117,null,null,"20982809","310484117","Ancrage Zone Polluee C85 R117",310484,117,"20982809"]
["310484117P","20982810","Ancrage Zone Polluee C85 R117P","25 KV",310484,"117P",null,null,"20982810","310484117P","Ancrage Zone Polluee C85 R117P",310484,"117P","20982810"]
["310484118","20982811","Ancrage Zone Polluee C85 R118","25 KV",310484,118,null,null,"20982811","310484118","Ancrage Zone Polluee C85 R118",310484,118,"20982811"]
["310484119","20982812","Ancrage Zone Polluee C85 R119","25 KV",310484,119,null,null,"20982812","310484119","Ancrage Zone Polluee C85 R119",310484,119,"20982812"]
["310484120","20982813","Ancrage Zone Polluee C85 R120","25 KV",310484,120,null,null,"20982813","310484120","Ancrage Zone Polluee C85 R120",310484,120,"20982813"]
["310484122","20982814","Ancrage Zone Polluee C85 R122","25 KV",310484,122,null,null,"20982814","310484122","Ancrage Zone Polluee C85 R122",310484,122,"20982814"]
["310484123","20982815","Ancrage Zone Polluee C85 R123","25 KV",310484,123,null,null,"20982815","310484123","Ancrage Zone Polluee C85 R123",310484,123,"20982815"]
["310484124","20982816","Ancrage Zone Polluee C85 R124","25 KV",310484,124,null,null,"20982816","310484124","Ancrage Zone Polluee C85 R124",310484,124,"20982816"]
["310484125","20982817","Ancrage Zone Polluee C85 R125","25 KV",310484,125,null,null,"20982817",{"$f":"L576&M576","v":"310484125"},"Ancrage Zone Polluee C85 R125",310484,125,"20982817"]
["310484127","20982818","Ancrage Zone Polluee C85 R127","25 KV",310484,127,null,null,"20982818","310484127","Ancrage Zone Polluee C85 R127",310484,127,"20982818"]
["310484127P","20982819","Ancrage Zone Polluee C85 R127P","25 KV",310484,"127P",null,null,"20982819","310484127P","Ancrage Zone Polluee C85 R127P",310484,"127P","20982819"]
["310484129","20982820","Ancrage Zone Polluee C85 R129","25 KV",310484,129,null,null,"20982820","310484129","Ancrage Zone Polluee C85 R129",310484,129,"20982820"]
["310484129P","20982821","Ancrage Zone Polluee C85 R129P","25 KV",310484,"129P",null,null,"20982821","310484129P","Ancrage Zone Polluee C85 R129P",310484,"129P","20982821"]
["310484130","20982822","Ancrage Zone Polluee C85 R130","25 KV",310484,130,null,null,"20982822","310484130","Ancrage Zone Polluee C85 R130",310484,130,"20982822"]
["310484130P","20982823","Ancrage Zone Polluee C85 R130P","25 KV",310484,"130P",null,null,"20982823","310484130P","Ancrage Zone Polluee C85 R130P",310484,"130P","20982823"]
["310484135","20982825","Ancrage Zone Polluee C85 R135","25 KV",310484,135,null,null,"20982825","310484135","Ancrage Zone Polluee C85 R135",310484,135,"20982825"]
["310484137","20982826","Ancrage Zone Polluee C85 R137","25 KV",310484,137,null,null,"20982826","310484137","Ancrage Zone Polluee C85 R137",310484,137,"20982826"]
["310484137P","20982827","Ancrage Zone Polluee C85 R137P","25 KV",310484,"137P",null,null,"20982827","310484137P","Ancrage Zone Polluee C85 R137P",310484,"137P","20982827"]
["310484139","20982828","Ancrage Zone Polluee C85 R139","25 KV",310484,139,null,null,"20982828","310484139","Ancrage Zone Polluee C85 R139",310484,139,"20982828"]
["310484140","20982829","Ancrage Zone Polluee C85 R140","25 KV",310484,140,null,null,"20982829","310484140","Ancrage Zone Polluee C85 R140",310484,140,"20982829"]
["310484143","20982830","Ancrage Zone Polluee C85 R143","25 KV",310484,143,null,null,"20982830","310484143","Ancrage Zone Polluee C85 R143",310484,143,"20982830"]
["310484143P","20982831","Ancrage Zone Polluee C85 R143P","25 KV",310484,"143P",null,null,"20982831","310484143P","Ancrage Zone Polluee C85 R143P",310484,"143P","20982831"]
["310484144","20982832","Ancrage Zone Polluee C85 R144","25 KV",310484,144,null,null,"20982832","310484144","Ancrage Zone Polluee C85 R144",310484,144,"20982832"]
["310484146","20982833","Ancrage Zone Polluee C85 R146","25 KV",310484,146,null,null,"20982833","310484146","Ancrage Zone Polluee C85 R146",310484,146,"20982833"]
["310484147","20982834","Ancrage Zone Polluee C85 R147","25 KV",310484,147,null,null,"20982834","310484147","Ancrage Zone Polluee C85 R147",310484,147,"20982834"]
["310484148","20982835","Ancrage Zone Polluee C85 R148","25 KV",310484,148,null,null,"20982835","310484148","Ancrage Zone Polluee C85 R148",310484,148,"20982835"]
["310484149","20982836","Ancrage Zone Polluee C85 R149","25 KV",310484,149,null,null,"20982836","310484149","Ancrage Zone Polluee C85 R149",310484,149,"20982836"]
["310484149P","20982837","Ancrage Zone Polluee C85 R149P","25 KV",310484,"149P",null,null,"20982837","310484149P","Ancrage Zone Polluee C85 R149P",310484,"149P","20982837"]
["310484150","20982838","Ancrage Zone Polluee C85 R150","25 KV",310484,150,null,null,"20982838","310484150","Ancrage Zone Polluee C85 R150",310484,150,"20982838"]
["310484151","20982839","Ancrage Zone Polluee C85 R151","25 KV",310484,151,null,null,"20982839","310484151","Ancrage Zone Polluee C85 R151",310484,151,"20982839"]
["310484152","20982840","Ancrage Zone Polluee C85 R152","25 KV",310484,152,null,null,"20982840","310484152","Ancrage Zone Polluee C85 R152",310484,152,"20982840"]
["310484153","20982841","Ancrage Zone Polluee C85 R153","25 KV",310484,153,null,null,"20982841","310484153","Ancrage Zone Polluee C85 R153",310484,153,"20982841"]
["310484154","20982842","Ancrage Zone Polluee C85 R154","25 KV",310484,154,null,null,"20982842","310484154","Ancrage Zone Polluee C85 R154",310484,154,"20982842"]
["310484155","20982843","Ancrage Zone Polluee C85 R155","25 KV",310484,155,null,null,"20982843","310484155","Ancrage Zone Polluee C85 R155",310484,155,"20982843"]
["310484157","20982844","Ancrage Zone Polluee C85 R157","25 KV",310484,157,null,null,"20982844","310484157","Ancrage Zone Polluee C85 R157",310484,157,"20982844"]
["310484157P","20982845","Ancrage Zone Polluee C85 R157P","25 KV",310484,"157P",null,null,"20982845","310484157P","Ancrage Zone Polluee C85 R157P",310484,"157P","20982845"]
["310484158","20982846","Ancrage Zone Polluee C85 R158","25 KV",310484,158,null,null,"20982846","310484158","Ancrage Zone Polluee C85 R158",310484,158,"20982846"]
["310484158P","20982847","Ancrage Zone Polluee C85 R158P","25 KV",310484,"158P",null,null,"20982847","310484158P","Ancrage Zone Polluee C85 R158P",310484,"158P","20982847"]
["310484159","20982848","Ancrage Zone Polluee C85 R159","25 KV",310484,159,null,null,"20982848","310484159","Ancrage Zone Polluee C85 R159",310484,159,"20982848"]
["310484159P","20982849","Ancrage Zone Polluee C85 R159P","25 KV",310484,"159P",null,null,"20982849","310484159P","Ancrage Zone Polluee C85 R159P",310484,"159P","20982849"]
["310484161","20982850","Ancrage Zone Polluee C85 R161","25 KV",310484,161,null,null,"20982850","310484161","Ancrage Zone Polluee C85 R161",310484,161,"20982850"]
["310484161P","20982851","Ancrage Zone Polluee C85 R161P","25 KV",310484,"161P",null,null,"20982851","310484161P","Ancrage Zone Polluee C85 R161P",310484,"161P","20982851"]
["310484162","20982852","Ancrage Zone Polluee C85 R162","25 KV",310484,162,null,null,"20982852","310484162","Ancrage Zone Polluee C85 R162",310484,162,"20982852"]
["310484163","20982853","Ancrage Zone Polluee C85 R163","25 KV",310484,163,null,null,"20982853","310484163","Ancrage Zone Polluee C85 R163",310484,163,"20982853"]
["310484164","20982854","Ancrage Zone Polluee C85 R164","25 KV",310484,164,null,null,"20982854","310484164","Ancrage Zone Polluee C85 R164",310484,164,"20982854"]
["310484167","20982855","Ancrage Zone Polluee C85 R167","25 KV",310484,167,null,null,"20982855","310484167","Ancrage Zone Polluee C85 R167",310484,167,"20982855"]
["310484168","20982856","Ancrage Zone Polluee C85 R168","25 KV",310484,168,null,null,"20982856","310484168","Ancrage Zone Polluee C85 R168",310484,168,"20982856"]
["310480100","20982510","Ancrage-Type 310480 Repere 100","25 KV",310480,100,null,null,"20982510","310480100","Ancrage-Type 310480 Repere 100",310480,100,"20982510"]
["310480101","20982511","Ancrage-Type 310480 Repere 101","25 KV",310480,101,null,null,"20982511","310480101","Ancrage-Type 310480 Repere 101",310480,101,"20982511"]
["310480104","20982514","Ancrage-Type 310480 Repere 104","25 KV",310480,104,null,null,"20982514","310480104","Ancrage-Type 310480 Repere 104",310480,104,"20982514"]
["310480105","20982515","Ancrage-Type 310480 Repere 105","25 KV",310480,105,null,null,"20982515","310480105","Ancrage-Type 310480 Repere 105",310480,105,"20982515"]
["310480106","20982516","Ancrage-Type 310480 Repere 106","25 KV",310480,106,null,null,"20982516","310480106","Ancrage-Type 310480 Repere 106",310480,106,"20982516"]
["310480107","20982517","Ancrage-Type 310480 Repere 107","25 KV",310480,107,null,null,"20982517","310480107","Ancrage-Type 310480 Repere 107",310480,107,"20982517"]
["310480114","20982524","Ancrage-Type 310480 Repere 114","25 KV",310480,114,null,null,"20982524","310480114","Ancrage-Type 310480 Repere 114",310480,114,"20982524"]
[{"$f":"E622&F622","v":"310480115"},"20982525","Ancrage-Type 310480 Repere 115","25 KV",310480,115,null,null,"20982525","310480115","Ancrage-Type 310480 Repere 115",310480,115,"20982525"]
["310480116","20982526","Ancrage-Type 310480 Repere 116","25 KV",310480,116,null,null,"20982526","310480116","Ancrage-Type 310480 Repere 116",310480,116,"20982526"]
["310480117","20982527","Ancrage-Type 310480 Repere 117","25 KV",310480,117,null,null,"20982527","310480117","Ancrage-Type 310480 Repere 117",310480,117,"20982527"]
["310480136","20982546","Ancrage-Type 310480 Repere 136","25 KV",310480,136,null,null,"20982546","310480136","Ancrage-Type 310480 Repere 136",310480,136,"20982546"]
["310480140","20982550","Ancrage-Type 310480 Repere 140","25 KV",310480,140,null,null,"20982550","310480140","Ancrage-Type 310480 Repere 140",310480,140,"20982550"]
["310480141","20982551","Ancrage-Type 310480 Repere 141","25 KV",310480,141,null,null,"20982551","310480141","Ancrage-Type 310480 Repere 141",310480,141,"20982551"]
["310480145","20982555","Ancrage-Type 310480 Repere 145","25 KV",310480,145,null,null,"20982555","310480145","Ancrage-Type 310480 Repere 145",310480,145,"20982555"]
["310480150","20982560","Ancrage-Type 310480 Repere 150","25 KV",310480,150,null,null,"20982560","310480150","Ancrage-Type 310480 Repere 150",310480,150,"20982560"]
["310480151","20982561","Ancrage-Type 310480 Repere 151","25 KV",310480,151,null,null,"20982561","310480151","Ancrage-Type 310480 Repere 151",310480,151,"20982561"]
["310480179","20982573","Ancrage-Type 310480 Repere 179","25 KV",310480,179,null,null,"20982573","310480179","Ancrage-Type 310480 Repere 179",310480,179,"20982573"]
["310480170","20982580","Ancrage-Type 310480 Repere 170","25 KV",310480,170,null,null,"20982580","310480170","Ancrage-Type 310480 Repere 170",310480,170,"20982580"]
["310480171","20982581","Ancrage-Type 310480 Repere 171","25 KV",310480,171,null,null,"20982581","310480171","Ancrage-Type 310480 Repere 171",310480,171,"20982581"]
["310480172","20982582","Ancrage-Type 310480 Repere 172","25 KV",310480,172,null,null,"20982582","310480172","Ancrage-Type 310480 Repere 172",310480,172,"20982582"]
["310480200","20982583","Ancrage-Type 310480 Repere 200","25 KV",310480,200,null,null,"20982583","310480200","Ancrage-Type 310480 Repere 200",310480,200,"20982583"]
["310480201","20982584","Ancrage-Type 310480 Repere 201","25 KV",310480,201,null,null,"20982584","310480201","Ancrage-Type 310480 Repere 201",310480,201,"20982584"]
["310480204","20982587","Ancrage-Type 310480 Repere 204","25 KV",310480,204,null,null,"20982587","310480204","Ancrage-Type 310480 Repere 204",310480,204,"20982587"]
["310480205","20982588","Ancrage-Type 310480 Repere 205","25 KV",310480,205,null,null,"20982588","310480205","Ancrage-Type 310480 Repere 205",310480,205,"20982588"]
["310480206","20982589","Ancrage-Type 310480 Repere 206","25 KV",310480,206,null,null,"20982589","310480206","Ancrage-Type 310480 Repere 206",310480,206,"20982589"]
["310480207","20982590","Ancrage-Type 310480 Repere 207","25 KV",310480,207,null,null,"20982590",{"$f":"L640&M640","v":"310480207"},"Ancrage-Type 310480 Repere 207",310480,207,"20982590"]
["310480175","20982593","Ancrage-Type 310480 Repere 175","25 KV",310480,175,null,null,"20982593","310480175","Ancrage-Type 310480 Repere 175",310480,175,"20982593"]
["310480180","20982596","Ancrage-Type 310480 Repere 180","25 KV",310480,180,null,null,"20982596","310480180","Ancrage-Type 310480 Repere 180",310480,180,"20982596"]
["310480181","20982597","Ancrage-Type 310480 Repere 181","25 KV",310480,181,null,null,"20982597","310480181","Ancrage-Type 310480 Repere 181",310480,181,"20982597"]
["310480118","20987321","Ancrage-Type 310480 Repere 118","25 KV",310480,118,null,null,"20987321","310480118","Ancrage-Type 310480 Repere 118",310480,118,"20987321"]
["310480148","20987322","Ancrage-Type 310480 Repere 148","25 KV",310480,148,null,null,"20987322","310480148","Ancrage-Type 310480 Repere 148",310480,148,"20987322"]
["310489100","60982510","Ancrage-Type      310489 R.100","25 KV",310489,100,null,null,"60982510","310489100","Ancrage-Type      310489 R.100",310489,100,"60982510"]
["310489101","60982511","Ancrage-Type      310489 R.101","25 KV",310489,101,null,null,"60982511","310489101","Ancrage-Type      310489 R.101",310489,101,"60982511"]
["310489104","60982512","Ancrage-Type      310489 R.104","25 KV",310489,104,null,null,"60982512","310489104","Ancrage-Type      310489 R.104",310489,104,"60982512"]
["310489105","60982513","Ancrage-Type      310489 R.105","25 KV",310489,105,null,null,"60982513","310489105","Ancrage-Type      310489 R.105",310489,105,"60982513"]
["310489106","60982514","Ancrage-Type      310489 R.106","25 KV",310489,106,null,null,"60982514","310489106","Ancrage-Type      310489 R.106",310489,106,"60982514"]
["310489107","60982515","Ancrage-Type      310489 R.107","25 KV",310489,107,null,null,"60982515","310489107","Ancrage-Type      310489 R.107",310489,107,"60982515"]
["310489114","60982516","Ancrage-Type      310489 R.114","25 KV",310489,114,null,null,"60982516","310489114","Ancrage-Type      310489 R.114",310489,114,"60982516"]
["310489115","60982517","Ancrage-Type      310489 R.115","25 KV",310489,115,null,null,"60982517","310489115","Ancrage-Type      310489 R.115",310489,115,"60982517"]
["310489116","60982518","Ancrage-Type      310489 R.116","25 KV",310489,116,null,null,"60982518","310489116","Ancrage-Type      310489 R.116",310489,116,"60982518"]
["310489117","60982519","Ancrage-Type      310489 R.117","25 KV",310489,117,null,null,"60982519","310489117","Ancrage-Type      310489 R.117",310489,117,"60982519"]
["310489136","60982520","Ancrage-Type      310489 R.136","25 KV",310489,136,null,null,"60982520","310489136","Ancrage-Type      310489 R.136",310489,136,"60982520"]
["310489140","60982521","Ancrage-Type      310489 R.140","25 KV",310489,140,null,null,"60982521","310489140","Ancrage-Type      310489 R.140",310489,140,"60982521"]
["310489141","60982522","Ancrage-Type      310489 R.141","25 KV",310489,141,null,null,"60982522","310489141","Ancrage-Type      310489 R.141",310489,141,"60982522"]
["310489145","60982523","Ancrage-Type      310489 R.145","25 KV",310489,145,null,null,"60982523","310489145","Ancrage-Type      310489 R.145",310489,145,"60982523"]
["310489150","60982524","Ancrage-Type      310489 R.150","25 KV",310489,150,null,null,"60982524","310489150","Ancrage-Type      310489 R.150",310489,150,"60982524"]
["310489151","60982525","Ancrage-Type      310489 R.151","25 KV",310489,151,null,null,"60982525","310489151","Ancrage-Type      310489 R.151",310489,151,"60982525"]
["310489170","60982526","Ancrage-Type      310489 R.170","25 KV",310489,170,null,null,"60982526","310489170","Ancrage-Type      310489 R.170",310489,170,"60982526"]
["310489171","60982527","Ancrage-Type      310489 R.171","25 KV",310489,171,null,null,"60982527","310489171","Ancrage-Type      310489 R.171",310489,171,"60982527"]
["310489172","60982528","Ancrage-Type      310489 R.172","25 KV",310489,172,null,null,"60982528","310489172","Ancrage-Type      310489 R.172",310489,172,"60982528"]
["310489175","60982529","Ancrage-Type      310489 R.175","25 KV",310489,175,null,null,"60982529","310489175","Ancrage-Type      310489 R.175",310489,175,"60982529"]
["310489179","60982530","Ancrage-Type      310489 R.179","25 KV",310489,179,null,null,"60982530","310489179","Ancrage-Type      310489 R.179",310489,179,"60982530"]
["310489180","60982531","Ancrage-Type      310489 R.180","25 KV",310489,180,null,null,"60982531","310489180","Ancrage-Type      310489 R.180",310489,180,"60982531"]
["310489181","60982532","Ancrage-Type      310489 R.181","25 KV",310489,181,null,null,"60982532","310489181","Ancrage-Type      310489 R.181",310489,181,"60982532"]
["310489200","60982533","Ancrage-Type      310489 R.200","25 KV",310489,200,null,null,"60982533","310489200","Ancrage-Type      310489 R.200",310489,200,"60982533"]
["310489201","60982534","Ancrage-Type      310489 R.201","25 KV",310489,201,null,null,"60982534","310489201","Ancrage-Type      310489 R.201",310489,201,"60982534"]
["310489204","60982535","Ancrage-Type      310489 R.204","25 KV",310489,204,null,null,"60982535","310489204","Ancrage-Type      310489 R.204",310489,204,"60982535"]
["310489205","60982536","Ancrage-Type      310489 R.205","25 KV",310489,205,null,null,"60982536","310489205","Ancrage-Type      310489 R.205",310489,205,"60982536"]
["310489206","60982537","Ancrage-Type      310489 R.206","25 KV",310489,206,null,null,"60982537","310489206","Ancrage-Type      310489 R.206",310489,206,"60982537"]
["310489207","60982538","Ancrage-Type      310489 R.207","25 KV",310489,207,null,null,"60982538","310489207","Ancrage-Type      310489 R.207",310489,207,"60982538"]
["311446162P","20987494","Ancrage-Type V200 Sti 311446 R.162P",null,311446,"162P",null,null,"20987494","311446162P","Ancrage-Type V200 Sti 311446 R.162P",311446,"162P","20987494"]
["311446101","40986434","Ancrage-Type V200 Sti 311446 R.101",null,311446,101,null,null,"40986434","311446101","Ancrage-Type V200 Sti 311446 R.101",311446,101,"40986434"]
["311446101P","40986435","Ancrage-Type V200 Sti 311446 R.101P",null,311446,"101P",null,null,"40986435","311446101P","Ancrage-Type V200 Sti 311446 R.101P",311446,"101P","40986435"]
["311446102","40986436","Ancrage-Type V200 Sti 311446 R.102",null,311446,102,null,null,"40986436","311446102","Ancrage-Type V200 Sti 311446 R.102",311446,102,"40986436"]
["311446103","40986437","Ancrage-Type V200 Sti 311446 R.103",null,311446,103,null,null,"40986437","311446103","Ancrage-Type V200 Sti 311446 R.103",311446,103,"40986437"]
["311446103P","40986438","Ancrage-Type V200 Sti 311446 R.103P",null,311446,"103P",null,null,"40986438","311446103P","Ancrage-Type V200 Sti 311446 R.103P",311446,"103P","40986438"]
["311446104","40986439","Ancrage-Type V200 Sti 311446 R.104",null,311446,104,null,null,"40986439","311446104","Ancrage-Type V200 Sti 311446 R.104",311446,104,"40986439"]
["311446106","40986440","Ancrage-Type V200 Sti 311446 R.106",null,311446,106,null,null,"40986440","311446106","Ancrage-Type V200 Sti 311446 R.106",311446,106,"40986440"]
["311446106P","40986441","Ancrage-Type V200 Sti 311446 R.106P",null,311446,"106P",null,null,"40986441","311446106P","Ancrage-Type V200 Sti 311446 R.106P",311446,"106P","40986441"]
["311446107","40986442","Ancrage-Type V200 Sti 311446 R.107",null,311446,107,null,null,"40986442","311446107","Ancrage-Type V200 Sti 311446 R.107",311446,107,"40986442"]
["311446108","40986443","Ancrage-Type V200 Sti 311446 R.108",null,311446,108,null,null,"40986443","311446108","Ancrage-Type V200 Sti 311446 R.108",311446,108,"40986443"]
[{"$f":"E686&F686","v":"311446109"},"40986444","Ancrage-Type V200 Sti 311446 R.109",null,311446,109,null,null,"40986444","311446109","Ancrage-Type V200 Sti 311446 R.109",311446,109,"40986444"]
["311446110","40986445","Ancrage-Type V200 Sti 311446 R.110",null,311446,110,null,null,"40986445","311446110","Ancrage-Type V200 Sti 311446 R.110",311446,110,"40986445"]
["311446112","40986446","Ancrage-Type V200 Sti 311446 R.112",null,311446,112,null,null,"40986446","311446112","Ancrage-Type V200 Sti 311446 R.112",311446,112,"40986446"]
["311446112P","40986447","Ancrage-Type V200 Sti 311446 R.112P",null,311446,"112P",null,null,"40986447","311446112P","Ancrage-Type V200 Sti 311446 R.112P",311446,"112P","40986447"]
["311446113","40986448","Ancrage-Type V200 Sti 311446 R.113",null,311446,113,null,null,"40986448","311446113","Ancrage-Type V200 Sti 311446 R.113",311446,113,"40986448"]
["311446113P","40986449","Ancrage-Type V200 Sti 311446 R.113P",null,311446,"113P",null,null,"40986449","311446113P","Ancrage-Type V200 Sti 311446 R.113P",311446,"113P","40986449"]
["311446114","40986450","Ancrage-Type V200 Sti 311446 R.114",null,311446,114,null,null,"40986450","311446114","Ancrage-Type V200 Sti 311446 R.114",311446,114,"40986450"]
["311446115","40986451","Ancrage-Type V200 Sti 311446 R.115",null,311446,115,null,null,"40986451","311446115","Ancrage-Type V200 Sti 311446 R.115",311446,115,"40986451"]
["311446116","40986452","Ancrage-Type V200 Sti 311446 R.116",null,311446,116,null,null,"40986452","311446116","Ancrage-Type V200 Sti 311446 R.116",311446,116,"40986452"]
["311446117","40986453","Ancrage-Type V200 Sti 311446 R.117",null,311446,117,null,null,"40986453","311446117","Ancrage-Type V200 Sti 311446 R.117",311446,117,"40986453"]
["311446117P","40986454","Ancrage-Type V200 Sti 311446 R.117P",null,311446,"117P",null,null,"40986454","311446117P","Ancrage-Type V200 Sti 311446 R.117P",311446,"117P","40986454"]
["311446118","40986455","Ancrage-Type V200 Sti 311446 R.118",null,311446,118,null,null,"40986455","311446118","Ancrage-Type V200 Sti 311446 R.118",311446,118,"40986455"]
["311446119","40986456","Ancrage-Type V200 Sti 311446 R.119",null,311446,119,null,null,"40986456","311446119","Ancrage-Type V200 Sti 311446 R.119",311446,119,"40986456"]
["311446120","40986457","Ancrage-Type V200 Sti 311446 R.120",null,311446,120,null,null,"40986457","311446120","Ancrage-Type V200 Sti 311446 R.120",311446,120,"40986457"]
["311446122","40986459","Ancrage-Type V200 Sti 311446 R.122",null,311446,122,null,null,"40986459","311446122","Ancrage-Type V200 Sti 311446 R.122",311446,122,"40986459"]
["311446123","40986460","Ancrage-Type V200 Sti 311446 R.123",null,311446,123,null,null,"40986460","311446123","Ancrage-Type V200 Sti 311446 R.123",311446,123,"40986460"]
["311446124","40986461","Ancrage-Type V200 Sti 311446 R.124",null,311446,124,null,null,"40986461","311446124","Ancrage-Type V200 Sti 311446 R.124",311446,124,"40986461"]
["311446125","40986462","Ancrage-Type V200 Sti 311446 R.125",null,311446,125,null,null,"40986462","311446125","Ancrage-Type V200 Sti 311446 R.125",311446,125,"40986462"]
["311446127","40986463","Ancrage-Type V200 Sti 311446 R.127",null,311446,127,null,null,"40986463",{"$f":"L704&M704","v":"311446127"},"Ancrage-Type V200 Sti 311446 R.127",311446,127,"40986463"]
["311446127P","40986464","Ancrage-Type V200 Sti 311446 R.127P",null,311446,"127P",null,null,"40986464","311446127P","Ancrage-Type V200 Sti 311446 R.127P",311446,"127P","40986464"]
["311446129","40986465","Ancrage-Type V200 Sti 311446 R.129",null,311446,129,null,null,"40986465","311446129","Ancrage-Type V200 Sti 311446 R.129",311446,129,"40986465"]
["311446129P","40986466","Ancrage-Type V200 Sti 311446 R.129P",null,311446,"129P",null,null,"40986466","311446129P","Ancrage-Type V200 Sti 311446 R.129P",311446,"129P","40986466"]
["311446130","40986467","Ancrage-Type V200 Sti 311446 R.130",null,311446,130,null,null,"40986467","311446130","Ancrage-Type V200 Sti 311446 R.130",311446,130,"40986467"]
["311446130P","40986468","Ancrage-Type V200 Sti 311446 R.130P",null,311446,"130P",null,null,"40986468","311446130P","Ancrage-Type V200 Sti 311446 R.130P",311446,"130P","40986468"]
["311446135","40986469","Ancrage-Type V200 Sti 311446 R.135",null,311446,135,null,null,"40986469","311446135","Ancrage-Type V200 Sti 311446 R.135",311446,135,"40986469"]
["311446137","40986470","Ancrage-Type V200 Sti 311446 R.137",null,311446,137,null,null,"40986470","311446137","Ancrage-Type V200 Sti 311446 R.137",311446,137,"40986470"]
["311446137P","40986471","Ancrage-Type V200 Sti 311446 R.137P",null,311446,"137P",null,null,"40986471","311446137P","Ancrage-Type V200 Sti 311446 R.137P",311446,"137P","40986471"]
["311446139","40986472","Ancrage-Type V200 Sti 311446 R.139",null,311446,139,null,null,"40986472","311446139","Ancrage-Type V200 Sti 311446 R.139",311446,139,"40986472"]
["311446140","40986473","Ancrage-Type V200 Sti 311446 R.140",null,311446,140,null,null,"40986473","311446140","Ancrage-Type V200 Sti 311446 R.140",311446,140,"40986473"]
["311446143","40986474","Ancrage-Type V200 Sti 311446 R.143",null,311446,143,null,null,"40986474","311446143","Ancrage-Type V200 Sti 311446 R.143",311446,143,"40986474"]
["311446143P","40986475","Ancrage-Type V200 Sti 311446 R.143P",null,311446,"143P",null,null,"40986475","311446143P","Ancrage-Type V200 Sti 311446 R.143P",311446,"143P","40986475"]
["311446144","40986476","Ancrage-Type V200 Sti 311446 R.144",null,311446,144,null,null,"40986476","311446144","Ancrage-Type V200 Sti 311446 R.144",311446,144,"40986476"]
["311446146","40986477","Ancrage-Type V200 Sti 311446 R.146",null,311446,146,null,null,"40986477","311446146","Ancrage-Type V200 Sti 311446 R.146",311446,146,"40986477"]
["311446147","40986478","Ancrage-Type V200 Sti 311446 R.147",null,311446,147,null,null,"40986478","311446147","Ancrage-Type V200 Sti 311446 R.147",311446,147,"40986478"]
["311446148","40986479","Ancrage-Type V200 Sti 311446 R.148",null,311446,148,null,null,"40986479","311446148","Ancrage-Type V200 Sti 311446 R.148",311446,148,"40986479"]
["311446149","40986480","Ancrage-Type V200 Sti 311446 R.149",null,311446,149,null,null,"40986480","311446149","Ancrage-Type V200 Sti 311446 R.149",311446,149,"40986480"]
["311446149P","40986481","Ancrage-Type V200 Sti 311446 R.149P",null,311446,"149P",null,null,"40986481","311446149P","Ancrage-Type V200 Sti 311446 R.149P",311446,"149P","40986481"]
["311446150","40986482","Ancrage-Type V200 Sti 311446 R.150",null,311446,150,null,null,"40986482","311446150","Ancrage-Type V200 Sti 311446 R.150",311446,150,"40986482"]
["311446151","40986483","Ancrage-Type V200 Sti 311446 R.151",null,311446,151,null,null,"40986483","311446151","Ancrage-Type V200 Sti 311446 R.151",311446,151,"40986483"]
["311446152","40986484","Ancrage-Type V200 Sti 311446 R.152",null,311446,152,null,null,"40986484","311446152","Ancrage-Type V200 Sti 311446 R.152",311446,152,"40986484"]
["311446153","40986485","Ancrage-Type V200 Sti 311446 R.153",null,311446,153,null,null,"40986485","311446153","Ancrage-Type V200 Sti 311446 R.153",311446,153,"40986485"]
["311446154","40986486","Ancrage-Type V200 Sti 311446 R.154",null,311446,154,null,null,"40986486","311446154","Ancrage-Type V200 Sti 311446 R.154",311446,154,"40986486"]
["311446155","40986487","Ancrage-Type V200 Sti 311446 R.155",null,311446,155,null,null,"40986487","311446155","Ancrage-Type V200 Sti 311446 R.155",311446,155,"40986487"]
["311446157","40986488","Ancrage-Type V200 Sti 311446 R.157",null,311446,157,null,null,"40986488","311446157","Ancrage-Type V200 Sti 311446 R.157",311446,157,"40986488"]
["311446157P","40986489","Ancrage-Type V200 Sti 311446 R.157P",null,311446,"157P",null,null,"40986489","311446157P","Ancrage-Type V200 Sti 311446 R.157P",311446,"157P","40986489"]
["311446158","40986490","Ancrage-Type V200 Sti 311446 R.158",null,311446,158,null,null,"40986490","311446158","Ancrage-Type V200 Sti 311446 R.158",311446,158,"40986490"]
["311446158P","40986491","Ancrage-Type V200 Sti 311446 R.158P",null,311446,"158P",null,null,"40986491","311446158P","Ancrage-Type V200 Sti 311446 R.158P",311446,"158P","40986491"]
["311446159","40986492","Ancrage-Type V200 Sti 311446 R.159",null,311446,159,null,null,"40986492","311446159","Ancrage-Type V200 Sti 311446 R.159",311446,159,"40986492"]
["311446159P","40986493","Ancrage-Type V200 Sti 311446 R.159P",null,311446,"159P",null,null,"40986493","311446159P","Ancrage-Type V200 Sti 311446 R.159P",311446,"159P","40986493"]
["311446161","40986494","Ancrage-Type V200 Sti 311446 R.161",null,311446,161,null,null,"40986494","311446161","Ancrage-Type V200 Sti 311446 R.161",311446,161,"40986494"]
["311446161P","40986495","Ancrage-Type V200 Sti 311446 R.161P",null,311446,"161P",null,null,"40986495","311446161P","Ancrage-Type V200 Sti 311446 R.161P",311446,"161P","40986495"]
["311446162","40986496","Ancrage-Type V200 Sti 311446 R.162",null,311446,162,null,null,"40986496","311446162","Ancrage-Type V200 Sti 311446 R.162",311446,162,"40986496"]
["311446163","40986497","Ancrage-Type V200 Sti 311446 R.163",null,311446,163,null,null,"40986497","311446163","Ancrage-Type V200 Sti 311446 R.163",311446,163,"40986497"]
["311446164","40986498","Ancrage-Type V200 Sti 311446 R.164",null,311446,164,null,null,"40986498","311446164","Ancrage-Type V200 Sti 311446 R.164",311446,164,"40986498"]
["311446167","40986499","Ancrage-Type V200 Sti 311446 R.167",null,311446,167,null,null,"40986499","311446167","Ancrage-Type V200 Sti 311446 R.167",311446,167,"40986499"]
["311446168","40986500","Ancrage-Type V200 Sti 311446 R.168",null,311446,168,null,null,"40986500","311446168","Ancrage-Type V200 Sti 311446 R.168",311446,168,"40986500"]
["310480140",20982550,"Iso supp pour Bz 65",null,310480,140,null,null,20982550,"310480140","Iso supp pour Bz 65",310480,140,20982550]
["310480141",20982551,"Iso supp pour Cu 150",null,310480,141,null,null,20982551,"310480141","Iso supp pour Cu 150",310480,141,20982551]
["310480145",20982555,"Iso supp pour  Bz 116",null,310480,145,null,null,20982555,"310480145","Iso supp pour  Bz 116",310480,145,20982555]
["310483711",20982732,"Iso supp pour Bz 35",null,310483,711,null,null,20982732,"310483711","Iso supp pour Bz 35",310483,711,20982732]
["310483711P",20982733,"Iso supp pour Bz 35 Protégé",null,310483,"711P",null,null,20982733,"310483711P","Iso supp pour Bz 35 Protégé",310483,"711P",20982733]
["310483713",20982734,"Iso supp pour Ac 93",null,310483,713,null,null,20982734,"310483713","Iso supp pour Ac 93",310483,713,20982734]
["310483714",20982735,"Iso supp pour Cu 107",null,310483,714,null,null,20982735,"310483714","Iso supp pour Cu 107",310483,714,20982735]
["10981604",30982578,"Iso supp pour Cu 145,8",null,10981,604,null,null,30982578,"10981604","Iso supp pour Cu 145,8",10981,604,30982578]
[{"$f":"E750&F750","v":"10981605"},30982579,"Iso supp pour Cu 262",null,10981,605,null,null,30982579,"10981605","Iso supp pour Cu 262",10981,605,30982579]
["10985204",30982654,"Iso Supp pour Bz 116 27%",null,10985,204,null,null,30982654,"10985204","Iso Supp pour Bz 116 27%",10985,204,30982654]
["10985205",30982655,"Iso Supp pour Bz 65",null,10985,205,null,null,30982655,"10985205","Iso Supp pour Bz 65",10985,205,30982655]
["10981652",30982758,"Iso supp pour Ac 93",null,10981,652,null,null,30982758,"10981652","Iso supp pour Ac 93",10981,652,30982758]
["10981653",30982759,"Iso supp pour Ac 93",null,10981,653,null,null,30982759,"10981653","Iso supp pour Ac 93",10981,653,30982759]
["10985251",30982800,"Iso supp pour Ac 93",null,10985,251,null,null,30982800,"10985251","Iso supp pour Ac 93",10985,251,30982800]
["10985252",30982801,"Iso supp pour Ac 93",null,10985,252,null,null,30982801,"10985252","Iso supp pour Ac 93",10985,252,30982801]
["10985253",30982802,"Iso supp pour Ac 93",null,10985,253,null,null,30982802,"10985253","Iso supp pour Ac 93",10985,253,30982802]
["10985206",30982803,"Iso supp pour Bz 116 37%",null,10985,206,null,null,30982803,"10985206","Iso supp pour Bz 116 37%",10985,206,30982803]
["311446137",40986470,"Iso supp pour Bz 65",null,311446,137,null,null,40986470,"311446137","Iso supp pour Bz 65",311446,137,40986470]
["311446137P",40986471,"Iso supp pour  Bz 65 Protégé",null,311446,"137P",null,null,40986471,"311446137P","Iso supp pour  Bz 65 Protégé",311446,"137P",40986471]
["311446139",40986472,"Iso supp pour Cu 107",null,311446,139,null,null,40986472,"311446139","Iso supp pour Cu 107",311446,139,40986472]
["311446140",40986473,"Iso supp pour Ac 93",null,311446,140,null,null,40986473,"311446140","Iso supp pour Ac 93",311446,140,40986473]
["01680330","01680330","Rondelles M20",null,"01680330",null,null,null,"01680330","01680330","Rondelles M20","01680330",null,"01680330"]
["01680333","01680333","Rondelles M22",null,"01680333",null,null,null,"01680333","01680333","Rondelles M22","01680333",null,"01680333"]

{"sheet":"Massifs","index":11,"n_rows":372,"n_cols":48,"rows_kept":372,"cut":false,"hidden":true,"merged":[]}
["Massifs d'ancrage",null,"Massifs de supports",null,null,null,"Massifs d'ancrage",null,null,null,null,"kN.m",null,"Echantillon",null,"Massifs de supports",null,null,null,null,"kN.m",null,null,null,"Liste Massifs d'Ancrage"]
["NOUVEAU",null,"NOUVEAU",null,null,null,"Api","Volume (m3)","a (m)","b (m)","H (m)","Moment K=1",null,"Cn",null,null,"Volume (m3)","a (m)","b (m)","H (m)","Moment K=1","Moment K=1,3","Moment K=1,5",null,null,"Volume (m3)","a (m)","b (m)","H (m)","Moment K=1",null,"Séléctionné:",{"$f":"Msupp","v":"Pn"},null,"Cn","Pn","Pnt","Pi","Pnp","Pnpm","Pnpt","Ne","Ie","Ipe","Ipeq","Npe","Npeq","It"]
["1APi",0.98,"0cn",0.751,null,0,1,0.98,0.7,1.4,1,13.5,null,"Pn",null,"0Cn",0.751,0.75,0.75,1.7,35,45.5,52.5,null,"1Api",0.98,0.7,1.4,1,13.5,null,"Liste :",{"$f":"IFERROR(SMALL(OFFSET($AH$2,1,MATCH($AG$2,$AI$2:$AV$2,0),17),ROW(1:1)),\"\")","v":0},null,0,0,0,0]
["2APi",1.32,"0cna",0.83899999999999997,null,13.5,2,1.32,0.8,1.5,1.1000000000000001,18,null,"Pnt",null,"1Cn",0.88400000000000001,0.75,0.75,2,50,65,75,null,"2Api",1.32,0.8,1.5,1.1000000000000001,18,null,null,{"$f":"IFERROR(SMALL(OFFSET($AH$2,1,MATCH($AG$2,$AI$2:$AV$2,0),17),ROW(2:2)),\"\")","v":1},null,1,1,1,1,null,null,null,1,1,null,null,null,null,1]
["3APi",1.6830000000000001,"0cnb",0.92800000000000005,null,18,3,1.6830000000000001,0.9,1.7,1.1000000000000001,26,null,"Pi",null,"2Cn",1.016,0.75,0.75,2.2999999999999998,65,84.5,97.5,null,"3Api",1.6830000000000001,0.9,1.7,1.1000000000000001,26,null,null,2,null,2,2,2,2,null,null,null,2,2,null,null,null,null,2]
["4APi",2.52,"0cnc",1.016,null,26,4,2.52,1,1.8,1.4,30,null,"Pnp",null,"3Cn",1.1040000000000001,0.75,0.75,2.5,80,104,120,null,"4Api",2.52,1,1.8,1.4,30,null,null,3,null,3,3,3,3,3,3,3,3,3,3,3,3,null,3]
["5APi",2.66,"0cnd",1.1040000000000001,null,30,5,2.66,1,1.9,1.4,35,null,"Pnpm",null,"4Cn",1.1930000000000001,0.75,0.75,2.7,100,130,150,null,"5Api",2.66,1,1.9,1.4,35,null,null,4,null,4,4,4,4,4,4,4,4,4,4,4,4,4,4]
["6APi",3.528,"0cne",1.1930000000000001,null,35,6,3.528,1.2,2.1,1.4,50,null,"Pnpt",null,"5Cn",1.325,0.75,0.75,3,120,156,180,null,"6Api",3.528,1.2,2.1,1.4,50,null,null,5,null,5,5,5,5,5,5,5,5,5,5,5,5,5,5]
["7APi",4.0039999999999996,"1cn",0.88400000000000001,null,50,7,4.0039999999999996,1.3,2.2000000000000002,1.4,60,null,"Ne",null,"0Cna",0.83899999999999997,0.75,0.75,1.9,35,45.5,52.5,null,"7Api",4.0039999999999996,1.3,2.2000000000000002,1.4,60,null,null,6,null,null,6,6,6,6,6,6,6,6,6,6,6,6,6]
["8APi",6.048,"1cna",0.97199999999999998,null,60,8,6.048,1.4,2.4,1.8,77,null,"Ie",null,"1Cna",0.97199999999999998,0.75,0.75,2.2000000000000002,50,65,75,null,"8Api",6.048,1.4,2.4,1.8,77,null,null,7,null,null,7,7,7,7,7,7,7,7,7,7,7,7,7]
["9APi",7.2,"1cnb",1.06,null,77,9,7.2,1.6,2.5,1.8,96,null,"Ipe",null,"2Cna",1.1040000000000001,0.75,0.75,2.5,65,84.5,97.5,null,"9Api",7.2,1.6,2.5,1.8,96,null,null,8,null,null,8,8,8,8,8,8,8,8,8,8,8,8,8]
["10APi",7.7759999999999998,"1cnc",1.149,null,96,10,7.7759999999999998,1.6,2.7,1.8,115,null,"Ipeq",null,"3Cna",1.1930000000000001,0.75,0.75,2.7,80,104,120,null,"10Api",7.7759999999999998,1.6,2.7,1.8,115,null,null,9,null,null,9,9,null,9,9,9,9,9,9,9,9,9,9]
["11APi",9.3960000000000008,"1cnd",1.2370000000000001,null,115,11,9.3960000000000008,1.8,2.9,1.8,145,null,"Npe",null,"4Cna",1.2809999999999999,0.75,0.75,2.9,100,130,150,null,"11Api",9.3960000000000008,1.8,2.9,1.8,145,null,null,10,null,null,10,10,null,10,10,10,10,10,10,10,10,10,10]
["12APi",12.4,"1cne",1.325,null,145,12,12.4,2,3.1,2,190,null,"Npeq",null,"5Cna",1.4139999999999999,0.75,0.75,3.2,120,156,180,null,"12Api",12.4,2,3.1,2,190,null,null,11,null,null,11,11,null,11,11,11,null,11,11,11,11,11,11]
["1APNs",3.3879999999999999,"2cn",1.016,null,190,"Erreur",null,null,null,null,null,null,null,null,"0Cnb",0.92800000000000005,0.75,0.75,2.1,35,45.5,52.5,null,"1APNs",3.3879999999999999,1.1000000000000001,2.2000000000000002,1.4,13.5,null,null,12,null,null,12,12,null,12,12,12,null,12,12,12,12,12,12]
["2APNs",4.2,"2cna",1.1040000000000001,null,null,"APNs",null,null,null,null,null,null,null,null,"1Cnb",1.06,0.75,0.75,2.4,50,65,75,null,"2APNs",4.2,1.2,2.5,1.4,18,null,null,13,null,null,13,13,null,13,13,13,null,13,13,13,13,13,13]
["3APNS",5.2779999999999996,"2cnb",1.1930000000000001,null,0,1,3.3879999999999999,1.1000000000000001,2.2000000000000002,1.4,13.5,null,null,null,"2Cnb",1.1930000000000001,0.75,0.75,2.7,65,84.5,97.5,null,"3APNs",5.2779999999999996,1.3,2.9,1.4,26,null,null,"",null,null,null,null,null,null,null,null,null,14,null,null,null,null,14]
["4APNs",6.09,"2cnc",1.2809999999999999,null,13.5,2,4.2,1.2,2.5,1.4,18,null,"Approfondissement",null,"3Cnb",1.2809999999999999,0.75,0.75,2.9,80,104,120,null,"4APNs",6.09,1.5,2.9,1.4,30,null,null,""]
["5APNs",6.944,"3cn",1.1040000000000001,null,18,3,5.2779999999999996,1.3,2.9,1.4,26,null,null,null,"4Cnb",1.37,0.75,0.75,3.1,100,130,150,null,"5APNs",6.944,1.6,3.1,1.4,35,null,null,""]
["6APNs",8.82,"3cna",1.1930000000000001,null,26,4,6.09,1.5,2.9,1.4,30,null,"a",null,"5Cnb",1.52,0.75,0.75,3.4,120,156,180,null,"6APNs",8.82,1.8,3.5,1.4,50]
["7APNs",10.36,"3cnb",1.2809999999999999,null,30,5,6.944,1.6,3.1,1.4,35,null,"b",null,"0Cnc",1.016,0.75,0.75,2.2999999999999998,35,45.5,52.5,null,"7APNs",10.36,2,3.7,1.4,60]
["8APNs",14.742000000000001,"4cn",1.1930000000000001,null,35,6,8.82,1.8,3.5,1.4,50,null,"c",null,"1Cnc",1.149,0.75,0.75,2.6,50,65,75,null,"8APNs",14.742000000000001,2.1,3.9,1.8,77]
["9APNs",17.027999999999999,"4cna",1.2809999999999999,null,50,7,10.36,2,3.7,1.4,60,null,"d",null,"2Cnc",1.2809999999999999,0.75,0.75,2.9,65,84.5,97.5,null,"9APNs",17.027999999999999,2.2000000000000002,4.3,1.8,96]
["10APNs",19.440000000000001,"5cn",1.325,null,60,8,14.742000000000001,2.1,3.9,1.8,77,null,"e",null,"3Cnc",1.37,0.75,0.75,3.1,80,104,120,null,"10APNs",19.440000000000001,2.4,4.5,1.8,115]
["11APNs",23.327999999999999,"0pn",1.0009999999999999,null,77,9,17.027999999999999,2.2000000000000002,4.3,1.8,96,null,null,null,"4Cnc",1.458,0.75,0.75,3.3,100,130,150,null,"11APNs",23.327999999999999,2.7,4.8,1.8,145,null,null,{"$f":"AG2","v":"Pn"},"Trie","Cn","Pn","Pnt","Pi","Pnp","Pnpm","Pnpt","Ne","Ie","Ipe","Ipeq","Npe","Npeq","It"]
["12APNs",29.68,"0pna",1.155,null,96,10,19.440000000000001,2.4,4.5,1.8,115,null,null,null,"5Cnc",1.59,0.75,0.75,3.6,120,156,180,null,"12APNs",29.68,2.8,5.3,2,190,null,null,{"$f":"IF(INDEX(AI26:QA26,MATCH($AG$2,$AI$25:$QA$25,0))=\"\",\"\",INDEX(AI26:QA26,MATCH($AG$2,$AI$25:$QA$25,0)))","v":"a"},{"$f":"OFFSET(Massifs!$AG$26:$AG$33,MATCH(TRUE,INDEX(Massifs!$AG$26:$AG$33<>\"\",0),0)-1,0,COUNTA(Massifs!$AG$26:$AG$33)-COUNTBLANK(Massifs!$AG$26:$AG$33))","v":"a"},"a","a",null,"a","a","a","a","a","a"]
["ANCIENS",null,"0pnb",1.3089999999999999,null,115,11,23.327999999999999,2.7,4.8,1.8,145,null,"Echantillon Anc",null,"0Cnd",1.1040000000000001,0.75,0.75,2.5,35,45.5,52.5,null,"1Acn",0.88400000000000001,0.75,0.75,2,24,null,null,{"$f":"IF(INDEX(AI27:QA27,MATCH($AG$2,$AI$25:$QA$25,0))=\"\",\"\",INDEX(AI27:QA27,MATCH($AG$2,$AI$25:$QA$25,0)))","v":"b"},"b","b","b",null,"b","b","b","b","b","b"]
[61,1.32,"0pnc",1.4630000000000001,null,145,12,29.68,2.8,5.3,2,190,null,"Aucun",null,"1Cnd",1.2370000000000001,0.75,0.75,2.8,50,65,75,null,"2Acn",1.1040000000000001,0.75,0.75,2.5,33,null,null,"c","c","c","c",null,"c",null,null,null,"c"]
[62,1.87,"0pnd",1.617,null,190,"Erreur",null,null,null,null,null,null,"Acn",null,"2Cnd",1.37,0.75,0.75,3.1,65,84.5,97.5,null,"3Acn",1.325,0.75,0.75,3,40,null,null,"d","d","d","d",null,"d"]
[63,2.52,"0pne",1.7709999999999999,null,null,"Acn",null,null,null,null,null,null,"Api",null,"3Cnd",1.458,0.75,0.75,3.3,80,104,120,null,"4Acn",1.4139999999999999,0.75,0.75,3.2,50,null,null,"e","e","e","e",null,"e"]
[64,2.9260000000000002,"1pn",1.232,null,0,1,0.88400000000000001,0.75,0.75,2,24,null,"Apns",null,"4Cnd",1.546,0.75,0.75,3.5,100,130,150,null,"1Ae",1.0009999999999999,null,null,null,null,null,null,{"$f":"IF(INDEX(AI31:QA31,MATCH($AG$2,$AI$25:$QA$25,0))=\"\",\"\",INDEX(AI31:QA31,MATCH($AG$2,$AI$25:$QA$25,0)))","v":""}]
[65,3.08,"1pna",1.3859999999999999,null,24,2,1.1040000000000001,0.75,0.75,2.5,33,null,"Ae",null,"5Cnd",1.679,0.75,0.75,3.8,120,156,180,null,"2Ae",1.32,null,null,null,null,null,null,""]
[66,3.528,"1pnb",1.54,null,33,3,1.325,0.75,0.75,3,40,null,0,null,"0Cne",1.1930000000000001,0.75,0.75,2.7,35,45.5,52.5,null,"3Ae",1.6830000000000001,null,null,null,null,null,null,{"$f":"IF(INDEX(AI33:QA33,MATCH($AG$2,$AI$25:$QA$25,0))=\"\",\"\",INDEX(AI33:QA33,MATCH($AG$2,$AI$25:$QA$25,0)))","v":""}]
[67,4.0039999999999996,"1pnc",1.694,null,40,4,1.4139999999999999,0.75,0.75,3.2,50,null,1,null,"1Cne",1.325,0.75,0.75,3,50,65,75,null,"4Ae",2.52]
[68,5.3819999999999997,"1pnd",1.8480000000000001,null,50,"Changer",null,null,null,null,null,null,2,null,"2Cne",1.458,0.75,0.75,3.3,65,84.5,97.5,null,"5Ae",3.528]
[69,5.21,"1pne",2.0019999999999998,null,null,"Ae",null,null,null,null,null,null,3,null,"3Cne",1.546,0.75,0.75,3.5,80,104,120,null,"6Ae",4.1859999999999999]
[70,6.75,"2pn",1.4279999999999999,null,0,1,1.0009999999999999,1,0.7,1.1000000000000001,null,null,4,null,"4Cne",1.635,0.75,0.75,3.7,100,130,150,null,"7Ae",6.3]
[71,7.65,"2pna",1.5960000000000001,null,13,2,1.32,1.2,0.8,1.1000000000000001,null,null,5,null,"5Cne",1.7669999999999999,0.75,0.75,4,120,156,180,null,"8Ae",7.2]
[72,8.2620000000000005,"2pnb",1.764,null,17,3,1.6830000000000001,1.4,0.9,1.1000000000000001,null,null,6,null,"0Pn",1.0010000000000001,0.7,1.1000000000000001,1.3,35,45.5,52.5]
[73,9.7200000000000006,"2pnc",1.9319999999999999,null,24,4,2.52,1.4,1,1.4,null,null,7,null,"1Pn",1.2320000000000002,0.7,1.1000000000000001,1.6,50,65,75]
[74,13.23,"2pnd",2.1,null,30,5,3.528,1.7,1.2,1.4,null,null,8,null,"2Pn",1.4279999999999999,0.7,1.2,1.7,65,84.5,97.5]
["7Ne",4.7519999999999998,"2pne",2.2679999999999998,null,47,6,4.1859999999999999,1.9,1.3,1.4,null,null,9,null,"3Pn",1.8720000000000001,0.8,1.3,1.8,80,104,120]
[null,null,null,null,null,60,7,6.3,2,1.4,1.8,null,null,10,null,"4Pn",2.4300000000000002,0.9,1.5,1.8,100,130,150]
[null,null,"3pn",1.8720000000000001,null,77,8,7.2,2,1.6,1.8,null,null,11,null,"5Pn",3,1,1.5,2,120,156,180]
[null,null,"3pna",2.08,null,94,"Changer",null,null,null,null,null,null,12,null,"6Pn",3.74,1.1000000000000001,1.7,2,140,182,210]
[null,null,"3pnb",2.2879999999999998,null,null,null,null,null,null,null,null,null,13,null,"7Pn",4.7520000000000007,1.2,1.8,2.2000000000000002,170,221,255]
[null,null,"3pnc",2.496,null,null,null,null,null,null,null,null,null,null,null,"8Pn",5.4340000000000002,1.3,1.9,2.2000000000000002,200,260,300]
[null,null,"3pnd",2.7040000000000002,null,null,null,null,null,null,null,null,null,null,null,"9Pn",6.468,1.4,2.1,2.2000000000000002,240,312,360]
[null,null,"3pne",2.9119999999999999,null,null,null,null,null,null,null,null,null,null,null,"10Pn",8.0960000000000001,1.6,2.2999999999999998,2.2000000000000002,280,364,420]
[null,null,"4pn",2.4300000000000002,null,null,null,null,null,null,null,null,null,null,null,"11Pn",9.9,1.8,2.5,2.2000000000000002,340,442,510]
[null,null,"4pna",2.7,null,null,null,null,null,null,null,null,null,null,null,"12Pn",10.799999999999999,1.8,2.5,2.4,400,520,600]
[null,null,"4pnb",2.97,null,null,null,null,null,null,null,null,null,null,null,"13Pn",13.799999999999999,2.2999999999999998,2.5,2.4,480,624,720]
[null,null,"4pnc",3.24,null,null,null,null,null,null,null,null,null,null,null,"0Pna",1.155,0.7,1.1000000000000001,1.5,35,45.5,52.5]
[null,null,"4pnd",3.51,null,null,null,null,null,null,null,null,null,null,null,"1Pna",1.3860000000000001,0.7,1.1000000000000001,1.8,50,65,75]
[null,null,"4pne",3.78,null,null,null,null,null,null,null,null,null,null,null,"2Pna",1.5959999999999999,0.7,1.2,1.9,65,84.5,97.5]
[null,null,"5pn",3,null,null,null,null,null,null,null,null,null,null,null,"3Pna",2.08,0.8,1.3,2,80,104,120]
[null,null,"5pna",3.3,null,null,null,null,null,null,null,null,null,null,null,"4Pna",2.7,0.9,1.5,2,100,130,150]
[null,null,"5pnb",3.6,null,null,null,null,null,null,null,null,null,null,null,"5Pna",3.3000000000000003,1,1.5,2.2000000000000002,120,156,180]
[null,null,"5pnc",3.9,null,null,null,null,null,null,null,null,null,null,null,"6Pna",4.1140000000000008,1.1000000000000001,1.7,2.2000000000000002,140,182,210]
[null,null,"5pnd",4.2,null,null,null,null,null,null,null,null,null,null,null,"7Pna",5.1840000000000002,1.2,1.8,2.4,170,221,255]
[null,null,"5pne",4.5,null,null,null,null,null,null,null,null,null,null,null,"8Pna",5.927999999999999,1.3,1.9,2.4,200,260,300]
[null,null,"6pn",3.74,null,null,null,null,null,null,null,null,null,null,null,"9Pna",7.056,1.4,2.1,2.4,240,312,360]
[null,null,"6pna",4.1139999999999999,null,null,null,null,null,null,null,null,null,null,null,"10Pna",8.831999999999999,1.6,2.2999999999999998,2.4,280,364,420]
[null,null,"6pnb",4.4880000000000004,null,null,null,null,null,null,null,null,null,null,null,"11Pna",10.799999999999999,1.8,2.5,2.4,340,442,510]
[null,null,"6pnc",4.8620000000000001,null,null,null,null,null,null,null,null,null,null,null,"12Pna",11.700000000000001,1.8,2.5,2.6,400,520,600]
[null,null,"6pnd",5.2359999999999998,null,null,null,null,null,null,null,null,null,null,null,"13Pna",14.950000000000001,2.2999999999999998,2.5,2.6,480,624,720]
[null,null,"6pne",5.61,null,null,null,null,null,null,null,null,null,null,null,"0Pnb",1.3089999999999999,0.7,1.1000000000000001,1.7,35,45.5,52.5]
[null,null,"7pn",4.7519999999999998,null,null,null,null,null,null,null,null,null,null,null,"1Pnb",1.54,0.7,1.1000000000000001,2,50,65,75]
[null,null,"7pna",5.1840000000000002,null,null,null,null,null,null,null,null,null,null,null,"2Pnb",1.764,0.7,1.2,2.1,65,84.5,97.5]
[null,null,"7pnb",5.6159999999999997,null,null,null,null,null,null,null,null,null,null,null,"3Pnb",2.2880000000000003,0.8,1.3,2.2000000000000002,80,104,120]
[null,null,"7pnc",6.048,null,null,null,null,null,null,null,null,null,null,null,"4Pnb",2.9700000000000006,0.9,1.5,2.2000000000000002,100,130,150]
[null,null,"7pnd",6.48,null,null,null,null,null,null,null,null,null,null,null,"5Pnb",3.5999999999999996,1,1.5,2.4,120,156,180]
[null,null,"8pn",5.4340000000000002,null,null,null,null,null,null,null,null,null,null,null,"6Pnb",4.4880000000000004,1.1000000000000001,1.7,2.4,140,182,210]
[null,null,"8pna",5.9820000000000002,null,null,null,null,null,null,null,null,null,null,null,"7Pnb",5.6160000000000005,1.2,1.8,2.6,170,221,255]
[null,null,"8pnb",6.4219999999999997,null,null,null,null,null,null,null,null,null,null,null,"8Pnb",6.4219999999999997,1.3,1.9,2.6,200,260,300]
[null,null,"8pnc",6.9160000000000004,null,null,null,null,null,null,null,null,null,null,null,"9Pnb",7.6440000000000001,1.4,2.1,2.6,240,312,360]
[null,null,"8pnd",7.41,null,null,null,null,null,null,null,null,null,null,null,"10Pnb",9.5679999999999996,1.6,2.2999999999999998,2.6,280,364,420]
[null,null,"9pn",6.468,null,null,null,null,null,null,null,null,null,null,null,"11Pnb",11.700000000000001,1.8,2.5,2.6,340,442,510]
[null,null,"9pna",7.056,null,null,null,null,null,null,null,null,null,null,null,"12Pnb",12.6,1.8,2.5,2.8,400,520,600]
[null,null,"9pnb",7.6440000000000001,null,null,null,null,null,null,null,null,null,null,null,"13Pnb",16.099999999999998,2.2999999999999998,2.5,2.8,480,624,720]
[null,null,"9pnc",8.2319999999999993,null,null,null,null,null,null,null,null,null,null,null,"0Pnc",1.4629999999999999,0.7,1.1000000000000001,1.9,35,45.5,52.5]
[null,null,"9pnd",8.82,null,null,null,null,null,null,null,null,null,null,null,"1Pnc",1.6940000000000002,0.7,1.1000000000000001,2.2000000000000002,50,65,75]
[null,null,"10pn",8.0960000000000001,null,null,null,null,null,null,null,null,null,null,null,"2Pnc",1.9319999999999997,0.7,1.2,2.2999999999999998,65,84.5,97.5]
[null,null,"10pna",8.8320000000000007,null,null,null,null,null,null,null,null,null,null,null,"3Pnc",2.496,0.8,1.3,2.4,80,104,120]
[null,null,"10pnb",9.5679999999999996,null,null,null,null,null,null,null,null,null,null,null,"4Pnc",3.24,0.9,1.5,2.4,100,130,150]
[null,null,"10pnc",10.304,null,null,null,null,null,null,null,null,null,null,null,"5Pnc",3.9000000000000004,1,1.5,2.6,120,156,180]
[null,null,"10pnd",11.04,null,null,null,null,null,null,null,null,null,null,null,"6Pnc",4.8620000000000001,1.1000000000000001,1.7,2.6,140,182,210]
[null,null,"11pn",9.9,null,null,null,null,null,null,null,null,null,null,null,"7Pnc",6.048,1.2,1.8,2.8,170,221,255]
[null,null,"11pna",10.8,null,null,null,null,null,null,null,null,null,null,null,"8Pnc",6.9159999999999986,1.3,1.9,2.8,200,260,300]
[null,null,"11pnb",11.7,null,null,null,null,null,null,null,null,null,null,null,"9Pnc",8.2319999999999993,1.4,2.1,2.8,240,312,360]
[null,null,"11pnc",12.6,null,null,null,null,null,null,null,null,null,null,null,"10Pnc",10.303999999999998,1.6,2.2999999999999998,2.8,280,364,420]
[null,null,"11pnd",13.5,null,null,null,null,null,null,null,null,null,null,null,"11Pnc",12.6,1.8,2.5,2.8,340,442,510]
[null,null,"12pn",10.8,null,null,null,null,null,null,null,null,null,null,null,"12Pnc",13.5,1.8,2.5,3,400,520,600]
[null,null,"12pna",11.7,null,null,null,null,null,null,null,null,null,null,null,"13Pnc",17.25,2.2999999999999998,2.5,3,480,624,720]
[null,null,"12pnb",12.6,null,null,null,null,null,null,null,null,null,null,null,"0Pnd",1.6170000000000002,0.7,1.1000000000000001,2.1,35,45.5,52.5]
[null,null,"12pnc",13.5,null,null,null,null,null,null,null,null,null,null,null,"1Pnd",1.8479999999999999,0.7,1.1000000000000001,2.4,50,65,75]
[null,null,"13pn",13.8,null,null,null,null,null,null,null,null,null,null,null,"2Pnd",2.1,0.7,1.2,2.5,65,84.5,97.5]
[null,null,"13pna",14.95,null,null,null,null,null,null,null,null,null,null,null,"3Pnd",2.7040000000000002,0.8,1.3,2.6,80,104,120]
[null,null,"13pnb",16.100000000000001,null,null,null,null,null,null,null,null,null,null,null,"4Pnd",3.5100000000000002,0.9,1.5,2.6,100,130,150]
[null,null,"13pnc",17.25,null,null,null,null,null,null,null,null,null,null,null,"5Pnd",4.1999999999999993,1,1.5,2.8,120,156,180]
[null,null,"0pi",1.3089999999999999,null,null,null,null,null,null,null,null,null,null,null,"6Pnd",5.2359999999999998,1.1000000000000001,1.7,2.8,140,182,210]
[null,null,"0pia",1.4630000000000001,null,null,null,null,null,null,null,null,null,null,null,"7Pnd",6.48,1.2,1.8,3,170,221,255]
[null,null,"0pib",1.617,null,null,null,null,null,null,null,null,null,null,null,"8Pnd",7.4099999999999993,1.3,1.9,3,200,260,300]
[null,null,"0pic",1.7709999999999999,null,null,null,null,null,null,null,null,null,null,null,"9Pnd",8.82,1.4,2.1,3,240,312,360]
[null,null,"0pid",1.925,null,null,null,null,null,null,null,null,null,null,null,"10Pnd",11.04,1.6,2.2999999999999998,3,280,364,420]
[null,null,"0pie",2.0790000000000002,null,null,null,null,null,null,null,null,null,null,null,"11Pnd",13.5,1.8,2.5,3,340,442,510]
[null,null,"1pi",1.68,null,null,null,null,null,null,null,null,null,null,null,"0Pne",1.7709999999999999,0.7,1.1000000000000001,2.2999999999999998,35,45.5,52.5]
[null,null,"1pia",1.8480000000000001,null,null,null,null,null,null,null,null,null,null,null,"1Pne",2.0020000000000002,0.7,1.1000000000000001,2.6,50,65,75]
[null,null,"1pib",2.016,null,null,null,null,null,null,null,null,null,null,null,"2Pne",2.2680000000000002,0.7,1.2,2.7,65,84.5,97.5]
[null,null,"1pic",2.1840000000000002,null,null,null,null,null,null,null,null,null,null,null,"3Pne",2.9119999999999999,0.8,1.3,2.8,80,104,120]
[null,null,"1pid",2.3519999999999999,null,null,null,null,null,null,null,null,null,null,null,"4Pne",3.78,0.9,1.5,2.8,100,130,150]
[null,null,"1pie",2.52,null,null,null,null,null,null,null,null,null,null,null,"5Pne",4.5,1,1.5,3,120,156,180]
[null,null,"2pi",2.1840000000000002,null,null,null,null,null,null,null,null,null,null,null,"6Pne",5.61,1.1000000000000001,1.7,3,140,182,210]
[null,null,"2pia",2.3919999999999999,null,null,null,null,null,null,null,null,null,null,null,"1Ne",1.232,0.7,1.1000000000000001,1.6]
[null,null,"2pib",2.6,null,null,null,null,null,null,null,null,null,null,null,"2Ne",1.4279999999999999,0.7,1.2,1.7]
[null,null,"2pic",2.8079999999999998,null,null,null,null,null,null,null,null,null,null,null,"3Ne",1.8720000000000001,0.8,1.3,1.8]
[null,null,"2pid",3.016,null,null,null,null,null,null,null,null,null,null,null,"4Ne",2.4300000000000002,0.9,1.5,1.8]
[null,null,"3pi",2.97,null,null,null,null,null,null,null,null,null,null,null,"5Ne",3,1,1.5,2]
[null,null,"3pia",3.24,null,null,null,null,null,null,null,null,null,null,null,"6Ne",3.74,1.1000000000000001,1.7,2]
[null,null,"3pib",3.51,null,null,null,null,null,null,null,null,null,null,null,"7Ne",4.7519999999999998,1.2,1.8,2.2000000000000002]
[null,null,"3pic",3.78,null,null,null,null,null,null,null,null,null,null,null,"8Ne",5.4340000000000002,1.3,1.9,2.2000000000000002]
[null,null,"3pid",4.05,null,null,null,null,null,null,null,null,null,null,null,"1Nea",1.3859999999999999,0.7,1.1000000000000001,1.8]
[null,null,"4pi",4.18,null,null,null,null,null,null,null,null,null,null,null,"2Nea",1.5960000000000001,0.7,1.2,1.9]
[null,null,"4pia",4.5599999999999996,null,null,null,null,null,null,null,null,null,null,null,"3Nea",2.08,0.8,1.3,2]
[null,null,"4pib",4.9400000000000004,null,null,null,null,null,null,null,null,null,null,null,"4Nea",2.7,0.9,1.5,2]
[null,null,"4pic",5.32,null,null,null,null,null,null,null,null,null,null,null,"5Nea",3.3,1,1.5,2.2000000000000002]
[null,null,"4pid",5.7,null,null,null,null,null,null,null,null,null,null,null,"6Nea",4.1139999999999999,1.1000000000000001,1.7,2.2000000000000002]
[null,null,"5pi",4.5599999999999996,null,null,null,null,null,null,null,null,null,null,null,"7Nea",5.1840000000000002,1.2,1.8,2.4]
[null,null,"5pia",4.9400000000000004,null,null,null,null,null,null,null,null,null,null,null,"8Nea",5.9279999999999999,1.3,1.9,2.4]
[null,null,"5pib",5.32,null,null,null,null,null,null,null,null,null,null,null,"1Neb",1.54,0.7,1.1000000000000001,2]
[null,null,"5pic",5.7,null,null,null,null,null,null,null,null,null,null,null,"2Neb",1.764,0.7,1.2,2.1]
[null,null,"6pi",5.5439999999999996,null,null,null,null,null,null,null,null,null,null,null,"3Neb",2.2879999999999998,0.8,1.3,2.2000000000000002]
[null,null,"6pia",5.94,null,null,null,null,null,null,null,null,null,null,null,"4Neb",2.97,0.9,1.5,2.2000000000000002]
[null,null,"7pi",7.56,null,null,null,null,null,null,null,null,null,null,null,"5Neb",3.6,1,1.5,2.4]
[null,null,"8pi",9.75,null,null,null,null,null,null,null,null,null,null,null,"6Neb",4.4880000000000004,1.1000000000000001,1.7,2.4]
[null,null,"0pnt",1.6970000000000001,null,null,null,null,null,null,null,null,null,null,null,"1Nec",1.694,0.7,1.1000000000000001,2.2000000000000002]
[null,null,"1pnt",2.3759999999999999,null,null,null,null,null,null,null,null,null,null,null,"2Nec",1.9319999999999999,0.7,1.2,2.2999999999999998]
[null,null,"2pnt",2.89,null,null,null,null,null,null,null,null,null,null,null,"3Nec",2.496,0.8,1.3,2.4]
[null,null,"3pnt",3.33,null,null,null,null,null,null,null,null,null,null,null,"4Nec",3.24,0.9,1.5,2.4]
[null,null,"4pnt",3.78,null,null,null,null,null,null,null,null,null,null,null,"5Nec",3.9,1,1.5,2.6]
[null,null,"5pnt",4.84,null,null,null,null,null,null,null,null,null,null,null,"6Nec",4.8620000000000001,1.1000000000000001,1.7,2.6]
[null,null,"6pnt",5.17,null,null,null,null,null,null,null,null,null,null,null,"1Ie",1.4279999999999999,0.7,1.2,1.7]
[null,null,"7pnt",6.3360000000000003,null,null,null,null,null,null,null,null,null,null,null,"2Ie",2.2679999999999998,0.9,1.4,1.8]
[null,null,"8pnt",7.3920000000000003,null,null,null,null,null,null,null,null,null,null,null,"3Ie",2.7,0.9,1.5,2]
[null,null,"9pnt",8.0850000000000009,null,null,null,null,null,null,null,null,null,null,null,"4Ie",3.96,1.1000000000000001,1.8,2]
[null,null,"10pnt",9.702,null,null,null,null,null,null,null,null,null,null,null,"5Ie",4.8,1.2,2,2]
[null,null,"11pnt",11.858000000000001,null,null,null,null,null,null,null,null,null,null,null,"6Ie",6.9,1.5,2.2999999999999998,2]
[null,null,"12pnt",13.992000000000001,null,null,null,null,null,null,null,null,null,null,null,"7Ie",7.92,1.5,2.4,2.2000000000000002]
[null,null,"13pnt",16.536000000000001,null,null,null,null,null,null,null,null,null,null,null,"8Ie",9.7240000000000002,1.7,2.6,2.2000000000000002]
[null,null,"5Ipe",5.67,null,null,null,null,null,null,null,null,null,null,null,"1Iea",1.5960000000000001,0.7,1.2,1.9]
[null,null,"11Ipe",12.48,null,null,null,null,null,null,null,null,null,null,null,"2Iea",2.52,0.9,1.4,2]
[null,null,null,null,null,null,null,null,null,null,null,null,null,null,null,"3Iea",2.97,0.9,1.5,2.2000000000000002]
[null,null,null,null,null,null,null,null,null,null,null,null,null,null,null,"4Iea",4.3559999999999999,1.1000000000000001,1.8,2.2000000000000002]
[null,null,null,null,null,null,null,null,null,null,null,null,null,null,null,"5Iea",5.28,1.2,2,2.2000000000000002]
[null,null,null,null,null,null,null,null,null,null,null,null,null,null,null,"6Iea",7.5,1.5,2.2999999999999998,2.2000000000000002]
[null,null,null,null,null,null,null,null,null,null,null,null,null,null,null,"1Ieb",1.764,0.7,1.2,2.1]
[null,null,null,null,null,null,null,null,null,null,null,null,null,null,null,"2Ieb",2.7719999999999998,0.9,1.4,2.2000000000000002]
[null,null,null,null,null,null,null,null,null,null,null,null,null,null,null,"3Ieb",3.24,0.9,1.5,2.4]
[null,null,null,null,null,null,null,null,null,null,null,null,null,null,null,"4Ieb",4.7519999999999998,1.1000000000000001,1.8,2.4]
[null,null,null,null,null,null,null,null,null,null,null,null,null,null,null,"5Ieb",5.76,1.2,2,2.4]
[null,null,null,null,null,null,null,null,null,null,null,null,null,null,null,"6Ieb",6.28,1.5,2.2999999999999998,2.4]
[null,null,null,null,null,null,null,null,null,null,null,null,null,null,null,"3Ipe",3.24,1.5,1.2,1.8]
[null,null,null,null,null,null,null,null,null,null,null,null,null,null,null,"4Ipe",4.12,1.8,1.3,1.8]
[null,null,null,null,null,null,null,null,null,null,null,null,null,null,null,"5Ipe",5.67,2.1,1.5,1.8]
[null,null,null,null,null,null,null,null,null,null,null,null,null,null,null,"6Ipe",6.3360000000000003,2.2000000000000002,1.6,1.8]
[null,null,null,null,null,null,null,null,null,null,null,null,null,null,null,"7Ipe",7.452,2.2999999999999998,1.8,1.8]
[null,null,null,null,null,null,null,null,null,null,null,null,null,null,null,"8Ipe",8.2080000000000002,2.4,1.9,1.8]
[null,null,null,null,null,null,null,null,null,null,null,null,null,null,null,"9Ipe",9.5,2.5,1.9,2]
[null,null,null,null,null,null,null,null,null,null,null,null,null,null,null,"10Ipe",10.92,2.6,2.1,2]
[null,null,null,null,null,null,null,null,null,null,null,null,null,null,null,"11Ipe",12.48,2.6,2.4,2]
[null,null,null,null,null,null,null,null,null,null,null,null,null,null,null,"12Ipe",14.872,2.6,2.6,2.2000000000000002]
[null,null,null,null,null,null,null,null,null,null,null,null,null,null,null,"13Ipe",17.731999999999999,2.6,3.1,2.2000000000000002]
[null,null,null,null,null,null,null,null,null,null,null,null,null,null,null,"3Ipeq",3.6,1.5,1.2,2]
[null,null,null,null,null,null,null,null,null,null,null,null,null,null,null,"4Ipeq",4.68,1.8,1.3,2]
[null,null,null,null,null,null,null,null,null,null,null,null,null,null,null,"5Ipeq",6.3,2.1,1.5,2]
[null,null,null,null,null,null,null,null,null,null,null,null,null,null,null,"6Ipeq",7.04,2.2000000000000002,1.6,2]
[null,null,null,null,null,null,null,null,null,null,null,null,null,null,null,"7Ipeq",8.2799999999999994,2.2999999999999998,1.8,2]
[null,null,null,null,null,null,null,null,null,null,null,null,null,null,null,"8Ipeq",9.1199999999999992,2.4,1.9,2]
[null,null,null,null,null,null,null,null,null,null,null,null,null,null,null,"9Ipeq",10.45,2.5,1.9,2.2000000000000002]
[null,null,null,null,null,null,null,null,null,null,null,null,null,null,null,"10Ipeq",12.012,2.6,2.1,2.2000000000000002]
[null,null,null,null,null,null,null,null,null,null,null,null,null,null,null,"11Ipeq",13.728,2.6,2.4,2.2000000000000002]
[null,null,null,null,null,null,null,null,null,null,null,null,null,null,null,"12Ipeq",16.224,2.6,2.6,2.4]
[null,null,null,null,null,null,null,null,null,null,null,null,null,null,null,"13Ipeq",19.334,2.6,3.1,2.4]
[null,null,null,null,null,null,null,null,null,null,null,null,null,null,null,"3Npe",2.7,1,1.5,1.8]
[null,null,null,null,null,null,null,null,null,null,null,null,null,null,null,"4Npe",2.7,1,1.5,1.8]
[null,null,null,null,null,null,null,null,null,null,null,null,null,null,null,"5Npe",3,1,1.5,2]
[null,null,null,null,null,null,null,null,null,null,null,null,null,null,null,"6Npe",3.74,1.1000000000000001,1.7,2]
[null,null,null,null,null,null,null,null,null,null,null,null,null,null,null,"7Npe",4.7519999999999998,1.2,1.8,2.2000000000000002]
[null,null,null,null,null,null,null,null,null,null,null,null,null,null,null,"8Npe",5.4340000000000002,1.3,1.9,2.2000000000000002]
[null,null,null,null,null,null,null,null,null,null,null,null,null,null,null,"9Npe",6.468,1.4,2.1,2.2000000000000002]
[null,null,null,null,null,null,null,null,null,null,null,null,null,null,null,"10Npe",8.0960000000000001,1.6,2.2999999999999998,2.2000000000000002]
[null,null,null,null,null,null,null,null,null,null,null,null,null,null,null,"11Npe",9.9,1.8,2.5,2.2000000000000002]
[null,null,null,null,null,null,null,null,null,null,null,null,null,null,null,"12Npe",10.8,1.8,2.5,2.4]
[null,null,null,null,null,null,null,null,null,null,null,null,null,null,null,"13Npe",13.8,2.2999999999999998,2.5,2.4]
[null,null,null,null,null,null,null,null,null,null,null,null,null,null,null,"4Npeq",3.3000000000000003,1,1.5,2.2000000000000002]
[null,null,null,null,null,null,null,null,null,null,null,null,null,null,null,"5Npeq",3.3000000000000003,1,1.5,2.2000000000000002]
[null,null,null,null,null,null,null,null,null,null,null,null,null,null,null,"6Npeq",4.1140000000000008,1.1000000000000001,1.7,2.2000000000000002]
[null,null,null,null,null,null,null,null,null,null,null,null,null,null,null,"7Npeq",5.1840000000000002,1.2,1.8,2.4]
[null,null,null,null,null,null,null,null,null,null,null,null,null,null,null,"8Npeq",5.927999999999999,1.3,1.9,2.4]
[null,null,null,null,null,null,null,null,null,null,null,null,null,null,null,"9Npeq",7.056,1.4,2.1,2.4]
[null,null,null,null,null,null,null,null,null,null,null,null,null,null,null,"10Npeq",8.831999999999999,1.6,2.2999999999999998,2.4]
[null,null,null,null,null,null,null,null,null,null,null,null,null,null,null,"11Npeq",11.4,1.9,2.5,2.4]
[null,null,null,null,null,null,null,null,null,null,null,null,null,null,null,"12Npeq",13.799999999999999,2.2999999999999998,2.5,2.4]
[null,null,null,null,null,null,null,null,null,null,null,null,null,null,null,"13Npeq",15.6,2.6,2.5,2.4]
[null,null,null,null,null,null,null,null,null,null,null,null,null,null,null,"0Pnt",1.6970000000000001,1,0.9,1.3]
[null,null,null,null,null,null,null,null,null,null,null,null,null,null,null,"1Pnt",2.3759999999999999,1.1000000000000001,0.9,1.6]
[null,null,null,null,null,null,null,null,null,null,null,null,null,null,null,"2Pnt",2.89,1.1000000000000001,1,1.7]
[null,null,null,null,null,null,null,null,null,null,null,null,null,null,null,"3Pnt",3.33,1.2,1,1.8]
[null,null,null,null,null,null,null,null,null,null,null,null,null,null,null,"4Pnt",3.78,1.4,1,1.8]
[null,null,null,null,null,null,null,null,null,null,null,null,null,null,null,"5Pnt",4.84,1.6,1.1000000000000001,2]
[null,null,null,null,null,null,null,null,null,null,null,null,null,null,null,"6Pnt",5.17,1.6,1.1000000000000001,2]
[null,null,null,null,null,null,null,null,null,null,null,null,null,null,null,"7Pnt",6.3360000000000003,1.6,1.2,2.2000000000000002]
[null,null,null,null,null,null,null,null,null,null,null,null,null,null,null,"8Pnt",7.3920000000000003,1.6,1.4,2.2000000000000002]
[null,null,null,null,null,null,null,null,null,null,null,null,null,null,null,"9Pnt",8.0850000000000009,1.6,1.5,2.2000000000000002]
[null,null,null,null,null,null,null,null,null,null,null,null,null,null,null,"10Pnt",9.702,1.6,1.8,2.2000000000000002]
[null,null,null,null,null,null,null,null,null,null,null,null,null,null,null,"11Pnt",11.858000000000001,1.6,2.2000000000000002,2.2000000000000002]
[null,null,null,null,null,null,null,null,null,null,null,null,null,null,null,"12Pnt",13.992000000000001,1.8,2.2000000000000002,2.4]
[null,null,null,null,null,null,null,null,null,null,null,null,null,null,null,"13Pnt",16.536000000000001,1.8,2.6,2.4]
[null,null,null,null,null,null,null,null,null,null,null,null,null,null,null,"0Pi",1.3089999999999999,0.7,1.1000000000000001,1.7]
[null,null,null,null,null,null,null,null,null,null,null,null,null,null,null,"1Pi",1.68,0.7,1.2,2]
[null,null,null,null,null,null,null,null,null,null,null,null,null,null,null,"2Pi",2.1840000000000002,0.8,1.3,2.1]
[null,null,null,null,null,null,null,null,null,null,null,null,null,null,null,"3Pi",2.9700000000000006,0.9,1.5,2.2000000000000002]
[null,null,null,null,null,null,null,null,null,null,null,null,null,null,null,"4Pi",4.18,1,1.9,2.2000000000000002]
[null,null,null,null,null,null,null,null,null,null,null,null,null,null,null,"5Pi",4.5599999999999996,1,1.9,2.4]
[null,null,null,null,null,null,null,null,null,null,null,null,null,null,null,"6Pi",5.5440000000000005,1.1000000000000001,1.8,2.8]
[null,null,null,null,null,null,null,null,null,null,null,null,null,null,null,"7Pi",7.5600000000000005,1.2,2.1,3]
[null,null,null,null,null,null,null,null,null,null,null,null,null,null,null,"8Pi",9.75,1.3,2.5,3]
[null,null,null,null,null,null,null,null,null,null,null,null,null,null,null,"0Pia",1.4629999999999999,0.7,1.1000000000000001,1.9]
[null,null,null,null,null,null,null,null,null,null,null,null,null,null,null,"1Pia",1.8480000000000001,0.7,1.2,2.2000000000000002]
[null,null,null,null,null,null,null,null,null,null,null,null,null,null,null,"2Pia",2.3919999999999999,0.8,1.3,2.2999999999999998]
[null,null,null,null,null,null,null,null,null,null,null,null,null,null,null,"3Pia",3.24,0.9,1.5,2.4]
[null,null,null,null,null,null,null,null,null,null,null,null,null,null,null,"4Pia",4.5599999999999996,1,1.9,2.4]
[null,null,null,null,null,null,null,null,null,null,null,null,null,null,null,"5Pia",4.9399999999999995,1,1.9,2.6]
[null,null,null,null,null,null,null,null,null,null,null,null,null,null,null,"6Pia",5.94,1.1000000000000001,1.8,3]
[null,null,null,null,null,null,null,null,null,null,null,null,null,null,null,"0Pib",1.6170000000000002,0.7,1.1000000000000001,2.1]
[null,null,null,null,null,null,null,null,null,null,null,null,null,null,null,"1Pib",2.016,0.7,1.2,2.4]
[null,null,null,null,null,null,null,null,null,null,null,null,null,null,null,"2Pib",2.6,0.8,1.3,2.5]
[null,null,null,null,null,null,null,null,null,null,null,null,null,null,null,"3Pib",3.5100000000000002,0.9,1.5,2.6]
[null,null,null,null,null,null,null,null,null,null,null,null,null,null,null,"4Pib",4.9399999999999995,1,1.9,2.6]
[null,null,null,null,null,null,null,null,null,null,null,null,null,null,null,"5Pib",5.3199999999999994,1,1.9,2.8]
[null,null,null,null,null,null,null,null,null,null,null,null,null,null,null,"0Pic",1.7709999999999999,0.7,1.1000000000000001,2.2999999999999998]
[null,null,null,null,null,null,null,null,null,null,null,null,null,null,null,"1Pic",2.1840000000000002,0.7,1.2,2.6]
[null,null,null,null,null,null,null,null,null,null,null,null,null,null,null,"2Pic",2.8080000000000003,0.8,1.3,2.7]
[null,null,null,null,null,null,null,null,null,null,null,null,null,null,null,"3Pic",3.78,0.9,1.5,2.8]
[null,null,null,null,null,null,null,null,null,null,null,null,null,null,null,"4Pic",5.3199999999999994,1,1.9,2.8]
[null,null,null,null,null,null,null,null,null,null,null,null,null,null,null,"5Pic",5.6999999999999993,1,1.9,3]
[null,null,null,null,null,null,null,null,null,null,null,null,null,null,null,"0Pid",1.925,0.7,1.1000000000000001,2.5]
[null,null,null,null,null,null,null,null,null,null,null,null,null,null,null,"1Pid",2.3519999999999999,0.7,1.2,2.8]
[null,null,null,null,null,null,null,null,null,null,null,null,null,null,null,"2Pid",3.016,0.8,1.3,2.9]
[null,null,null,null,null,null,null,null,null,null,null,null,null,null,null,"3Pid",4.0500000000000007,0.9,1.5,3]
[null,null,null,null,null,null,null,null,null,null,null,null,null,null,null,"4Pid",5.6999999999999993,1,1.9,3]
[null,null,null,null,null,null,null,null,null,null,null,null,null,null,null,"0Pie",2.0790000000000002,0.7,1.1000000000000001,2.7]
[null,null,null,null,null,null,null,null,null,null,null,null,null,null,null,"1Pie",2.52,0.7,1.2,3]
[null,null,null,null,null,null,null,null,null,null,null,null,null,null,null,"3Pnp",3.7440000000000002,1.6,1.3,1.8]
[null,null,null,null,null,null,null,null,null,null,null,null,null,null,null,"4Pnp",4.2120000000000006,1.8,1.3,1.8]
[null,null,null,null,null,null,null,null,null,null,null,null,null,null,null,"5Pnp",5.4600000000000009,2.1,1.3,2]
[null,null,null,null,null,null,null,null,null,null,null,null,null,null,null,"6Pnp",6.16,2.2000000000000002,1.4,2]
[null,null,null,null,null,null,null,null,null,null,null,null,null,null,null,"7Pnp",7.0839999999999996,2.2999999999999998,1.4,2.2000000000000002]
[null,null,null,null,null,null,null,null,null,null,null,null,null,null,null,"8Pnp",7.7000000000000011,2.5,1.4,2.2000000000000002]
[null,null,null,null,null,null,null,null,null,null,null,null,null,null,null,"9Pnp",9.152000000000001,2.6,1.6,2.2000000000000002]
[null,null,null,null,null,null,null,null,null,null,null,null,null,null,null,"10Pnp",10.296000000000003,2.6,1.8,2.2000000000000002]
[null,null,null,null,null,null,null,null,null,null,null,null,null,null,null,"11Pnp",12.584000000000003,2.6,2.2000000000000002,2.2000000000000002]
[null,null,null,null,null,null,null,null,null,null,null,null,null,null,null,"12Pnp",14.975999999999999,2.6,2.4,2.4]
[null,null,null,null,null,null,null,null,null,null,null,null,null,null,null,"13Pnp",18.096,2.6,2.9,2.4]
[null,null,null,null,null,null,null,null,null,null,null,null,null,null,null,"3Pnpa",4.16,1.6,1.3,2]
[null,null,null,null,null,null,null,null,null,null,null,null,null,null,null,"4Pnpa",4.6800000000000006,1.8,1.3,2]
[null,null,null,null,null,null,null,null,null,null,null,null,null,null,null,"5Pnpa",6.0060000000000011,2.1,1.3,2.2000000000000002]
[null,null,null,null,null,null,null,null,null,null,null,null,null,null,null,"6Pnpa",6.7760000000000007,2.2000000000000002,1.4,2.2000000000000002]
[null,null,null,null,null,null,null,null,null,null,null,null,null,null,null,"7Pnpa",7.7279999999999989,2.2999999999999998,1.4,2.4]
[null,null,null,null,null,null,null,null,null,null,null,null,null,null,null,"8Pnpa",8.4,2.5,1.4,2.4]
[null,null,null,null,null,null,null,null,null,null,null,null,null,null,null,"9Pnpa",9.984,2.6,1.6,2.4]
[null,null,null,null,null,null,null,null,null,null,null,null,null,null,null,"10Pnpa",11.232000000000001,2.6,1.8,2.4]
[null,null,null,null,null,null,null,null,null,null,null,null,null,null,null,"11Pnpa",13.728000000000002,2.6,2.2000000000000002,2.4]
[null,null,null,null,null,null,null,null,null,null,null,null,null,null,null,"12Pnpa",16.224,2.6,2.4,2.6]
[null,null,null,null,null,null,null,null,null,null,null,null,null,null,null,"13Pnpa",19.603999999999999,2.6,2.9,2.6]
[null,null,null,null,null,null,null,null,null,null,null,null,null,null,null,"3Pnpb",4.5760000000000005,1.6,1.3,2.2000000000000002]
[null,null,null,null,null,null,null,null,null,null,null,null,null,null,null,"4Pnpb",5.1480000000000015,1.8,1.3,2.2000000000000002]
[null,null,null,null,null,null,null,null,null,null,null,null,null,null,null,"5Pnpb",6.5520000000000005,2.1,1.3,2.4]
[null,null,null,null,null,null,null,null,null,null,null,null,null,null,null,"6Pnpb",7.3919999999999995,2.2000000000000002,1.4,2.4]
[null,null,null,null,null,null,null,null,null,null,null,null,null,null,null,"7Pnpb",8.3719999999999999,2.2999999999999998,1.4,2.6]
[null,null,null,null,null,null,null,null,null,null,null,null,null,null,null,"8Pnpb",9.1,2.5,1.4,2.6]
[null,null,null,null,null,null,null,null,null,null,null,null,null,null,null,"9Pnpb",10.816000000000001,2.6,1.6,2.6]
[null,null,null,null,null,null,null,null,null,null,null,null,null,null,null,"10Pnpb",12.168000000000003,2.6,1.8,2.6]
[null,null,null,null,null,null,null,null,null,null,null,null,null,null,null,"11Pnpb",14.872000000000002,2.6,2.2000000000000002,2.6]
[null,null,null,null,null,null,null,null,null,null,null,null,null,null,null,"12Pnpb",17.471999999999998,2.6,2.4,2.8]
[null,null,null,null,null,null,null,null,null,null,null,null,null,null,null,"13Pnpb",21.111999999999998,2.6,2.9,2.8]
[null,null,null,null,null,null,null,null,null,null,null,null,null,null,null,"3Pnpm",1.8720000000000001,0.8,1.3,1.8]
[null,null,null,null,null,null,null,null,null,null,null,null,null,null,null,"4Pnpm",2.4300000000000002,0.9,1.5,1.8]
[null,null,null,null,null,null,null,null,null,null,null,null,null,null,null,"5Pnpm",3,1,1.5,2]
[null,null,null,null,null,null,null,null,null,null,null,null,null,null,null,"6Pnpm",3.74,1.1000000000000001,1.7,2]
[null,null,null,null,null,null,null,null,null,null,null,null,null,null,null,"7Pnpm",4.7520000000000007,1.2,1.8,2.2000000000000002]
[null,null,null,null,null,null,null,null,null,null,null,null,null,null,null,"8Pnpm",5.4340000000000002,1.3,1.9,2.2000000000000002]
[null,null,null,null,null,null,null,null,null,null,null,null,null,null,null,"9Pnpm",6.468,1.4,2.1,2.2000000000000002]
[null,null,null,null,null,null,null,null,null,null,null,null,null,null,null,"10Pnpm",8.0960000000000001,1.6,2.2999999999999998,2.2000000000000002]
[null,null,null,null,null,null,null,null,null,null,null,null,null,null,null,"11Pnpm",9.9,1.8,2.5,2.2000000000000002]
[null,null,null,null,null,null,null,null,null,null,null,null,null,null,null,"12Pnpm",10.799999999999999,1.8,2.5,2.4]
[null,null,null,null,null,null,null,null,null,null,null,null,null,null,null,"13Pnpm",13.799999999999999,2.2999999999999998,2.5,2.4]
[null,null,null,null,null,null,null,null,null,null,null,null,null,null,null,"3Pnpma",2.08,0.8,1.3,2]
[null,null,null,null,null,null,null,null,null,null,null,null,null,null,null,"4Pnpma",2.7,0.9,1.5,2]
[null,null,null,null,null,null,null,null,null,null,null,null,null,null,null,"5Pnpma",3.3000000000000003,1,1.5,2.2000000000000002]
[null,null,null,null,null,null,null,null,null,null,null,null,null,null,null,"6Pnpma",4.1140000000000008,1.1000000000000001,1.7,2.2000000000000002]
[null,null,null,null,null,null,null,null,null,null,null,null,null,null,null,"7Pnpma",5.1840000000000002,1.2,1.8,2.4]
[null,null,null,null,null,null,null,null,null,null,null,null,null,null,null,"8Pnpma",5.927999999999999,1.3,1.9,2.4]
[null,null,null,null,null,null,null,null,null,null,null,null,null,null,null,"9Pnpma",7.056,1.4,2.1,2.4]
[null,null,null,null,null,null,null,null,null,null,null,null,null,null,null,"10Pnpma",8.831999999999999,1.6,2.2999999999999998,2.4]
[null,null,null,null,null,null,null,null,null,null,null,null,null,null,null,"11Pnpma",10.799999999999999,1.8,2.5,2.4]
[null,null,null,null,null,null,null,null,null,null,null,null,null,null,null,"12Pnpma",11.700000000000001,1.8,2.5,2.6]
[null,null,null,null,null,null,null,null,null,null,null,null,null,null,null,"13Pnpma",14.950000000000001,2.2999999999999998,2.5,2.6]
[null,null,null,null,null,null,null,null,null,null,null,null,null,null,null,"3Pnpmb",2.2880000000000003,0.8,1.3,2.2000000000000002]
[null,null,null,null,null,null,null,null,null,null,null,null,null,null,null,"4Pnpmb",2.9700000000000006,0.9,1.5,2.2000000000000002]
[null,null,null,null,null,null,null,null,null,null,null,null,null,null,null,"5Pnpmb",3.5999999999999996,1,1.5,2.4]
[null,null,null,null,null,null,null,null,null,null,null,null,null,null,null,"6Pnpmb",4.4880000000000004,1.1000000000000001,1.7,2.4]
[null,null,null,null,null,null,null,null,null,null,null,null,null,null,null,"7Pnpmb",5.6160000000000005,1.2,1.8,2.6]
[null,null,null,null,null,null,null,null,null,null,null,null,null,null,null,"8Pnpmb",6.4219999999999997,1.3,1.9,2.6]
[null,null,null,null,null,null,null,null,null,null,null,null,null,null,null,"9Pnpmb",7.6440000000000001,1.4,2.1,2.6]
[null,null,null,null,null,null,null,null,null,null,null,null,null,null,null,"10Pnpmb",9.5679999999999996,1.6,2.2999999999999998,2.6]
[null,null,null,null,null,null,null,null,null,null,null,null,null,null,null,"11Pnpmb",11.700000000000001,1.8,2.5,2.6]
[null,null,null,null,null,null,null,null,null,null,null,null,null,null,null,"12Pnpmb",12.6,1.8,2.5,2.8]
[null,null,null,null,null,null,null,null,null,null,null,null,null,null,null,"13Pnpmb",16.099999999999998,2.2999999999999998,2.5,2.8]
[null,null,null,null,null,null,null,null,null,null,null,null,null,null,null,"3Pnpt",4.32,1.6,1.2,1.8]
[null,null,null,null,null,null,null,null,null,null,null,null,null,null,null,"4Pnpt",5.2919999999999998,1.7,1.4,1.8]
[null,null,null,null,null,null,null,null,null,null,null,null,null,null,null,"5Pnpt",6.16,1.8,1.4,2]
[null,null,null,null,null,null,null,null,null,null,null,null,null,null,null,"6Pnpt",6.58,1.9,1.4,2]
[null,null,null,null,null,null,null,null,null,null,null,null,null,null,null,"7Pnpt",8.0850000000000009,2,1.5,2.2000000000000002]
[null,null,null,null,null,null,null,null,null,null,null,null,null,null,null,"8Pnpt",8.7449999999999992,2.2999999999999998,1.5,2.2000000000000002]
[null,null,null,null,null,null,null,null,null,null,null,null,null,null,null,"9Pnpt",9.8559999999999999,2.4,1.6,2.2000000000000002]
[null,null,null,null,null,null,null,null,null,null,null,null,null,null,null,"10Pnpt",11.286,2.4,1.8,2.2000000000000002]
[null,null,null,null,null,null,null,null,null,null,null,null,null,null,null,"11Pnpt",13.398,2.4,2.1,2.2000000000000002]
[null,null,null,null,null,null,null,null,null,null,null,null,null,null,null,"12Pnpt",15.84,2.5,2.2000000000000002,2.4]
[null,null,null,null,null,null,null,null,null,null,null,null,null,null,null,"13Pnpt",18.72,2.5,2.6,2.4]
[null,null,null,null,null,null,null,null,null,null,null,null,null,null,null,"3Pnpta",4.8,1.6,1.2,2]
[null,null,null,null,null,null,null,null,null,null,null,null,null,null,null,"4Pnpta",5.88,1.7,1.4,2]
[null,null,null,null,null,null,null,null,null,null,null,null,null,null,null,"5Pnpta",6.7759999999999998,1.8,1.4,2.2000000000000002]
[null,null,null,null,null,null,null,null,null,null,null,null,null,null,null,"6Pnpta",7.2380000000000004,1.9,1.4,2.2000000000000002]
[null,null,null,null,null,null,null,null,null,null,null,null,null,null,null,"7Pnpta",8.82,2,1.5,2.4]
[null,null,null,null,null,null,null,null,null,null,null,null,null,null,null,"8Pnpta",9.5399999999999991,2.2999999999999998,1.5,2.4]
[null,null,null,null,null,null,null,null,null,null,null,null,null,null,null,"9Pnpta",10.752000000000001,2.4,1.6,2.4]
[null,null,null,null,null,null,null,null,null,null,null,null,null,null,null,"10Pnpta",12.311999999999999,2.4,1.8,2.4]
[null,null,null,null,null,null,null,null,null,null,null,null,null,null,null,"11Pnpta",14.616,2.4,2.1,2.4]
[null,null,null,null,null,null,null,null,null,null,null,null,null,null,null,"12Pnpta",17.16,2.5,2.2000000000000002,2.6]
[null,null,null,null,null,null,null,null,null,null,null,null,null,null,null,"13Pnpta",20.28,2.5,2.6,2.6]
[null,null,null,null,null,null,null,null,null,null,null,null,null,null,null,"3Pnptb",5.28,1.6,1.2,2.2000000000000002]
[null,null,null,null,null,null,null,null,null,null,null,null,null,null,null,"4Pnptb",6.468,1.7,1.4,2.2000000000000002]
[null,null,null,null,null,null,null,null,null,null,null,null,null,null,null,"5Pnptb",7.3920000000000003,1.8,1.4,2.4]
[null,null,null,null,null,null,null,null,null,null,null,null,null,null,null,"6Pnptb",7.8959999999999999,1.9,1.4,2.4]
[null,null,null,null,null,null,null,null,null,null,null,null,null,null,null,"7Pnptb",9.5549999999999997,2,1.5,2.6]
[null,null,null,null,null,null,null,null,null,null,null,null,null,null,null,"8Pnptb",10.335000000000001,2.2999999999999998,1.5,2.6]
[null,null,null,null,null,null,null,null,null,null,null,null,null,null,null,"9Pnptb",11.648,2.4,1.6,2.6]
[null,null,null,null,null,null,null,null,null,null,null,null,null,null,null,"10Pnptb",13.337999999999999,2.4,1.8,2.6]
[null,null,null,null,null,null,null,null,null,null,null,null,null,null,null,"11Pnptb",15.834,2.4,2.1,2.6]
[null,null,null,null,null,null,null,null,null,null,null,null,null,null,null,"12Pnptb",18.48,2.5,2.2000000000000002,2.8]
[null,null,null,null,null,null,null,null,null,null,null,null,null,null,null,"13Pnptb",21.84,2.5,2.6,2.8]
[null,null,null,null,null,null,null,null,null,null,null,null,null,null,null,"9Ie",11.9,1.7,2.8,2.5]
[null,null,null,null,null,null,null,null,null,null,null,null,null,null,null,"10Ie",13.327999999999999,1.7,2.8,2.8]
[null,null,null,null,null,null,null,null,null,null,null,null,null,null,null,"11Ie",15.81,1.7,3.1,3]
[null,null,null,null,null,null,null,null,null,null,null,null,null,null,null,"12Ie",18.36,1.7,3.6,3]
[null,null,null,null,null,null,null,null,null,null,null,null,null,null,null,"13Ie",22.015000000000001,1.7,3.7,3.5]
[null,null,null,null,null,null,null,null,null,null,null,null,null,null,null,"14Ie",23.8,1.7,4,3.5]
[null,null,null,null,null,null,null,null,null,null,null,null,null,null,null,"1It",2.5110000000000001,null,0.9,1.8]
[null,null,null,null,null,null,null,null,null,null,null,null,null,null,null,"2It",3.15,null,1,1.8]
[null,null,null,null,null,null,null,null,null,null,null,null,null,null,null,"3It",3.42,null,1,1.8]
[null,null,null,null,null,null,null,null,null,null,null,null,null,null,null,"4It",4.4279999999999999,null,1.2,1.8]
[null,null,null,null,null,null,null,null,null,null,null,null,null,null,null,"5It",5.4,null,1.2,2]
[null,null,null,null,null,null,null,null,null,null,null,null,null,null,null,"6It",5.98,null,1.3,2]
[null,null,null,null,null,null,null,null,null,null,null,null,null,null,null,"7It",6.72,null,1.4,2]
[null,null,null,null,null,null,null,null,null,null,null,null,null,null,null,"8It",8.4480000000000004,null,1.6,2.2000000000000002]
[null,null,null,null,null,null,null,null,null,null,null,null,null,null,null,"9It",10.56,null,2,2.2000000000000002]
[null,null,null,null,null,null,null,null,null,null,null,null,null,null,null,"10It",12.144,null,2.2999999999999998,2.2000000000000002]
[null,null,null,null,null,null,null,null,null,null,null,null,null,null,null,"11It",14.784000000000001,null,2.8,2.2000000000000002]
[null,null,null,null,null,null,null,null,null,null,null,null,null,null,null,"12It",17.423999999999999,null,3.3,2.2000000000000002]
[null,null,null,null,null,null,null,null,null,null,null,null,null,null,null,"13It",20.350000000000001,null,3.7,2.2000000000000002]
[null,null,null,null,null,null,null,null,null,null,null,null,null,null,null,"14It",22,null,4,2.2000000000000002]

{"sheet":"Parametres","index":12,"n_rows":470,"n_cols":58,"rows_kept":470,"cut":false,"hidden":true,"merged":[[34,8,37,8],[5,8,9,8],[16,8,18,8],[15,8,15,9],[19,8,20,8],[26,8,26,14],[29,8,33,8],[0,0,0,1],[4,5,4,6],[21,8,22,8],[15,25,15,26],[16,25,18,25],[19,25,20,25],[21,25,22,25],[0,8,0,24],[0,25,0,40],[2,25,4,25],[5,25,9,25],[10,25,10,26],[11,25,14,25],[2,8,4,8],[10,8,10,9],[11,8,14,8],[55,48,55,49],[46,8,46,9],[23,25,24,25],[57,20,57,26],[26,25,26,28],[41,16,43,16],[38,16,40,16],[26,16,26,23],[28,16,28,17],[29,16,33,16],[34,16,37,16],[57,27,57,35],[38,8,40,8],[41,8,43,8],[23,8,24,8],[28,8,28,9]]}
["Tensions mécanique à -10°C",null,null,null,null,null,null,null,"Hauban de type câble",null,null,null,null,null,null,null,null,null,null,null,null,null,null,null,null,"Hauban rigide"]
["CATENAIRE 1500V - T. nominale +15°C","X",null,null,null,"Zone :",{"$f":"Zone","v":1},null,"Api / Apns","Tension Maxi",0,13.500999999999999,18.001000000000001,26.001000000000001,30.001000000000001,35.000999999999998,50.000999999999998,60.000999999999998,77.001000000000005,96.001000000000005,115.001,145.001,160.001,190.001,null,"Api / Apns","Tension Maxi",0,13.5001,18.001000000000001,26.001000000000001,30.001000000000001,35.000999999999998,50.000999999999998,60.000999999999998,77.001000000000005,96.001000000000005,115.001,145.001,160.001,190.001,null,"Dé de protection"]
["Ligne de contact simple LCS ou double LCD",13.5,null,null,null,{"$f":"IF(G2=1,\"Normal\",\"Polluée\")","v":"Normal"},null,null,"Piece de Reglage","Nombre",1,1,1,2,2,2,2,2,2,2,2,4,4,null,null,"Piece de Reglage","Nombre",1,1,1,1,1,1,2,2,2,2,2,4,4,null,null,"Symbole :","PT100122",1]
["Ligne de contact double renforcée LCDR",21.2,null,null,null,null,null,null,null,"Plan",37605,37605,37605,37605,37605,37605,37606,37606,37606,37606,37606,37606,37606,null,null,null,"Plan",37606,37606,37606,37606,37606,37606,37606,37606,37606,37606,37606,37606,37606]
["FC de CN, CS & CL",15.5,null,null,null,"Supports",null,null,null,"Symbole","08828805","08828805","08828805","08828805","08828805","08828805","08828800","08828800","08828800","08828800","08828800","08828800","08828800","Trop efforts",null,null,"Symbole","08828800","08828800","08828800","08828800","08828800","08828800","08828800","08828800","08828800","08828800","08828800","08828800","08828800","Trop efforts"]
["FC de CR et CNR",21.4,null,null,null,"HEA160",null,null,"Hauban d'Ancrage","Ø (mm)","Câble","Câble","Câble","Câble","Câble","Câble",30,30,36,36,36,30,36,null,null,"Hauban d'Ancrage","Ø (mm)",30,30,30,30,30,36,30,30,36,36,36,30,36]
["FC de CSR",21.7,null,null,null,"HEA180",null,null,null,"Nombre",1,1,1,2,2,2,2,2,2,2,2,4,4,null,null,null,"Nombre",1,1,1,1,1,1,2,2,2,2,2,4,4]
["FC de LGV.A",20,null,null,null,"HEA200",42.3,null,null,"Plan",37560,37560,37560,37560,37560,37560,37530,37530,37550,37550,37550,37530,37550,null,null,null,"Plan",37530,37530,37530,37530,37530,37550,37530,37530,37550,37550,37550,37530,37550]
["LACS ou LACD",15,null,null,null,"HEA220",50.5,null,null,"Repère",{"$f":"IF($G$2=1,103,105)","v":103},{"$f":"IF($G$2=1,103,105)","v":103},103,103,103,103,null,null,null,null,null,null,null,null,null,null,"Repère"]
["Fc de CSR Régul CSRR V160 STI",10,null,null,null,"HEA240",60.3,null,null,"Symbole",{"$f":"VLOOKUP(K$8&K$9,Matériels!$J$5:$N$6,5,FALSE)","v":"00986713"},{"$f":"VLOOKUP(L$8&L$9,Matériels!$J$5:$N$6,5,FALSE)","v":"00986713"},{"$f":"VLOOKUP(M$8&M$9,Matériels!$J$5:$N$6,5,FALSE)","v":"00986713"},{"$f":"VLOOKUP(N$8&N$9,Matériels!$J$5:$N$6,5,FALSE)","v":"00986713"},{"$f":"VLOOKUP(O$8&O$9,Matériels!$J$5:$N$6,5,FALSE)","v":"00986713"},{"$f":"VLOOKUP(P$8&P$9,Matériels!$J$5:$N$6,5,FALSE)","v":"00986713"},"Feuille 11","Feuille 11","Feuille 11","Feuille 11","Feuille 11","Feuille 11","Feuille 11","Trop efforts",null,null,"Symbole","Feuille 11","Feuille 11","Feuille 11","Feuille 11","Feuille 11","Feuille 11","Feuille 11","Feuille 11","Feuille 11","Feuille 11","Feuille 11","Feuille 11","Feuille 11","Trop efforts"]
["Fc de CSR Régul CSRR V220 STI",14,null,null,null,"HEA260",68.2,null,"Massif Api",null,1,2,3,4,5,6,7,8,9,10,11,12,12,"Trop efforts",null,"Massif Api",null,1,2,3,4,5,6,7,8,9,10,11,12,12,"Trop efforts"]
["Fc de CL Régul",10,null,null,null,"HEA280",76.400000000000006,null,"Etrier","Nombre",1,1,1,2,2,2,2,2,2,2,2,4,4,null,null,"Etrier","Nombre",1,1,1,1,1,1,2,2,2,2,2,4,4]
["Porteur de CL (Bronze 60%)",13.9,null,null,null,"HEA300",88.3,null,null,"Longueur (m)",2,2,2,2.2999999999999998,2.2999999999999998,2.2999999999999998,2.2999999999999998,2.6,2.6,2.6,2.6,2.6,2.6,null,null,null,"Longueur (m)",2,2,2,2.2999999999999998,2.2999999999999998,2.2999999999999998,2.2999999999999998,2.6,2.6,2.6,2.6,2.6,2.6]
["Porteur de CR (Bronze 37%)",27.2,null,null,null,"HEA320",97.6,null,null,"Repère",39511,39511,39511,39512,39512,39512,39512,39513,39513,39513,39513,39513,39513,null,null,null,"Repère",39511,39511,39511,39512,39512,39512,39512,39513,39513,39513,39513,39513,39513]
["Porteur de CS (Bronze 72%)",22.4,null,null,null,"HEB160",null,null,null,"Symbole","08828920","08828920","08828920","08828921","08828921","08828921","08828921","08828922","08828922","08828922","08828922","08828922","08828922","Trop efforts",null,null,"Symbole","08828920","08828920","08828920","08828921","08828921","08828921","08828921","08828922","08828922","08828922","08828922","08828922","08828922","Trop efforts"]
["Porteur de CSR (Bronze 72%)",21.2,null,null,null,"HEB180",null,null,"Massif Apns",null,1,2,3,4,5,6,7,8,9,10,11,12,12,"Trop efforts",null,"Massif Apns",null,1,2,3,4,5,6,7,8,9,10,11,12,12,"Trop efforts"]
["Porteur de CN ou CNR (Bronze 72%)",22.4,null,null,null,"HEB200",61.3,null,"Poutrelle d'ancrage","Plan",20280,20280,20280,20283,20283,20283,20283,20283,20284,20284,20285,20285,20285,null,null,"Poutrelle d'ancrage","Plan",20280,20280,20280,20280,20280,20280,20283,20283,20284,20284,20285,20285,20285]
["Anticheminement LGV.A (Bronze 72%)",14,null,null,null,"HEB220",71.5,null,null,"Repère",20281,20281,20281,null,null,null,null,null,null,null,101,102,102,null,null,null,"Repère",20281,20281,20281,20281,20281,20282,null,null,null,null,101,102,102]
["Porteur CSR Régul CSRR",18,null,null,null,"HEB240",83.2,null,null,"Symbole","08850445","08850445","08850445","08820504","08820504","08820504","08820504","08820504","08820509","08820509","08820520","08820521","08820521","Trop efforts",null,null,"Symbole","08850445","08850445","08850445","08850445","08850445","08820495","08820504","08820504","08820509","08820509","08820520","08820521","08820521","Trop efforts"]
["Porteur LGV.A (Bronze 72%)",25,null,null,null,"HEB260",93,null,"Semmelle d'appui","Nombre",2,2,2,4,4,4,4,4,4,4,4,8,16,null,null,"Semmelle d'appui","Nombre",2,2,2,2,2,2,4,4,4,4,4,8,16]
["Porteur de CL (Al.Ac)",20.399999999999999,null,null,null,"HEB280",103,null,null,"Symbole","08828842","08828842","08828842","08828842","08828842","08828842","08828842","08828842","08828842","08828842","08828842","08828842","08828842","Trop efforts",null,null,"Symbole","08828842","08828842","08828842","08828842","08828842","08828842","08828842","08828842","08828842","08828842","08828842","08828842","08828842","Trop efforts"]
["Porteur de CS (Al.Ac)",23.7,null,null,null,"HEB300",117,null,"Cuvette","Nombre",2,2,2,4,4,4,4,4,4,4,4,8,16,null,null,"Cuvette","Nombre",2,2,2,2,2,2,4,4,4,4,4,8,16]
["Porteur de CN (Al.Ac)",23.8,null,null,null,"HEB320",127,null,null,"Symbole","08828552","08828552","08828552","08828552","08828552","08828552","08828552","08828552","08828552","08828552","08828552","08828552","08828552","Trop efforts",null,null,"Symbole","08828552","08828552","08828552","08828552","08828552","08828552","08828552","08828552","08828552","08828552","08828552","08828552","08828552","Trop efforts"]
["Porteur auxiliaire de CN (Cu)",10.4,null,null,null,"JHE260A",145.30000000000001,null,"Tiges filetees","Nombre",2,2,2,4,4,4,4,4,4,4,4,8,16,null,null,"Tiges filetees","Nombre",2,2,2,2,2,2,4,4,4,4,4,8,16]
["Porteur auxiliaire de CNR (Cu)",10.4,null,null,null,"JHE280A",161.69999999999999,null,null,"Symbole","08800300","08800300","08800300","08800300","08800300","08800300","08800300","08800300","08800300","08800300","08800300","08800300","08800300","Trop efforts",null,null,"Symbole","08800300","08800300","08800300","08800300","08800300","08800300","08800300","08800300","08800300","08800300","08800300","08800300","08800300","Trop efforts"]
["Porteur auxiliaire de CR (Cu)",14.3,null,null,null,"JHE300A",184.5]
["Porteur auxiliaire de CN (Al.Ac)",14,null,null,null,"JHE320A",203.3,null,"Hauban de type câble",null,null,null,null,null,null,null,"Hauban rigide",null,null,null,null,null,null,null,null,"Boulons et tiges filetees"]
["Feeder Cu 148.8mm²",16.7,null,null,null,"JHE240B",177.8,null,"Acn","Tension Maxi",0,24.001000000000001,33.000999999999998,40.000999999999998,50.000999999999998,null,"Acn","Tension Maxi",0,24.001000000000001,33.000999999999998,40.000999999999998,50.000999999999998,null,null,null,"JHE","Hauteur =","Seul"]
["Feeder d'alimentation Cu 145.8mm²",3,null,null,null,"JHE260B",196.5,null,"Massif",null,1,2,3,4,"Trop efforts",null,"Massif",null,1,2,3,4,"Trop efforts",null,null,"1500 V","08800262","01602487","01602443"]
["Feeder LACD Cu 262mm²",21,null,null,null,"JHE280B",223.6,null,"Hauban","Ø (mm)","Câble","Câble","Câble","Câble",null,null,"Hauban","Ø (mm)",30,30,30,36,null,null,null,"25 kV","08800262","01602108","01602026"]
["Feeder Cu 262mm²",29.9,null,null,null,"JHE300B",246.6,null,null,"Nombre",1,2,2,2,null,null,null,"Nombre",1,1,1,1]
["Feeder CSRR",25.3,null,null,null,"JHE320B",270.60000000000002,null,null,"Plan",37560,37560,37560,37560,null,null,null,"Plan",37530,37530,37530,37550,null,null,null,"Massifs Api","Coupon Rail"]
["Feeder d'alimentation Cu 262mm²",5,null,null,null,null,null,null,null,"Repère",{"$f":"IF($G$2=1,103,105)","v":103},{"$f":"IF($G$2=1,103,105)","v":103},103,103,null,null,null,"Repère",null,null,null,null,null,null,null,1,700]
["Feeder Cat. Al.Cu (Al.Ac 288mm²)",19.7,null,null,null,"Longueur",null,null,null,"Symbole",{"$f":"VLOOKUP(K$32&K$33,Matériels!$J$5:$N$6,5,FALSE)","v":"00986713"},{"$f":"VLOOKUP(L$32&L$33,Matériels!$J$5:$N$6,5,FALSE)","v":"00986713"},{"$f":"VLOOKUP(M$32&M$33,Matériels!$J$5:$N$6,5,FALSE)","v":"00986713"},{"$f":"VLOOKUP(N$32&N$33,Matériels!$J$5:$N$6,5,FALSE)","v":"00986713"},"Trop efforts",null,null,"Symbole","Feuille 12","Feuille 12","Feuille 12","Feuille 12","Trop efforts",null,null,2,800]
["Feeder Cat. Cu. (Al.Ac 288mm²)",23.8,null,null,1E-3,"T",8.6,null,"Etrier","Ø (mm)",27,27,27,27,null,null,"Etrier","Ø (mm)",27,27,27,27,null,null,null,3,1000]
["Feeder  (Al.Ac 228²)",21.3,null,null,{"$f":"G35+0.001","v":8.6009999999999991},"S",9,null,null,"Nombre",1,2,2,2,null,null,null,"Nombre",1,1,1,1,null,null,null,4,1000]
["Feeder d'alimentation (Al. 475²)",14.4,null,null,{"$f":"G36+0.001","v":9.0009999999999994},"A",9.4,null,null,"Plan",239527,239527,239527,239527,null,null,null,"Plan",239527,239527,239527,239527,null,null,null,5,1000]
["CdPA (1500V)",7.5,null,null,9.4009999999999998,"B",9.8000000000000007,null,null,"Symbole","08858855","08858855","08858855","08858855","Trop efforts",null,null,"Symbole","08858855","08858855","08858855","08858855","Trop efforts",null,null,6,1000]
["       - - - - - - - - - - - - - - - - - - - - - - - - - -",null,null,null,9.8010000000000002,"C",10.199999999999999,null,"Pièce de reglage","Nombre",1,2,2,2,null,null,"Pièce de reglage","Nombre",1,1,1,1,null,null,null,7,1400]
["CATENAIRES 25kV (NON REGULARISES)","X",null,null,10.200999999999999,"D",10.6,null,null,"Plan",37605,37605,37605,37605,null,null,null,"Plan",37605,37606,37606,37606,null,null,null,8,1400]
["FC",15.5,null,null,10.600999999999999,"E",11,null,null,"Symbole","08828805","08828805","08828805","08828805","Trop efforts",null,null,"Symbole","08828805","08828800","08828800","08828800","Trop efforts",null,null,9,1800]
["Fil tramway",13.3,null,null,11.000999999999999,"F",11.4,null,"Poutrelle","Plan",220108,220108,220108,220108,null,null,"Poutrelle","Plan",220108,220108,220108,220108,null,null,null,10,1800]
["Porteur (Bronze 65mm² à 60%)",12.3,null,null,11.401,"G",11.9,null,null,"Repère",101,102,103,108,null,null,null,"Repère",101,102,103,108,null,null,null,11,1800]
["Anticheminement (Bronze 35mm² à 60%)",7.3,null,null,11.901,"J",12.5,null,null,"Symbole","08850435","08850436","08850437","08850442","Trop efforts",null,null,"Symbole","08850435","08850436","08850437","08850442","Trop efforts",null,null,12,1800]
["Anticheminement (Bronze 65mm² à 60%)",12.4,null,null,12.500999999999999,"I",12.9]
["Anticheminement (Bronze 116mm² à 72%)",16.100000000000001,null,null,12.901,"L",13.9,null,"Ae","Tension Maxi",0,13.000999999999999,17.001000000000001,24.001000000000001,30.001000000000001,47.000999999999998,60.000999999999998,77.001000000000005,94.001000000000005]
["CdPA (25Kv)",7.5,null,null,13.901,"N",14.9,null,"Massif",null,1,2,3,4,5,6,7,8,"Trop efforts"]
["Feeder (Cu 145.8mm²)",13.6,null,null,14.901,"O",15.9,null,null,"Tension Maxi",13,17,24,30,47,60,77,94,300]
["Feeder (Cu 262mm²) 25kV",19.8,null,null,15.901,"H trop élevé"]
["Feeder (Cu 262mm²) en TR",3.48,null,null,{"$f":"IF(OR(Hsupport=\"\",CoteA=\"\"),\"\",Hsupport+CoteA)","v":12.399999999999999},{"$f":"E50-VLOOKUP(E51,F35:G48,2,FALSE)","v":-0.10000000000000142},null,null,null,null,null,null,null,null,null,null,null,null,null,null,null,null,null,null,null,null,null,null,null,null,null,null,null,null,null,null,null,null,null,null,null,null,null,null,null,null,null,null,null,null,null,null,{"$f":"MATCH(LEFT(BA54,1),AZ56:AZ58,0)","v":{"$error":"#N/A"}},{"$f":"MATCH(IF(RIGHT(BA54,1)=\"G\",LEFT(RIGHT(BA54,LEN(BA54)-2),LEN(BA54)-4),RIGHT(BA54,LEN(BA54)-2)),AZ56:BB56,0)","v":{"$error":"#VALUE!"}}]
["Feeder (Al.Ac 288mm²)",18.2,null,null,{"$f":"IF(E50=\"\",\"\",IF(E50<E35,\"\",VLOOKUP(E50,E35:G49,2,TRUE)))","v":"J"},{"$f":"IF(E50=\"\",\"\",IF(F50=0,\"\",E51&\"(\"&ROUND(F50,2)&\")\"))","v":"J(-0.1)"},null,null,null,null,null,null,null,null,null,null,null,null,null,null,null,null,null,null,null,null,null,null,null,null,null,null,null,null,null,null,null,null,"Isolement supp ?",null,null,null,null,null,null,null,null,null,null,null,null,null,null,{"$f":"IF(RIGHT(BA54,1)=\"G\",LEFT(RIGHT(BA54,LEN(BA54)-2),LEN(BA54)-4),RIGHT(BA54,LEN(BA54)-2))","v":{"$error":"#VALUE!"}}]
["Feeder (Al.Ac 228mm²)",14.8,null,null,null,null,null,null,null,null,null,null,null,null,null,null,null,null,null,null,null,null,null,null,null,null,null,null,null,null,null,null,null,null,null,null,"Non",null,null,"Ancrage 1","Ancrage 2",null,null,null,null,null,null,null,null,null,null,"Console feeder",{"$f":"IF(AND(BA53=\"Non\",BA54<>\"\"),\"Oui\",\"Non\")","v":"Non"}]
["      - - - - - - - - - - - - - - - - - - - - - - - - - -",null,null,null,null,null,null,null,null,null,null,null,null,null,null,null,null,null,null,null,null,null,null,null,null,null,null,null,null,null,null,null,null,null,null,null,1,null,"Point 1",{"$f":"IF(OR(PlanAnca1=\"\",RepAnca1=\"\"),\"Non\",IFERROR(IF(ISBLANK(VLOOKUP(PlanAnca1&RepAnca1,Parametres!$AK$60:$AN$759,4,FALSE))=TRUE,\"Non\",\"Oui\"),\"Non\"))","v":"Non"},{"$f":"IF(OR(PlanAncb1=\"\",RepAncb1=\"\"),\"Non\",IFERROR(IF(ISBLANK(VLOOKUP(PlanAncb1&RepAncb1,Parametres!$AK$60:$AN$759,4,FALSE))=TRUE,\"Non\",\"Oui\"),\"Non\"))","v":"Non"},null,null,null,null,null,null,null,null,null,null,"Potelet?",{"$f":"IF(LgPot=\"\",\"Non\",\"Oui\")","v":"Non"}]
["CATENAIRES 25kV (REGULARISES)","X",null,null,null,null,null,null,null,null,null,null,null,null,null,null,null,null,null,null,null,null,null,null,null,null,null,null,null,null,null,null,null,null,null,null,2,null,"Point 2",{"$f":"IF(OR(PlanAnca2=\"\",RepAnca2=\"\"),\"Non\",IFERROR(IF(ISBLANK(VLOOKUP(PlanAnca2&RepAnca2,Parametres!$AK$60:$AN$759,4,FALSE))=TRUE,\"Non\",\"Oui\"),\"Non\"))","v":"Non"},{"$f":"IF(OR(PlanAncb2=\"\",RepAncb2=\"\"),\"Non\",IFERROR(IF(ISBLANK(VLOOKUP(PlanAncb2&RepAncb2,Parametres!$AK$60:$AN$759,4,FALSE))=TRUE,\"Non\",\"Oui\"),\"Non\"))","v":"Non"},null,null,null,null,null,null,null,null,null,null,"Séléctionné",{"$f":"IF(TChaineF=\"\",\"\",TChaineF)","v":""},null,null,"Liste",null,"Position"]
["FC 7/11kN LAC 25TT",11,null,null,null,null,null,null,null,null,null,null,null,null,null,null,null,null,null,null,null,null,null,null,null,null,null,null,null,null,null,null,null,null,null,null,3,null,"Point 3",{"$f":"IF(OR(PlanAnca3=\"\",RepAnca3=\"\"),\"Non\",IFERROR(IF(ISBLANK(VLOOKUP(PlanAnca3&RepAnca3,Parametres!$AK$60:$AN$759,4,FALSE))=TRUE,\"Non\",\"Oui\"),\"Non\"))","v":"Non"},{"$f":"IF(OR(PlanAncb3=\"\",RepAncb3=\"\"),\"Non\",IFERROR(IF(ISBLANK(VLOOKUP(PlanAncb3&RepAncb3,Parametres!$AK$60:$AN$759,4,FALSE))=TRUE,\"Non\",\"Oui\"),\"Non\"))","v":"Non"},null,null,null,null,null,null,null,null,null,null,"Plan :",{"$f":"IF(BA54=\"\",\"\",INDEX(AZ56:BB58,MATCH(LEFT(BA54,1),AZ56:AZ58,0),MATCH(IF(RIGHT(BA54,1)=\"G\",LEFT(RIGHT(BA54,LEN(BA54)-2),LEN(BA54)-4),RIGHT(BA54,LEN(BA54)-2)),AZ56:BB56,0)))","v":""},null,null,"V-Al. Ac. 288",null,"Tête"]
["FC LCSR",15,null,null,null,null,null,null,null,null,null,null,null,null,null,null,null,"Tension :",{"$f":"IF(Electrification=\"vingtcinq\",\"25 kV\",IF(Electrification=\"Millecinq\",\"1500 V\",IF(Electrification=\"Autre\",\"Autre\",\"Erreur Calculs\")))","v":"1500 V"},null,null,null,null,null,null,null,null,null,null,null,null,null,null,null,null,null,null,null,null,null,null,null,null,null,null,null,null,null,"Potelets",null,null,"Feeders","Al. Ac. 288","Cu. 145,8",null,"C-Al. Ac. 288",null,"Sur potelet"]
["FC LAC 25TT",18,null,null,null,"Support","Profilés","Profilés / 2",null,"Support","Profilés","Profilés / 2",null,null,"Appareil Tendeur",null,null,"Zone :",{"$f":"IF(Zone=1,\"ZN\",IF(Zone=2,\"ZP\",\"Problème\"))","v":"ZN"},null,"Conducteurs",null,null,null,null,null,null,null,null,null,null,null,null,null,null,null,"Isolement Supplémentaire",null,null,null,null,null,null,null,null,null,null,null,"H","PR",null,"V",202284,202285,null,"V-Cu. 145,8",null,"Regrable"]
["FC 8.5/11.5 & 10/12 & V200STI & type 85",12,null,null,null,"HEA160",152,76,null,"HEA160",160,80,null,null,"1500V","25KV",null,"ZN","ZP",null,"1500V",null,null,null,null,null,null,"25KV",null,null,null,null,null,null,null,null,null,null,null,"Iso 1","Iso 2","Iso 3",null,null,"Potelet","PR ?",{"$f":"IF(LEFT(Support,2)=\"PR\",\"Oui\",\"Non\")","v":"Non"},null,221500,221525,null,"C",202432,202432,null,"C-Cu. 145,8"]
["FC 10/10 & type 98 & V160STI",10,null,null,null,"HEA180",171,85.5,null,"HEA180",180,90,null,"Plan",222940,223015,null,10985,10996,"Plan",44050,10985,10996,10981,10965,10479,11446,310446,310484,310481,310479,310483,310494,310480,310489,311446,"Concat","Plan","Repère","Symbole ","Symbole ","Symbole ",null,null,"Plan",{"$f":"IF(AU58=\"Non\",AW58,AX58)","v":221500},null,null,500,1300,null,null,101,102,null,"V-Al. Ac. 288-G"]
["FC 14/15",15,null,null,null,"HEA200",190,95,null,"HEA200",200,100,null,"Repère",222941,101,null,10981,10965,"Repère",801,351,351,201,201,null,null,101,101,211,211,401,401,100,100,101,{"$f":"AL60&AM60","v":"44050801"},44050,801,null,null,null,null,null,"Rep",null,null,null,1000,1800,null,"Gousset ?",{"$f":"IF(BA54=\"\",\"Non\",IF(RIGHT(BA54,1)=\"G\",\"Oui\",\"Non\"))","v":"Non"},null,null,"C-Al. Ac. 288-G"]
["FC V≤ 300 km/h",20,null,null,null,"HEA220",210,105,null,"HEA220",220,110,null,null,222942,102,null,44050,44050,null,null,352,352,202,202,null,null,"101P","101P",212,212,"401P","401P",101,101,"101P",{"$f":"AL61&AM61","v":"10985351"},10985,351,null,null,null,null,null,null,null,null,null,1500,2300,null,"Feeder ?",null,null,null,"V-Cu. 145,8-G"]
["FC V≤ 350 km/h & V≤ 350 km/h STI",26,null,null,null,"HEA240",230,115,null,"HEA240",240,120,null,null,222943,103,null,310446,310484,null,null,361,361,203,203,null,null,102,102,213,213,402,402,104,104,102,"10985352",10985,352,null,null,null,null,null,null,null,null,null,2200,2800,null,"Passage 1",{"$f":"IF(cable1=\"\",\"\",IF(LEFT(cable1,6)=\"Feeder\",cable1,\"\"))","v":""},{"$f":"IF(BA62<>\"\",RIGHT(BA62,LEN(BA62)-7),\"FAUX\")","v":"FAUX"},null,"C-Cu. 145,8-G"]
["Porteur 8.5/11.5; 10/10; 10/12; V160STI; type 85",10,null,null,null,"HEA260",250,125,null,"HEA260",260,130,null,null,222944,104,null,310481,310479,null,null,362,362,204,204,null,null,103,103,214,214,411,411,105,105,103,"10985361",10985,361,30982801,null,null,null,null,null,null,null,null,2500,3300,null,"Passage 2",{"$f":"IF(cable2=\"\",\"\",IF(LEFT(cable2,6)=\"Feeder\",cable2,\"\"))","v":""},{"$f":"IF(BA63<>\"\",RIGHT(BA63,LEN(BA63)-7),\"FAUX\")","v":"FAUX"}]
["Porteur de Cat V200STI et type 85 (Bz 65mm²)",12,null,null,null,"HEA280",270,135,null,"HEA280",280,140,null,null,null,105,null,310483,310494,null,null,451,451,211,211,null,null,"103P","103P",221,221,"411P","411P",106,106,"103P","10985362",10985,362,30982800,null,null,null,null,null,null,null,null,3000,3800,null,"Passage 3",{"$f":"IF(cable3=\"\",\"\",IF(LEFT(cable3,6)=\"Feeder\",cable3,\"\"))","v":""},{"$f":"IF(BA64<>\"\",RIGHT(BA64,LEN(BA64)-7),\"FAUX\")","v":"FAUX"}]
["Porteur type 98 & LAC 25TT",7,null,null,null,"HEA300",290,145,null,"HEA300",300,150,null,null,null,106,null,310480,310489,null,null,461,461,212,212,null,null,104,104,222,222,412,412,107,107,104,"10985451",10985,451,null,null,null,null,null,null,null,null,null,3500]
["Porteur V≤ 300 km/h",14,null,null,null,"HEA320",310,155,null,"HEA320",320,160,null,null,null,107,null,311446,null,null,null,521,521,213,213,null,null,108,108,223,223,441,441,114,114,108,"10985461",10985,461,30982802,null,null,null,null,null,null,null,null,null,null,null,"Passage feeder","Synthése :",{"$f":"IF(AND(BB62=\"FAUX\",BB63=\"FAUX\",BB64=\"FAUX\"),\"\",IF(BB62=\"voie\",\"voie\",IF(BB63=\"voie\",\"voie\",IF(BB64=\"voie\",\"voie\",\"champs\"))))","v":""}]
["Porteur V≤ 350 km/h & V≤ 350 km/h STI",20,null,null,null,"HEB160",160,80,null,"HEB160",160,80,null,null,null,108,null,null,null,null,null,522,522,214,214,null,null,109,109,224,224,442,442,115,115,109,"10985521",10985,521]
["Porteur de Cat V200STI (Bz 116mm²)",12,null,null,null,"HEB180",180,90,null,"HEB180",180,90,null,null,null,109,null,null,null,null,null,551,551,301,301,null,null,110,110,231,231,446,446,116,116,110,"10985522",10985,522,null,null,null,null,null,null,null,null,null,null,null,null,"Bloc",{"$f":"IF(BA53=\"Oui\",\"Chainesfeeders_profil\",\"Chainesfeeders_profil\")","v":"Chainesfeeders_profil"}]
["      - - - - - - - - - - - - - - - - - - - - - - - - - -",null,null,null,null,"HEB200",200,100,null,"HEB200",200,100,null,null,null,110,null,null,null,null,null,553,553,302,302,null,null,112,112,232,232,"446P","446P",117,117,112,"10985551",10985,551,null,null,null,null,null,null,null,null,null,null,null,null,"Visibilité1",{"$f":"IF(BA54=\"\",\"\",IF(BA55=BA58,\"202432_\"&IF(LEFT(BA54,1)=\"C\",INDEX(AZ56:BB59,4,MATCH(IF(RIGHT(BA54,1)=\"G\",LEFT(RIGHT(BA54,LEN(BA54)-2),LEN(BA54)-4),RIGHT(BA54,LEN(BA54)-2)),AZ56:BB56,0)),\"\"),BA55)&IF(BA60=\"Oui\",\"_G\",\"\"))","v":""}]
["CATENAIRE 1500V - T. nominale +25°C","X",null,null,null,"HEB220",220,110,null,"HEB220",220,110,null,null,null,111,null,null,null,null,null,561,561,311,311,null,null,"112P","112P",233,233,511,511,136,136,"112P","10985553",10985,553]
["(T25)Ligne de contact simple LCS ou double LCD",15.7,null,null,null,"HEB240",240,120,null,"HEB240",240,120,null,null,null,112,null,null,null,null,null,563,563,312,312,null,null,114,114,234,234,512,512,170,170,114,"10985561",10985,561,30982802]
["(T25)Ligne de contact double renforcée LCDR",24.3,null,null,null,"HEB260",260,130,null,"HEB260",260,130,null,null,null,113,null,null,null,null,null,601,601,353,353,null,null,115,115,421,421,516,516,171,171,115,"10985563",10985,563,30982802,null,null,null,null,"CdPA","O/N ?","Hauteur","Dessin ?"]
["(T25)FC de CN, CS & CL",17.7,null,null,null,"HEB280",280,140,null,"HEB280",280,140,null,null,null,114,null,null,null,null,null,602,602,354,354,null,null,116,116,431,431,"516P","516P",172,172,116,"10985601",10985,601,null,null,null,null,null,"Passage 1",{"$f":"IF(cable1=\"\",\"Non\",IF(LEFT(cable1,4)=\"CdPA\",\"Oui\",\"Non\"))","v":"Non"},{"$f":"IF(AT73=\"Oui\",Haut1,\"\")","v":""},{"$f":"IF(AT73=\"Non\",\"Non\",IF(IFERROR(FIND(\"voie\",cable1,1),\"Non\")<>\"Non\",\"Oui\",\"Non\"))","v":"Non"}]
["(T25)FC de CR et CNR",21.4,null,null,null,"HEB300",300,150,null,"HEB300",300,150,null,null,null,115,null,null,null,null,null,603,603,363,363,null,null,117,117,432,432,521,521,175,175,117,"10985602",10985,602,null,null,null,null,null,"Passage 2",{"$f":"IF(cable2=\"\",\"Non\",IF(LEFT(cable2,4)=\"CdPA\",\"Oui\",\"Non\"))","v":"Non"},{"$f":"IF(AT74=\"Oui\",haut2,\"\")","v":""},{"$f":"IF(AT74=\"Non\",\"Non\",IF(IFERROR(FIND(\"voie\",cable2,1),\"Non\")<>\"Non\",\"Oui\",\"Non\"))","v":"Non"}]
["(T25)FC de CSR",21.7,"Equivalence Massifs",null,null,"HEB320",320,160,null,"HEB320",320,160,null,null,null,116,null,null,null,null,null,604,604,364,364,null,null,"117P","117P",null,null,522,522,179,179,"117P","10985603",10985,603,null,null,null,null,null,"Passage 3",{"$f":"IF(cable2=\"\",\"Non\",IF(LEFT(cable2,4)=\"CdPA\",\"Oui\",\"Non\"))","v":"Non"},{"$f":"IF(AT75=\"Oui\",haut3,\"\")","v":""},{"$f":"IF(AT75=\"Non\",\"Non\",IF(IFERROR(FIND(\"voie\",cable3,1),\"Non\")<>\"Non\",\"Oui\",\"Non\"))","v":"Non"}]
["(T25)FC de LGV.A",20,"Ae","Api",null,"JHE260A",250,125,null,"JHE260A",260,130,null,null,null,121,null,null,null,null,null,611,611,402,402,null,null,118,118,null,null,526,526,180,180,118,"10985604",10985,604]
["(T25)LACS ou LACD",15,1,1,null,"JHE280A",270,135,null,"JHE280A",280,140,null,null,null,null,null,null,null,null,null,612,612,403,403,null,null,119,119,null,null,611,611,181,181,119,"10985611",10985,611,30982803]
["(T25)Fc de CSR Régul CSRR V160 STI",10,2,2,null,"JHE300A",290,145,null,"JHE300A",300,150,null,null,null,null,null,null,null,null,null,613,613,451,451,null,null,120,120,null,null,"611P","611P",200,200,120,"10985612",10985,612,30982654]
["(T25)Fc de CSR Régul CSRR V220 STI",14,3,3,null,"JHE320A",310,155,null,"JHE320A",320,160,null,null,null,null,null,null,null,null,null,614,614,454,454,null,null,122,122,null,null,621,621,201,201,122,"10985613",10985,613,30982655]
["(T25)Fc de CL Régul",10,4,4,null,"JHE240B",240,120,null,"JHE240B",240,120,null,null,null,null,null,null,null,null,null,621,621,502,502,null,null,127,127,null,null,"621P","621P",204,204,127,"10985614",10985,614,30982655]
["(T25)Porteur de CL (Bronze 60%)",13.9,5,6,null,"JHE260B",260,130,null,"JHE260B",260,130,null,null,null,null,null,null,null,null,null,1452,1452,503,503,null,null,"127P","127P",null,null,721,721,205,205,"127P","10985621",10985,621]
["(T25)Porteur de CR (Bronze 37%)",27.2,6,7,null,"JHE280B",280,140,null,"JHE280B",280,140,null,null,null,null,null,null,null,null,null,1462,1462,551,551,null,null,129,129,null,null,801,801,206,206,129,"109851452",10985,1452]
["(T25)Porteur de CS (Bronze 72%)",24.1,7,8,null,"JHE300B",300,150,null,"JHE300B",300,150,null,null,null,null,null,null,null,null,null,1552,1552,554,554,null,null,"129P","129P",null,null,"801P","801P",207,207,"129P","109851462",10985,1462,30982801]
["(T25)Porteur de CSR (Bronze 72%)",21.2,8,9,null,"JHE320B",320,160,null,"JHE320B",320,160,null,null,null,null,null,null,null,null,null,1562,1562,801,801,null,null,135,135,null,null,802,802,null,null,135,"109851552",10985,1552]
["(T25)Porteur de CN ou CNR (Bronze 72%)",24.1,null,null,null,"HEM100",120,60,null,"HEM100",106,53,null,null,null,null,null,null,null,null," ",null,null,813,813,null,null,143,143,null,null,821,821,null,null,143,"109851562",10985,1562,30982801]
["(T25)Anticheminement LGV.A (Bronze 72%)",14,null,null,null,"HEM120",140,70,null,"HEM120",126,63,null,null,null,null,null,null,null,null," ",null,null,821,821,null,null,"143P","143P",null,null,822,822,null,null,"143P","10996351",10996,351]
["(T25)Porteur CSR Régul CSRR",18,null,{"$f":"IF(Support=\"\",\"\",VLOOKUP(Support,Parametres!$C$89:$D$143,2,FALSE)/1000)","v":8.5000000000000006E-3},null,"HEM140",160,80,null,"HEM140",146,73,null,null,null,null,null,null,null,null," ",null,null,822,822,null,null,144,144,null,null,831,831,null,null,144,"10996352",10996,352]
["(T25)Porteur LGV.A (Bronze 72%)",25,"Support","L. d'Ame",null,"HEM160",180,90,null,"HEM160",166,83,null,null,null,null,null,null,null,null," ",null,null,null,null,null,null,146,146,null,null,"831P","831P",null,null,146,"10996361",10996,361,30982801]
["(T25)Porteur de CL (Al.Ac)",20.399999999999999,"HEA160",6,null,"HEM180",200,100,null,"HEM180",186,93,null,null,null,null,null,null,null,null," ",null,null,null,null,null,null,147,147,null,null,841,841,null,null,147,"10996362",10996,362,30982800]
["(T25)Porteur de CS (Al.Ac)",23.7,"HEA180",6,null,"HEM200",220,110,null,"HEM200",206,103,null,null,null,null,null,null,null,null," ",null,null,null,null,null,null,148,148,null,null,842,842,null,null,148,"10996451",10996,451]
["(T25)Porteur de CN (Al.Ac)",23.8,"HEA200",6.5,null,"HEM220",240,120,null,"HEM220",226,113,null,null,null,null,null,null,null,null," ",null,null,null,null,null,null,149,149,null,null,901,901,null,null,149,"10996461",10996,461,30982802]
["(T25)Porteur auxiliaire de CN (Cu)",10.4,"HEA220",7,null,"HEM240",270,135,null,"HEM240",248,124,null,null,null,null,null,null,null,null," ",null,null,null,null,null,null,"149P","149P",null,null,902,902,null,null,"149P","10996521",10996,521]
["(T25)Porteur auxiliaire de CNR (Cu)",10.4,"HEA240",7.5,null,"HEM260",290,145,null,"HEM260",268,134,null,null,null,null,null,null,null,null," ",null,null,null,null,null,null,150,150,null,null,911,911,null,null,150,"10996522",10996,522]
["(T25)Porteur auxiliaire de CR (Cu)",14.3,"HEA260",7.5,null,"HEM280",310,155,null,"HEM280",288,144,null,null,null,null,null,null,null,null," ",null,null,null,null,null,null,151,151,null,null,"911P","911P",null,null,151,"10996551",10996,551]
["(T25)Porteur auxiliaire de CN (Al.Ac)",14,"HEA280",8,null,"HEM300",340,170,null,"HEM300",310,155,null,null,null,null,null,null,null,null," ",null,null,null,null,null,null,152,152,null,null,1001,1001,null,null,152,"10996553",10996,553]
["(T25)Feeder Cu 148.8mm²",18.8,"HEA300",8.5,null,"HEM320",359,179.5,null,"HEM320",309,154.5,null,null,null,null,null,null,null,null," ",null,null,null,null,null,null,153,153,null,null,"1001P","1001P",null,null,153,"10996561",10996,561,30982802]
["(T25)Feeder d'alimentation Cu 145.8mm²",5,"HEA320",9,null,"HEM340",377,188.5,null,"HEM340",309,154.5,null,null,null,null,null,null,null,null," ",null,null,null,null,null,null,154,154,null,null,1011,1011,null,null,154,"10996563",10996,563,30982802]
["(T25)Feeder LACD Cu 262mm²",21,"HEB160",8,null,"HEM360",395,197.5,null,"HEM360",308,154,null,null,null,null,null,null,null,null," ",null,null,null,null,null,null,155,155,null,null,null,null,null,null,155,"10996601",10996,601]
["(T25)Feeder Cu 262mm²",29.9,"HEB180",8.5,null,"HEM400",432,216,null,"HEM400",307,153.5,null,null,null,null,null,null,null,null," ",null,null,null,null,null,null,157,157,null,null,null,null,null,null,157,"10996602",10996,602]
["(T25)Feeder CSRR",25.3,"HEB200",9,null,"HEM450",478,239,null,"HEM450",307,153.5,null,null,null,null,null,null,null,null," ",null,null,null,null,null,null,"157P","157P",null,null,null,null,null,null,"157P","10996603",10996,603]
["(T25)Feeder d'alimentation Cu 262mm²",8.5,"HEB220",9.5,null,"PRA 0",500,250,null,"PRA 0",220,110,null,null,null,null,null,null,null,null," ",null,null,null,null,null,null,158,158,null,null,null,null,null,null,158,"10996604",10996,604]
["(T25)Feeder Cat. Al.Cu (Al.Ac 288mm²)",19.7,"HEB240",10,null,"PRA 1",500,250,null,"PRA 1",260,130,null,null,null,null,null,null,null,null," ",null,null,null,null,null,null,"158P","158P",null,null,null,null,null,null,"158P","10996611",10996,611,30982803]
["(T25)Feeder Cat. Cu. (Al.Ac 288mm²)",27.7,"HEB260",10,null,"PRA 3",500,250,null,"PRA 3",300,150,null,null,null,null,null,null,null,null," ",null,null,null,null,null,null,159,159,null,null,null,null,null,null,159,"10996612",10996,612,30982654]
["(T25)Feeder  (Al.Ac 228²)",24.4,"HEB280",10.5,null,"PRB 0",500,250,null,"PRB 0",220,110,null,null,null,null,null,null,null,null," ",null,null,null,null,null,null,"159P","159P",null,null,null,null,null,null,"159P","10996613",10996,613,30982655]
["(T25)Feeder d'alimentation (Al. 475²)",14.4,"HEB300",11,null,"PRB 1",500,250,null,"PRB 1",260,130,null,null,null,null,null,null,null,null," ",null,null,null,null,null,null,161,161,null,null,null,null,null,null,161,"10996614",10996,614,30982655]
["(T25)CdPA (1500V)",9,"HEB320",11.5,null,"PRB 3",500,250,null,"PRB 3",300,150,null,null,null,null,null,null,null,null," ",null,null,null,null,null,null,"161P","161P",null,null,null,null,null,null,"161P","10996621",10996,621]
[null,null,"JHE260A",7.5,null,"PRC 0",500,250,null,"PRC 0",220,110,null,null,null,null,null,null,null,null," ",null,null,null,null,null,null,162,162,null,null,null,null,null,null,162,"109961452",10996,1452]
[null,null,"JHE280A",8,null,"PRC 1",500,250,null,"PRC 1",260,130,null,null,null,null,null,null,null,null," ",null,null,null,null,null,null,"162P","162P",null,null,null,null,null,null,"162P","109961462",10996,1462,30982801]
[null,null,"JHE300A",8.5,null,"PRC 3",500,250,null,"PRC 3",300,150,null,null,null,null,null,null,null,null," ",null,null,null,null,null,null,163,163,null,null,null,null,null,null,163,"109961552",10996,1552]
[null,null,"JHE320A",9,null,"PRD 0",500,250,null,"PRD 0",220,110,null,null,null,null,null,null,null,null,null,null,null,null,null,null,null,null,null,null,null,null,null,null,null,null,"109961562",10996,1562,30982801]
[null,null,"JHE240B",10,null,"PRD 1",500,250,null,"PRD 1",260,130,null,null,null,null,null,null,null,null,null,null,null,null,null,null,null,null,null,null,null,null,null,null,null,null,"10981201",10981,201]
[null,null,"JHE260B",10,null,"PRD 3",500,250,null,"PRD 3",300,150,null,null,null,null,null,null,null,null,null,null,null,null,null,null,null,null,null,null,null,null,null,null,null,null,"10981202",10981,202]
[null,null,"JHE280B",10.5,null,null,null,null,null,null,null,null,null,null,null,null,null,null,null,null,null,null,null,null,null,null,null,null,null,null,null,null,null,null,null,null,"10981203",10981,203]
[null,null,"JHE300B",11,null,null,null,null,null,null,null,null,null,null,null,null,null,null,null,null,null,null,null,null,null,null,null,null,null,null,null,null,null,null,null,null,"10981204",10981,204]
[null,null,"JHE320B",11.5,null,null,null,null,null,null,null,null,null,null,null,null,null,null,null,null,null,null,null,null,null,null,null,null,null,null,null,null,null,null,null,null,"10981211",10981,211]
[null,null,"HEM100",12,null,null,null,null,null,null,null,null,null,null,null,null,null,null,null,null,null,null,null,null,null,null,null,null,null,null,null,null,null,null,null,null,"10981212",10981,212]
[null,null,"HEM120",12.5,null,null,null,null,null,null,null,null,null,null,null,null,null,null,null,null,null,null,null,null,null,null,null,null,null,null,null,null,null,null,null,null,"10981213",10981,213]
[null,null,"HEM140",13,null,null,null,null,null,null,null,null,null,null,null,null,null,null,null,null,null,null,null,null,null,null,null,null,null,null,null,null,null,null,null,null,"10981214",10981,214]
[null,null,"HEM160",14,null,null,null,null,null,null,null,null,null,null,null,null,null,null,null,null,null,null,null,null,null,null,null,null,null,null,null,null,null,null,null,null,"10981301",10981,301]
[null,null,"HEM180",14.5,null,null,null,null,null,null,null,null,null,null,null,null,null,null,null,null,null,null,null,null,null,null,null,null,null,null,null,null,null,null,null,null,"10981302",10981,302]
[null,null,"HEM200",15,null,null,null,null,null,null,null,null,null,null,null,null,null,null,null,null,null,null,null,null,null,null,null,null,null,null,null,null,null,null,null,null,"10981311",10981,311,30982578]
[null,null,"HEM220",15.5,null,null,null,null,null,null,null,null,null,null,null,null,null,null,null,null,null,null,null,null,null,null,null,null,null,null,null,null,null,null,null,null,"10981312",10981,312,30982579]
[null,null,"HEM240",18,null,null,null,null,null,null,null,null,null,null,null,null,null,null,null,null,null,null,null,null,null,null,null,null,null,null,null,null,null,null,null,null,"10981353",10981,353]
[null,null,"HEM260",18,null,null,null,null,null,null,null,null,null,null,null,null,null,null,null,null,null,null,null,null,null,null,null,null,null,null,null,null,null,null,null,null,"10981354",10981,354]
[null,null,"HEM280",18.5,null,null,null,null,null,null,null,null,null,null,null,null,null,null,null,null,null,null,null,null,null,null,null,null,null,null,null,null,null,null,null,null,{"$f":"AL125&AM125","v":"10981363"},10981,363,30982759]
[null,null,"HEM300",21,null,null,null,null,null,null,null,null,null,null,null,null,null,null,null,null,null,null,null,null,null,null,null,null,null,null,null,null,null,null,null,null,"10981364",10981,364,30982759]
[null,null,"HEM320",21,null,null,null,null,null,null,null,null,null,null,null,null,null,null,null,null,null,null,null,null,null,null,null,null,null,null,null,null,null,null,null,null,"10981402",10981,402]
[null,null,"HEM340",21,null,null,null,null,null,null,null,null,null,null,null,null,null,null,null,null,null,null,null,null,null,null,null,null,null,null,null,null,null,null,null,null,"10981403",10981,403]
[null,null,"HEM360",21,null,null,null,null,null,null,null,null,null,null,null,null,null,null,null,null,null,null,null,null,null,null,null,null,null,null,null,null,null,null,null,null,"10981451",10981,451]
[null,null,"HEM400",21,null,null,null,null,null,null,null,null,null,null,null,null,null,null,null,null,null,null,null,null,null,null,null,null,null,null,null,null,null,null,null,null,"10981454",10981,454]
[null,null,"HEM450",21,null,null,null,null,null,null,null,null,null,null,null,null,null,null,null,null,null,null,null,null,null,null,null,null,null,null,null,null,null,null,null,null,"10981502",10981,502,30982579,30982579]
[null,null,"PRA 0",500,null,null,null,null,null,null,null,null,null,null,null,null,null,null,null,null,null,null,null,null,null,null,null,null,null,null,null,null,null,null,null,null,"10981503",10981,503,30982578,30982579]
[null,null,"PRA 1",500,null,null,null,null,null,null,null,null,null,null,null,null,null,null,null,null,null,null,null,null,null,null,null,null,null,null,null,null,null,null,null,null,"10981551",10981,551,30982758,30982758]
[null,null,"PRA 3",500,null,null,null,null,null,null,null,null,null,null,null,null,null,null,null,null,null,null,null,null,null,null,null,null,null,null,null,null,null,null,null,null,"10981554",10981,554,30982759,30982759]
[null,null,"PRB 0",500,null,null,null,null,null,null,null,null,null,null,null,null,null,null,null,null,null,null,null,null,null,null,null,null,null,null,null,null,null,null,null,null,"10981801",10981,801]
[null,null,"PRB 1",500,null,null,null,null,null,null,null,null,null,null,null,null,null,null,null,null,null,null,null,null,null,null,null,null,null,null,null,null,null,null,null,null,"10981813",10981,813]
[null,null,"PRB 3",500,null,null,null,null,null,null,null,null,null,null,null,null,null,null,null,null,null,null,null,null,null,null,null,null,null,null,null,null,null,null,null,null,"10981821",10981,821]
[null,null,"PRC 0",500,null,null,null,null,null,null,null,null,null,null,null,null,null,null,null,null,null,null,null,null,null,null,null,null,null,null,null,null,null,null,null,null,"10981822",10981,822]
[null,null,"PRC 1",500,null,null,null,null,null,null,null,null,null,null,null,null,null,null,null,null,null,null,null,null,null,null,null,null,null,null,null,null,null,null,null,null,"10965201",10965,201]
[null,null,"PRC 3",500,null,null,null,null,null,null,null,null,null,null,null,null,null,null,null,null,null,null,null,null,null,null,null,null,null,null,null,null,null,null,null,null,"10965202",10965,202]
[null,null,"PRD 0",500,null,null,null,null,null,null,null,null,null,null,null,null,null,null,null,null,null,null,null,null,null,null,null,null,null,null,null,null,null,null,null,null,"10965203",10965,203]
[null,null,"PRD 1",500,null,null,null,null,null,null,null,null,null,null,null,null,null,null,null,null,null,null,null,null,null,null,null,null,null,null,null,null,null,null,null,null,"10965204",10965,204]
[null,null,"PRD 3",500,null,null,null,null,null,null,null,null,null,null,null,null,null,null,null,null,null,null,null,null,null,null,null,null,null,null,null,null,null,null,null,null,"10965211",10965,211]
[null,null,null,null,null,null,null,null,null,null,null,null,null,null,null,null,null,null,null,null,null,null,null,null,null,null,null,null,null,null,null,null,null,null,null,null,"10965212",10965,212]
[null,null,null,null,null,null,null,null,null,null,null,null,null,null,null,null,null,null,null,null,null,null,null,null,null,null,null,null,null,null,null,null,null,null,null,null,"10965213",10965,213]
[null,null,null,null,null,null,null,null,null,null,null,null,null,null,null,null,null,null,null,null,null,null,null,null,null,null,null,null,null,null,null,null,null,null,null,null,"10965214",10965,214]
[null,null,null,null,null,null,null,null,null,null,null,null,null,null,null,null,null,null,null,null,null,null,null,null,null,null,null,null,null,null,null,null,null,null,null,null,"10965301",10965,301]
[null,null,null,null,null,null,null,null,null,null,null,null,null,null,null,null,null,null,null,null,null,null,null,null,null,null,null,null,null,null,null,null,null,null,null,null,"10965302",10965,302]
[null,null,null,null,null,null,null,null,null,null,null,null,null,null,null,null,null,null,null,null,null,null,null,null,null,null,null,null,null,null,null,null,null,null,null,null,"10965311",10965,311,30982578]
[null,null,null,null,null,null,null,null,null,null,null,null,null,null,null,null,null,null,null,null,null,null,null,null,null,null,null,null,null,null,null,null,null,null,null,null,"10965312",10965,312,30982579]
[null,null,null,null,null,null,null,null,null,null,null,null,null,null,null,null,null,null,null,null,null,null,null,null,null,null,null,null,null,null,null,null,null,null,null,null,"10965353",10965,353]
[null,null,null,null,null,null,null,null,null,null,null,null,null,null,null,null,null,null,null,null,null,null,null,null,null,null,null,null,null,null,null,null,null,null,null,null,"10965354",10965,354]
[null,null,null,null,null,null,null,null,null,null,null,null,null,null,null,null,null,null,null,null,null,null,null,null,null,null,null,null,null,null,null,null,null,null,null,null,"10965363",10965,363,30982759]
[null,null,null,null,null,null,null,null,null,null,null,null,null,null,null,null,null,null,null,null,null,null,null,null,null,null,null,null,null,null,null,null,null,null,null,null,"10965364",10965,364,30982759]
[null,null,null,null,null,null,null,null,null,null,null,null,null,null,null,null,null,null,null,null,null,null,null,null,null,null,null,null,null,null,null,null,null,null,null,null,"10965402",10965,402]
[null,null,null,null,null,null,null,null,null,null,null,null,null,null,null,null,null,null,null,null,null,null,null,null,null,null,null,null,null,null,null,null,null,null,null,null,"10965403",10965,403]
[null,null,null,null,null,null,null,null,null,null,null,null,null,null,null,null,null,null,null,null,null,null,null,null,null,null,null,null,null,null,null,null,null,null,null,null,"10965451",10965,451]
[null,null,null,null,null,null,null,null,null,null,null,null,null,null,null,null,null,null,null,null,null,null,null,null,null,null,null,null,null,null,null,null,null,null,null,null,"10965454",10965,454]
[null,null,null,null,null,null,null,null,null,null,null,null,null,null,null,null,null,null,null,null,null,null,null,null,null,null,null,null,null,null,null,null,null,null,null,null,"10965502",10965,502,30982579,30982579]
[null,null,null,null,null,null,null,null,null,null,null,null,null,null,null,null,null,null,null,null,null,null,null,null,null,null,null,null,null,null,null,null,null,null,null,null,"10965503",10965,503,30982578,30982579]
[null,null,null,null,null,null,null,null,null,null,null,null,null,null,null,null,null,null,null,null,null,null,null,null,null,null,null,null,null,null,null,null,null,null,null,null,"10965551",10965,551,30982758,30982758]
[null,null,null,null,null,null,null,null,null,null,null,null,null,null,null,null,null,null,null,null,null,null,null,null,null,null,null,null,null,null,null,null,null,null,null,null,"10965554",10965,554,30982759,30982759]
[null,null,null,null,null,null,null,null,null,null,null,null,null,null,null,null,null,null,null,null,null,null,null,null,null,null,null,null,null,null,null,null,null,null,null,null,"10965801",10965,801]
[null,null,null,null,null,null,null,null,null,null,null,null,null,null,null,null,null,null,null,null,null,null,null,null,null,null,null,null,null,null,null,null,null,null,null,null,"10965813",10965,813]
[null,null,null,null,null,null,null,null,null,null,null,null,null,null,null,null,null,null,null,null,null,null,null,null,null,null,null,null,null,null,null,null,null,null,null,null,"10965821",10965,821]
[null,null,null,null,null,null,null,null,null,null,null,null,null,null,null,null,null,null,null,null,null,null,null,null,null,null,null,null,null,null,null,null,null,null,null,null,"10965822",10965,822]
[null,null,null,null,null,null,null,null,null,null,null,null,null,null,null,null,null,null,null,null,null,null,null,null,null,null,null,null,null,null,null,null,null,null,null,null,"310446101",310446,101]
[null,null,null,null,null,null,null,null,null,null,null,null,null,null,null,null,null,null,null,null,null,null,null,null,null,null,null,null,null,null,null,null,null,null,null,null,"310446101P",310446,"101P"]
[null,null,null,null,null,null,null,null,null,null,null,null,null,null,null,null,null,null,null,null,null,null,null,null,null,null,null,null,null,null,null,null,null,null,null,null,"310446102",310446,102]
[null,null,null,null,null,null,null,null,null,null,null,null,null,null,null,null,null,null,null,null,null,null,null,null,null,null,null,null,null,null,null,null,null,null,null,null,"310446103",310446,103,40986470]
[null,null,null,null,null,null,null,null,null,null,null,null,null,null,null,null,null,null,null,null,null,null,null,null,null,null,null,null,null,null,null,null,null,null,null,null,"310446103P",310446,"103P",40986471]
[null,null,null,null,null,null,null,null,null,null,null,null,null,null,null,null,null,null,null,null,null,null,null,null,null,null,null,null,null,null,null,null,null,null,null,null,"310446104",310446,104,40986472]
[null,null,null,null,null,null,null,null,null,null,null,null,null,null,null,null,null,null,null,null,null,null,null,null,null,null,null,null,null,null,null,null,null,null,null,null,"310446108",310446,108]
[null,null,null,null,null,null,null,null,null,null,null,null,null,null,null,null,null,null,null,null,null,null,null,null,null,null,null,null,null,null,null,null,null,null,null,null,"310446109",310446,109]
[null,null,null,null,null,null,null,null,null,null,null,null,null,null,null,null,null,null,null,null,null,null,null,null,null,null,null,null,null,null,null,null,null,null,null,null,"310446110",310446,110]
[null,null,null,null,null,null,null,null,null,null,null,null,null,null,null,null,null,null,null,null,null,null,null,null,null,null,null,null,null,null,null,null,null,null,null,null,"310446112",310446,112]
[null,null,null,null,null,null,null,null,null,null,null,null,null,null,null,null,null,null,null,null,null,null,null,null,null,null,null,null,null,null,null,null,null,null,null,null,"310446112P",310446,"112P"]
[null,null,null,null,null,null,null,null,null,null,null,null,null,null,null,null,null,null,null,null,null,null,null,null,null,null,null,null,null,null,null,null,null,null,null,null,"310446114",310446,114]
[null,null,null,null,null,null,null,null,null,null,null,null,null,null,null,null,null,null,null,null,null,null,null,null,null,null,null,null,null,null,null,null,null,null,null,null,"310446115",310446,115]
[null,null,null,null,null,null,null,null,null,null,null,null,null,null,null,null,null,null,null,null,null,null,null,null,null,null,null,null,null,null,null,null,null,null,null,null,"310446116",310446,116]
[null,null,null,null,null,null,null,null,null,null,null,null,null,null,null,null,null,null,null,null,null,null,null,null,null,null,null,null,null,null,null,null,null,null,null,null,"310446117",310446,117]
[null,null,null,null,null,null,null,null,null,null,null,null,null,null,null,null,null,null,null,null,null,null,null,null,null,null,null,null,null,null,null,null,null,null,null,null,"310446117P",310446,"117P"]
[null,null,null,null,null,null,null,null,null,null,null,null,null,null,null,null,null,null,null,null,null,null,null,null,null,null,null,null,null,null,null,null,null,null,null,null,"310446118",310446,118,40986473]
[null,null,null,null,null,null,null,null,null,null,null,null,null,null,null,null,null,null,null,null,null,null,null,null,null,null,null,null,null,null,null,null,null,null,null,null,"310446119",310446,119,40986473]
[null,null,null,null,null,null,null,null,null,null,null,null,null,null,null,null,null,null,null,null,null,null,null,null,null,null,null,null,null,null,null,null,null,null,null,null,"310446120",310446,120,40986473]
[null,null,null,null,null,null,null,null,null,null,null,null,null,null,null,null,null,null,null,null,null,null,null,null,null,null,null,null,null,null,null,null,null,null,null,null,"310446122",310446,122,40986473]
[null,null,null,null,null,null,null,null,null,null,null,null,null,null,null,null,null,null,null,null,null,null,null,null,null,null,null,null,null,null,null,null,null,null,null,null,"310446127",310446,127]
[null,null,null,null,null,null,null,null,null,null,null,null,null,null,null,null,null,null,null,null,null,null,null,null,null,null,null,null,null,null,null,null,null,null,null,null,"310446127P",310446,"127P"]
[null,null,null,null,null,null,null,null,null,null,null,null,null,null,null,null,null,null,null,null,null,null,null,null,null,null,null,null,null,null,null,null,null,null,null,null,{"$f":"AL189&AM189","v":"310446129"},310446,129,40986473]
[null,null,null,null,null,null,null,null,null,null,null,null,null,null,null,null,null,null,null,null,null,null,null,null,null,null,null,null,null,null,null,null,null,null,null,null,"310446129P",310446,"129P",40986473]
[null,null,null,null,null,null,null,null,null,null,null,null,null,null,null,null,null,null,null,null,null,null,null,null,null,null,null,null,null,null,null,null,null,null,null,null,"310446135",310446,135]
[null,null,null,null,null,null,null,null,null,null,null,null,null,null,null,null,null,null,null,null,null,null,null,null,null,null,null,null,null,null,null,null,null,null,null,null,"310446143",310446,143]
[null,null,null,null,null,null,null,null,null,null,null,null,null,null,null,null,null,null,null,null,null,null,null,null,null,null,null,null,null,null,null,null,null,null,null,null,"310446143P",310446,"143P"]
[null,null,null,null,null,null,null,null,null,null,null,null,null,null,null,null,null,null,null,null,null,null,null,null,null,null,null,null,null,null,null,null,null,null,null,null,"310446144",310446,144]
[null,null,null,null,null,null,null,null,null,null,null,null,null,null,null,null,null,null,null,null,null,null,null,null,null,null,null,null,null,null,null,null,null,null,null,null,"310446146",310446,146]
[null,null,null,null,null,null,null,null,null,null,null,null,null,null,null,null,null,null,null,null,null,null,null,null,null,null,null,null,null,null,null,null,null,null,null,null,"310446147",310446,147]
[null,null,null,null,null,null,null,null,null,null,null,null,null,null,null,null,null,null,null,null,null,null,null,null,null,null,null,null,null,null,null,null,null,null,null,null,"310446148",310446,148]
[null,null,null,null,null,null,null,null,null,null,null,null,null,null,null,null,null,null,null,null,null,null,null,null,null,null,null,null,null,null,null,null,null,null,null,null,"310446149",310446,149]
[null,null,null,null,null,null,null,null,null,null,null,null,null,null,null,null,null,null,null,null,null,null,null,null,null,null,null,null,null,null,null,null,null,null,null,null,"310446149P",310446,"149P"]
[null,null,null,null,null,null,null,null,null,null,null,null,null,null,null,null,null,null,null,null,null,null,null,null,null,null,null,null,null,null,null,null,null,null,null,null,"310446150",310446,150]
[null,null,null,null,null,null,null,null,null,null,null,null,null,null,null,null,null,null,null,null,null,null,null,null,null,null,null,null,null,null,null,null,null,null,null,null,"310446151",310446,151]
[null,null,null,null,null,null,null,null,null,null,null,null,null,null,null,null,null,null,null,null,null,null,null,null,null,null,null,null,null,null,null,null,null,null,null,null,"310446152",310446,152]
[null,null,null,null,null,null,null,null,null,null,null,null,null,null,null,null,null,null,null,null,null,null,null,null,null,null,null,null,null,null,null,null,null,null,null,null,"310446153",310446,153,40986473]
[null,null,null,null,null,null,null,null,null,null,null,null,null,null,null,null,null,null,null,null,null,null,null,null,null,null,null,null,null,null,null,null,null,null,null,null,"310446154",310446,154,40986473]
[null,null,null,null,null,null,null,null,null,null,null,null,null,null,null,null,null,null,null,null,null,null,null,null,null,null,null,null,null,null,null,null,null,null,null,null,"310446155",310446,155,40986473]
[null,null,null,null,null,null,null,null,null,null,null,null,null,null,null,null,null,null,null,null,null,null,null,null,null,null,null,null,null,null,null,null,null,null,null,null,"310446157",310446,157,40986473]
[null,null,null,null,null,null,null,null,null,null,null,null,null,null,null,null,null,null,null,null,null,null,null,null,null,null,null,null,null,null,null,null,null,null,null,null,"310446157P",310446,"157P",40986473]
[null,null,null,null,null,null,null,null,null,null,null,null,null,null,null,null,null,null,null,null,null,null,null,null,null,null,null,null,null,null,null,null,null,null,null,null,"310446158",310446,158]
[null,null,null,null,null,null,null,null,null,null,null,null,null,null,null,null,null,null,null,null,null,null,null,null,null,null,null,null,null,null,null,null,null,null,null,null,"310446158P",310446,"158P"]
[null,null,null,null,null,null,null,null,null,null,null,null,null,null,null,null,null,null,null,null,null,null,null,null,null,null,null,null,null,null,null,null,null,null,null,null,"310446159",310446,159]
[null,null,null,null,null,null,null,null,null,null,null,null,null,null,null,null,null,null,null,null,null,null,null,null,null,null,null,null,null,null,null,null,null,null,null,null,"310446159P",310446,"159P"]
[null,null,null,null,null,null,null,null,null,null,null,null,null,null,null,null,null,null,null,null,null,null,null,null,null,null,null,null,null,null,null,null,null,null,null,null,"310446161",310446,161]
[null,null,null,null,null,null,null,null,null,null,null,null,null,null,null,null,null,null,null,null,null,null,null,null,null,null,null,null,null,null,null,null,null,null,null,null,"310446161P",310446,"161P"]
[null,null,null,null,null,null,null,null,null,null,null,null,null,null,null,null,null,null,null,null,null,null,null,null,null,null,null,null,null,null,null,null,null,null,null,null,"310446162",310446,162]
[null,null,null,null,null,null,null,null,null,null,null,null,null,null,null,null,null,null,null,null,null,null,null,null,null,null,null,null,null,null,null,null,null,null,null,null,"310446162P",310446,"162P"]
[null,null,null,null,null,null,null,null,null,null,null,null,null,null,null,null,null,null,null,null,null,null,null,null,null,null,null,null,null,null,null,null,null,null,null,null,"310446163",310446,163,40986473]
[null,null,null,null,null,null,null,null,null,null,null,null,null,null,null,null,null,null,null,null,null,null,null,null,null,null,null,null,null,null,null,null,null,null,null,null,"310480100",310480,100]
[null,null,null,null,null,null,null,null,null,null,null,null,null,null,null,null,null,null,null,null,null,null,null,null,null,null,null,null,null,null,null,null,null,null,null,null,"310480101",310480,101,20982550]
[null,null,null,null,null,null,null,null,null,null,null,null,null,null,null,null,null,null,null,null,null,null,null,null,null,null,null,null,null,null,null,null,null,null,null,null,"310480104",310480,104]
[null,null,null,null,null,null,null,null,null,null,null,null,null,null,null,null,null,null,null,null,null,null,null,null,null,null,null,null,null,null,null,null,null,null,null,null,"310480105",310480,105,20982550]
[null,null,null,null,null,null,null,null,null,null,null,null,null,null,null,null,null,null,null,null,null,null,null,null,null,null,null,null,null,null,null,null,null,null,null,null,"310480106",310480,106]
[null,null,null,null,null,null,null,null,null,null,null,null,null,null,null,null,null,null,null,null,null,null,null,null,null,null,null,null,null,null,null,null,null,null,null,null,"310480107",310480,107,20982550]
[null,null,null,null,null,null,null,null,null,null,null,null,null,null,null,null,null,null,null,null,null,null,null,null,null,null,null,null,null,null,null,null,null,null,null,null,"310480114",310480,114]
[null,null,null,null,null,null,null,null,null,null,null,null,null,null,null,null,null,null,null,null,null,null,null,null,null,null,null,null,null,null,null,null,null,null,null,null,"310480115",310480,115,20982551]
[null,null,null,null,null,null,null,null,null,null,null,null,null,null,null,null,null,null,null,null,null,null,null,null,null,null,null,null,null,null,null,null,null,null,null,null,"310480116",310480,116]
[null,null,null,null,null,null,null,null,null,null,null,null,null,null,null,null,null,null,null,null,null,null,null,null,null,null,null,null,null,null,null,null,null,null,null,null,"310480117",310480,117,20982551]
[null,null,null,null,null,null,null,null,null,null,null,null,null,null,null,null,null,null,null,null,null,null,null,null,null,null,null,null,null,null,null,null,null,null,null,null,"310480136",310480,136]
[null,null,null,null,null,null,null,null,null,null,null,null,null,null,null,null,null,null,null,null,null,null,null,null,null,null,null,null,null,null,null,null,null,null,null,null,"310480170",310480,170]
[null,null,null,null,null,null,null,null,null,null,null,null,null,null,null,null,null,null,null,null,null,null,null,null,null,null,null,null,null,null,null,null,null,null,null,null,"310480171",310480,171]
[null,null,null,null,null,null,null,null,null,null,null,null,null,null,null,null,null,null,null,null,null,null,null,null,null,null,null,null,null,null,null,null,null,null,null,null,"310480172",310480,172]
[null,null,null,null,null,null,null,null,null,null,null,null,null,null,null,null,null,null,null,null,null,null,null,null,null,null,null,null,null,null,null,null,null,null,null,null,"310480175",310480,175,20982550]
[null,null,null,null,null,null,null,null,null,null,null,null,null,null,null,null,null,null,null,null,null,null,null,null,null,null,null,null,null,null,null,null,null,null,null,null,"310480179",310480,179,20982555]
[null,null,null,null,null,null,null,null,null,null,null,null,null,null,null,null,null,null,null,null,null,null,null,null,null,null,null,null,null,null,null,null,null,null,null,null,"310480180",310480,180]
[null,null,null,null,null,null,null,null,null,null,null,null,null,null,null,null,null,null,null,null,null,null,null,null,null,null,null,null,null,null,null,null,null,null,null,null,"310480181",310480,181]
[null,null,null,null,null,null,null,null,null,null,null,null,null,null,null,null,null,null,null,null,null,null,null,null,null,null,null,null,null,null,null,null,null,null,null,null,"310480200",310480,200]
[null,null,null,null,null,null,null,null,null,null,null,null,null,null,null,null,null,null,null,null,null,null,null,null,null,null,null,null,null,null,null,null,null,null,null,null,"310480201",310480,201,20982555]
[null,null,null,null,null,null,null,null,null,null,null,null,null,null,null,null,null,null,null,null,null,null,null,null,null,null,null,null,null,null,null,null,null,null,null,null,"310480204",310480,204]
[null,null,null,null,null,null,null,null,null,null,null,null,null,null,null,null,null,null,null,null,null,null,null,null,null,null,null,null,null,null,null,null,null,null,null,null,"310480205",310480,205,20982555]
[null,null,null,null,null,null,null,null,null,null,null,null,null,null,null,null,null,null,null,null,null,null,null,null,null,null,null,null,null,null,null,null,null,null,null,null,"310480206",310480,206]
[null,null,null,null,null,null,null,null,null,null,null,null,null,null,null,null,null,null,null,null,null,null,null,null,null,null,null,null,null,null,null,null,null,null,null,null,"310480207",310480,207,20982555]
[null,null,null,null,null,null,null,null,null,null,null,null,null,null,null,null,null,null,null,null,null,null,null,null,null,null,null,null,null,null,null,null,null,null,null,null,"310481211",310481,211]
[null,null,null,null,null,null,null,null,null,null,null,null,null,null,null,null,null,null,null,null,null,null,null,null,null,null,null,null,null,null,null,null,null,null,null,null,"310481212",310481,212]
[null,null,null,null,null,null,null,null,null,null,null,null,null,null,null,null,null,null,null,null,null,null,null,null,null,null,null,null,null,null,null,null,null,null,null,null,"310481213",310481,213]
[null,null,null,null,null,null,null,null,null,null,null,null,null,null,null,null,null,null,null,null,null,null,null,null,null,null,null,null,null,null,null,null,null,null,null,null,"310481214",310481,214]
[null,null,null,null,null,null,null,null,null,null,null,null,null,null,null,null,null,null,null,null,null,null,null,null,null,null,null,null,null,null,null,null,null,null,null,null,"310481221",310481,221]
[null,null,null,null,null,null,null,null,null,null,null,null,null,null,null,null,null,null,null,null,null,null,null,null,null,null,null,null,null,null,null,null,null,null,null,null,"310481222",310481,222]
[null,null,null,null,null,null,null,null,null,null,null,null,null,null,null,null,null,null,null,null,null,null,null,null,null,null,null,null,null,null,null,null,null,null,null,null,"310481223",310481,223]
[null,null,null,null,null,null,null,null,null,null,null,null,null,null,null,null,null,null,null,null,null,null,null,null,null,null,null,null,null,null,null,null,null,null,null,null,"310481224",310481,224]
[null,null,null,null,null,null,null,null,null,null,null,null,null,null,null,null,null,null,null,null,null,null,null,null,null,null,null,null,null,null,null,null,null,null,null,null,"310481231",310481,231]
[null,null,null,null,null,null,null,null,null,null,null,null,null,null,null,null,null,null,null,null,null,null,null,null,null,null,null,null,null,null,null,null,null,null,null,null,"310481232",310481,232]
[null,null,null,null,null,null,null,null,null,null,null,null,null,null,null,null,null,null,null,null,null,null,null,null,null,null,null,null,null,null,null,null,null,null,null,null,"310481233",310481,233]
[null,null,null,null,null,null,null,null,null,null,null,null,null,null,null,null,null,null,null,null,null,null,null,null,null,null,null,null,null,null,null,null,null,null,null,null,"310481234",310481,234]
[null,null,null,null,null,null,null,null,null,null,null,null,null,null,null,null,null,null,null,null,null,null,null,null,null,null,null,null,null,null,null,null,null,null,null,null,{"$f":"AL253&AM253","v":"310481421"},310481,421]
[null,null,null,null,null,null,null,null,null,null,null,null,null,null,null,null,null,null,null,null,null,null,null,null,null,null,null,null,null,null,null,null,null,null,null,null,"310481431",310481,431]
[null,null,null,null,null,null,null,null,null,null,null,null,null,null,null,null,null,null,null,null,null,null,null,null,null,null,null,null,null,null,null,null,null,null,null,null,"310481432",310481,432]
[null,null,null,null,null,null,null,null,null,null,null,null,null,null,null,null,null,null,null,null,null,null,null,null,null,null,null,null,null,null,null,null,null,null,null,null,"310483401",310483,401]
[null,null,null,null,null,null,null,null,null,null,null,null,null,null,null,null,null,null,null,null,null,null,null,null,null,null,null,null,null,null,null,null,null,null,null,null,"310483401P",310483,"401P"]
[null,null,null,null,null,null,null,null,null,null,null,null,null,null,null,null,null,null,null,null,null,null,null,null,null,null,null,null,null,null,null,null,null,null,null,null,"310483402",310483,402]
[null,null,null,null,null,null,null,null,null,null,null,null,null,null,null,null,null,null,null,null,null,null,null,null,null,null,null,null,null,null,null,null,null,null,null,null,"310483411",310483,411,20982732]
[null,null,null,null,null,null,null,null,null,null,null,null,null,null,null,null,null,null,null,null,null,null,null,null,null,null,null,null,null,null,null,null,null,null,null,null,"310483411P",310483,"411P",20982733]
[null,null,null,null,null,null,null,null,null,null,null,null,null,null,null,null,null,null,null,null,null,null,null,null,null,null,null,null,null,null,null,null,null,null,null,null,"310483412",310483,412,20982735]
[null,null,null,null,null,null,null,null,null,null,null,null,null,null,null,null,null,null,null,null,null,null,null,null,null,null,null,null,null,null,null,null,null,null,null,null,"310483441",310483,441]
[null,null,null,null,null,null,null,null,null,null,null,null,null,null,null,null,null,null,null,null,null,null,null,null,null,null,null,null,null,null,null,null,null,null,null,null,"310483442",310483,442]
[null,null,null,null,null,null,null,null,null,null,null,null,null,null,null,null,null,null,null,null,null,null,null,null,null,null,null,null,null,null,null,null,null,null,null,null,"310483446",310483,446]
[null,null,null,null,null,null,null,null,null,null,null,null,null,null,null,null,null,null,null,null,null,null,null,null,null,null,null,null,null,null,null,null,null,null,null,null,"310483446P",310483,"446P"]
[null,null,null,null,null,null,null,null,null,null,null,null,null,null,null,null,null,null,null,null,null,null,null,null,null,null,null,null,null,null,null,null,null,null,null,null,"310483511",310483,511]
[null,null,null,null,null,null,null,null,null,null,null,null,null,null,null,null,null,null,null,null,null,null,null,null,null,null,null,null,null,null,null,null,null,null,null,null,"310483512",310483,512]
[null,null,null,null,null,null,null,null,null,null,null,null,null,null,null,null,null,null,null,null,null,null,null,null,null,null,null,null,null,null,null,null,null,null,null,null,"310483516",310483,516]
[null,null,null,null,null,null,null,null,null,null,null,null,null,null,null,null,null,null,null,null,null,null,null,null,null,null,null,null,null,null,null,null,null,null,null,null,"310483516P",310483,"516P"]
[null,null,null,null,null,null,null,null,null,null,null,null,null,null,null,null,null,null,null,null,null,null,null,null,null,null,null,null,null,null,null,null,null,null,null,null,"310483521",310483,521,20982734]
[null,null,null,null,null,null,null,null,null,null,null,null,null,null,null,null,null,null,null,null,null,null,null,null,null,null,null,null,null,null,null,null,null,null,null,null,"310483522",310483,522,20982734]
[null,null,null,null,null,null,null,null,null,null,null,null,null,null,null,null,null,null,null,null,null,null,null,null,null,null,null,null,null,null,null,null,null,null,null,null,"310483526",310483,526,20982734]
[null,null,null,null,null,null,null,null,null,null,null,null,null,null,null,null,null,null,null,null,null,null,null,null,null,null,null,null,null,null,null,null,null,null,null,null,"310483611",310483,611]
[null,null,null,null,null,null,null,null,null,null,null,null,null,null,null,null,null,null,null,null,null,null,null,null,null,null,null,null,null,null,null,null,null,null,null,null,"310483611P",310483,"611P"]
[null,null,null,null,null,null,null,null,null,null,null,null,null,null,null,null,null,null,null,null,null,null,null,null,null,null,null,null,null,null,null,null,null,null,null,null,"310483621",310483,621,20982734]
[null,null,null,null,null,null,null,null,null,null,null,null,null,null,null,null,null,null,null,null,null,null,null,null,null,null,null,null,null,null,null,null,null,null,null,null,"310483621P",310483,"621P",20982734]
[null,null,null,null,null,null,null,null,null,null,null,null,null,null,null,null,null,null,null,null,null,null,null,null,null,null,null,null,null,null,null,null,null,null,null,null,"310483721",310483,721]
[null,null,null,null,null,null,null,null,null,null,null,null,null,null,null,null,null,null,null,null,null,null,null,null,null,null,null,null,null,null,null,null,null,null,null,null,"310483801",310483,801]
[null,null,null,null,null,null,null,null,null,null,null,null,null,null,null,null,null,null,null,null,null,null,null,null,null,null,null,null,null,null,null,null,null,null,null,null,"310483801P",310483,"801P"]
[null,null,null,null,null,null,null,null,null,null,null,null,null,null,null,null,null,null,null,null,null,null,null,null,null,null,null,null,null,null,null,null,null,null,null,null,"310483802",310483,802]
[null,null,null,null,null,null,null,null,null,null,null,null,null,null,null,null,null,null,null,null,null,null,null,null,null,null,null,null,null,null,null,null,null,null,null,null,"310483821",310483,821]
[null,null,null,null,null,null,null,null,null,null,null,null,null,null,null,null,null,null,null,null,null,null,null,null,null,null,null,null,null,null,null,null,null,null,null,null,"310483822",310483,822]
[null,null,null,null,null,null,null,null,null,null,null,null,null,null,null,null,null,null,null,null,null,null,null,null,null,null,null,null,null,null,null,null,null,null,null,null,"310483831",310483,831]
[null,null,null,null,null,null,null,null,null,null,null,null,null,null,null,null,null,null,null,null,null,null,null,null,null,null,null,null,null,null,null,null,null,null,null,null,"310483831P",310483,"831P"]
[null,null,null,null,null,null,null,null,null,null,null,null,null,null,null,null,null,null,null,null,null,null,null,null,null,null,null,null,null,null,null,null,null,null,null,null,"310483841",310483,841]
[null,null,null,null,null,null,null,null,null,null,null,null,null,null,null,null,null,null,null,null,null,null,null,null,null,null,null,null,null,null,null,null,null,null,null,null,"310483842",310483,842]
[null,null,null,null,null,null,null,null,null,null,null,null,null,null,null,null,null,null,null,null,null,null,null,null,null,null,null,null,null,null,null,null,null,null,null,null,"310483901",310483,901,20982734]
[null,null,null,null,null,null,null,null,null,null,null,null,null,null,null,null,null,null,null,null,null,null,null,null,null,null,null,null,null,null,null,null,null,null,null,null,"310483902",310483,902,20982734]
[null,null,null,null,null,null,null,null,null,null,null,null,null,null,null,null,null,null,null,null,null,null,null,null,null,null,null,null,null,null,null,null,null,null,null,null,"310483911",310483,911,20982734]
[null,null,null,null,null,null,null,null,null,null,null,null,null,null,null,null,null,null,null,null,null,null,null,null,null,null,null,null,null,null,null,null,null,null,null,null,"310483911P",310483,"911P",20982734]
[null,null,null,null,null,null,null,null,null,null,null,null,null,null,null,null,null,null,null,null,null,null,null,null,null,null,null,null,null,null,null,null,null,null,null,null,"3104831001",310483,1001]
[null,null,null,null,null,null,null,null,null,null,null,null,null,null,null,null,null,null,null,null,null,null,null,null,null,null,null,null,null,null,null,null,null,null,null,null,"3104831001P",310483,"1001P"]
[null,null,null,null,null,null,null,null,null,null,null,null,null,null,null,null,null,null,null,null,null,null,null,null,null,null,null,null,null,null,null,null,null,null,null,null,"3104831011",310483,1011,20982734]
[null,null,null,null,null,null,null,null,null,null,null,null,null,null,null,null,null,null,null,null,null,null,null,null,null,null,null,null,null,null,null,null,null,null,null,null,"311446101",311446,101]
[null,null,null,null,null,null,null,null,null,null,null,null,null,null,null,null,null,null,null,null,null,null,null,null,null,null,null,null,null,null,null,null,null,null,null,null,"311446101P",311446,"101P"]
[null,null,null,null,null,null,null,null,null,null,null,null,null,null,null,null,null,null,null,null,null,null,null,null,null,null,null,null,null,null,null,null,null,null,null,null,"311446102",311446,102]
[null,null,null,null,null,null,null,null,null,null,null,null,null,null,null,null,null,null,null,null,null,null,null,null,null,null,null,null,null,null,null,null,null,null,null,null,"311446103",311446,103,40986470]
[null,null,null,null,null,null,null,null,null,null,null,null,null,null,null,null,null,null,null,null,null,null,null,null,null,null,null,null,null,null,null,null,null,null,null,null,"311446103P",311446,"103P",40986471]
[null,null,null,null,null,null,null,null,null,null,null,null,null,null,null,null,null,null,null,null,null,null,null,null,null,null,null,null,null,null,null,null,null,null,null,null,"311446104",311446,104,40986472]
[null,null,null,null,null,null,null,null,null,null,null,null,null,null,null,null,null,null,null,null,null,null,null,null,null,null,null,null,null,null,null,null,null,null,null,null,"311446108",311446,108]
[null,null,null,null,null,null,null,null,null,null,null,null,null,null,null,null,null,null,null,null,null,null,null,null,null,null,null,null,null,null,null,null,null,null,null,null,"311446109",311446,109]
[null,null,null,null,null,null,null,null,null,null,null,null,null,null,null,null,null,null,null,null,null,null,null,null,null,null,null,null,null,null,null,null,null,null,null,null,"311446110",311446,110]
[null,null,null,null,null,null,null,null,null,null,null,null,null,null,null,null,null,null,null,null,null,null,null,null,null,null,null,null,null,null,null,null,null,null,null,null,"311446112",311446,112]
[null,null,null,null,null,null,null,null,null,null,null,null,null,null,null,null,null,null,null,null,null,null,null,null,null,null,null,null,null,null,null,null,null,null,null,null,"311446112P",311446,"112P"]
[null,null,null,null,null,null,null,null,null,null,null,null,null,null,null,null,null,null,null,null,null,null,null,null,null,null,null,null,null,null,null,null,null,null,null,null,"311446114",311446,114]
[null,null,null,null,null,null,null,null,null,null,null,null,null,null,null,null,null,null,null,null,null,null,null,null,null,null,null,null,null,null,null,null,null,null,null,null,"311446115",311446,115]
[null,null,null,null,null,null,null,null,null,null,null,null,null,null,null,null,null,null,null,null,null,null,null,null,null,null,null,null,null,null,null,null,null,null,null,null,"311446116",311446,116]
[null,null,null,null,null,null,null,null,null,null,null,null,null,null,null,null,null,null,null,null,null,null,null,null,null,null,null,null,null,null,null,null,null,null,null,null,"311446117",311446,117]
[null,null,null,null,null,null,null,null,null,null,null,null,null,null,null,null,null,null,null,null,null,null,null,null,null,null,null,null,null,null,null,null,null,null,null,null,"311446117P",311446,"117P"]
[null,null,null,null,null,null,null,null,null,null,null,null,null,null,null,null,null,null,null,null,null,null,null,null,null,null,null,null,null,null,null,null,null,null,null,null,"311446118",311446,118,40986473]
[null,null,null,null,null,null,null,null,null,null,null,null,null,null,null,null,null,null,null,null,null,null,null,null,null,null,null,null,null,null,null,null,null,null,null,null,"311446119",311446,119,40986473]
[null,null,null,null,null,null,null,null,null,null,null,null,null,null,null,null,null,null,null,null,null,null,null,null,null,null,null,null,null,null,null,null,null,null,null,null,"311446120",311446,120,40986473]
[null,null,null,null,null,null,null,null,null,null,null,null,null,null,null,null,null,null,null,null,null,null,null,null,null,null,null,null,null,null,null,null,null,null,null,null,"311446122",311446,122,40986473]
[null,null,null,null,null,null,null,null,null,null,null,null,null,null,null,null,null,null,null,null,null,null,null,null,null,null,null,null,null,null,null,null,null,null,null,null,"311446127",311446,127]
[null,null,null,null,null,null,null,null,null,null,null,null,null,null,null,null,null,null,null,null,null,null,null,null,null,null,null,null,null,null,null,null,null,null,null,null,"311446127P",311446,"127P"]
[null,null,null,null,null,null,null,null,null,null,null,null,null,null,null,null,null,null,null,null,null,null,null,null,null,null,null,null,null,null,null,null,null,null,null,null,"311446129",311446,129,40986473]
[null,null,null,null,null,null,null,null,null,null,null,null,null,null,null,null,null,null,null,null,null,null,null,null,null,null,null,null,null,null,null,null,null,null,null,null,{"$f":"AL317&AM317","v":"311446129P"},311446,"129P",40986473]
[null,null,null,null,null,null,null,null,null,null,null,null,null,null,null,null,null,null,null,null,null,null,null,null,null,null,null,null,null,null,null,null,null,null,null,null,"311446135",311446,135]
[null,null,null,null,null,null,null,null,null,null,null,null,null,null,null,null,null,null,null,null,null,null,null,null,null,null,null,null,null,null,null,null,null,null,null,null,"311446143",311446,143]
[null,null,null,null,null,null,null,null,null,null,null,null,null,null,null,null,null,null,null,null,null,null,null,null,null,null,null,null,null,null,null,null,null,null,null,null,"311446143P",311446,"143P"]
[null,null,null,null,null,null,null,null,null,null,null,null,null,null,null,null,null,null,null,null,null,null,null,null,null,null,null,null,null,null,null,null,null,null,null,null,"311446144",311446,144]
[null,null,null,null,null,null,null,null,null,null,null,null,null,null,null,null,null,null,null,null,null,null,null,null,null,null,null,null,null,null,null,null,null,null,null,null,"311446146",311446,146]
[null,null,null,null,null,null,null,null,null,null,null,null,null,null,null,null,null,null,null,null,null,null,null,null,null,null,null,null,null,null,null,null,null,null,null,null,"311446147",311446,147]
[null,null,null,null,null,null,null,null,null,null,null,null,null,null,null,null,null,null,null,null,null,null,null,null,null,null,null,null,null,null,null,null,null,null,null,null,"311446148",311446,148]
[null,null,null,null,null,null,null,null,null,null,null,null,null,null,null,null,null,null,null,null,null,null,null,null,null,null,null,null,null,null,null,null,null,null,null,null,"311446149",311446,149]
[null,null,null,null,null,null,null,null,null,null,null,null,null,null,null,null,null,null,null,null,null,null,null,null,null,null,null,null,null,null,null,null,null,null,null,null,"311446149P",311446,"149P"]
[null,null,null,null,null,null,null,null,null,null,null,null,null,null,null,null,null,null,null,null,null,null,null,null,null,null,null,null,null,null,null,null,null,null,null,null,"311446150",311446,150]
[null,null,null,null,null,null,null,null,null,null,null,null,null,null,null,null,null,null,null,null,null,null,null,null,null,null,null,null,null,null,null,null,null,null,null,null,"311446151",311446,151]
[null,null,null,null,null,null,null,null,null,null,null,null,null,null,null,null,null,null,null,null,null,null,null,null,null,null,null,null,null,null,null,null,null,null,null,null,"311446152",311446,152]
[null,null,null,null,null,null,null,null,null,null,null,null,null,null,null,null,null,null,null,null,null,null,null,null,null,null,null,null,null,null,null,null,null,null,null,null,"311446153",311446,153,40986473]
[null,null,null,null,null,null,null,null,null,null,null,null,null,null,null,null,null,null,null,null,null,null,null,null,null,null,null,null,null,null,null,null,null,null,null,null,"311446154",311446,154,40986473]
[null,null,null,null,null,null,null,null,null,null,null,null,null,null,null,null,null,null,null,null,null,null,null,null,null,null,null,null,null,null,null,null,null,null,null,null,"311446155",311446,155,40986473]
[null,null,null,null,null,null,null,null,null,null,null,null,null,null,null,null,null,null,null,null,null,null,null,null,null,null,null,null,null,null,null,null,null,null,null,null,"311446157",311446,157,40986473]
[null,null,null,null,null,null,null,null,null,null,null,null,null,null,null,null,null,null,null,null,null,null,null,null,null,null,null,null,null,null,null,null,null,null,null,null,"311446157P",311446,"157P",40986473]
[null,null,null,null,null,null,null,null,null,null,null,null,null,null,null,null,null,null,null,null,null,null,null,null,null,null,null,null,null,null,null,null,null,null,null,null,"311446158",311446,158]
[null,null,null,null,null,null,null,null,null,null,null,null,null,null,null,null,null,null,null,null,null,null,null,null,null,null,null,null,null,null,null,null,null,null,null,null,"311446158P",311446,"158P"]
[null,null,null,null,null,null,null,null,null,null,null,null,null,null,null,null,null,null,null,null,null,null,null,null,null,null,null,null,null,null,null,null,null,null,null,null,"311446159",311446,159]
[null,null,null,null,null,null,null,null,null,null,null,null,null,null,null,null,null,null,null,null,null,null,null,null,null,null,null,null,null,null,null,null,null,null,null,null,"311446159P",311446,"159P"]
[null,null,null,null,null,null,null,null,null,null,null,null,null,null,null,null,null,null,null,null,null,null,null,null,null,null,null,null,null,null,null,null,null,null,null,null,"311446161",311446,161]
[null,null,null,null,null,null,null,null,null,null,null,null,null,null,null,null,null,null,null,null,null,null,null,null,null,null,null,null,null,null,null,null,null,null,null,null,"311446161P",311446,"161P"]
[null,null,null,null,null,null,null,null,null,null,null,null,null,null,null,null,null,null,null,null,null,null,null,null,null,null,null,null,null,null,null,null,null,null,null,null,"311446162",311446,162]
[null,null,null,null,null,null,null,null,null,null,null,null,null,null,null,null,null,null,null,null,null,null,null,null,null,null,null,null,null,null,null,null,null,null,null,null,"311446162P",311446,"162P"]
[null,null,null,null,null,null,null,null,null,null,null,null,null,null,null,null,null,null,null,null,null,null,null,null,null,null,null,null,null,null,null,null,null,null,null,null,"311446163",311446,163,40986473]
[null,null,null,null,null,null,null,null,null,null,null,null,null,null,null,null,null,null,null,null,null,null,null,null,null,null,null,null,null,null,null,null,null,null,null,null,"310484101",310484,101]
[null,null,null,null,null,null,null,null,null,null,null,null,null,null,null,null,null,null,null,null,null,null,null,null,null,null,null,null,null,null,null,null,null,null,null,null,"310484101P",310484,"101P"]
[null,null,null,null,null,null,null,null,null,null,null,null,null,null,null,null,null,null,null,null,null,null,null,null,null,null,null,null,null,null,null,null,null,null,null,null,"310484102",310484,102]
[null,null,null,null,null,null,null,null,null,null,null,null,null,null,null,null,null,null,null,null,null,null,null,null,null,null,null,null,null,null,null,null,null,null,null,null,"310484103",310484,103,40986470]
[null,null,null,null,null,null,null,null,null,null,null,null,null,null,null,null,null,null,null,null,null,null,null,null,null,null,null,null,null,null,null,null,null,null,null,null,"310484103P",310484,"103P",40986471]
[null,null,null,null,null,null,null,null,null,null,null,null,null,null,null,null,null,null,null,null,null,null,null,null,null,null,null,null,null,null,null,null,null,null,null,null,"310484104",310484,104,40986472]
[null,null,null,null,null,null,null,null,null,null,null,null,null,null,null,null,null,null,null,null,null,null,null,null,null,null,null,null,null,null,null,null,null,null,null,null,"310484108",310484,108]
[null,null,null,null,null,null,null,null,null,null,null,null,null,null,null,null,null,null,null,null,null,null,null,null,null,null,null,null,null,null,null,null,null,null,null,null,"310484109",310484,109]
[null,null,null,null,null,null,null,null,null,null,null,null,null,null,null,null,null,null,null,null,null,null,null,null,null,null,null,null,null,null,null,null,null,null,null,null,"310484110",310484,110]
[null,null,null,null,null,null,null,null,null,null,null,null,null,null,null,null,null,null,null,null,null,null,null,null,null,null,null,null,null,null,null,null,null,null,null,null,"310484112",310484,112]
[null,null,null,null,null,null,null,null,null,null,null,null,null,null,null,null,null,null,null,null,null,null,null,null,null,null,null,null,null,null,null,null,null,null,null,null,"310484112P",310484,"112P"]
[null,null,null,null,null,null,null,null,null,null,null,null,null,null,null,null,null,null,null,null,null,null,null,null,null,null,null,null,null,null,null,null,null,null,null,null,"310484114",310484,114]
[null,null,null,null,null,null,null,null,null,null,null,null,null,null,null,null,null,null,null,null,null,null,null,null,null,null,null,null,null,null,null,null,null,null,null,null,"310484115",310484,115]
[null,null,null,null,null,null,null,null,null,null,null,null,null,null,null,null,null,null,null,null,null,null,null,null,null,null,null,null,null,null,null,null,null,null,null,null,"310484116",310484,116]
[null,null,null,null,null,null,null,null,null,null,null,null,null,null,null,null,null,null,null,null,null,null,null,null,null,null,null,null,null,null,null,null,null,null,null,null,"310484117",310484,117]
[null,null,null,null,null,null,null,null,null,null,null,null,null,null,null,null,null,null,null,null,null,null,null,null,null,null,null,null,null,null,null,null,null,null,null,null,"310484117P",310484,"117P"]
[null,null,null,null,null,null,null,null,null,null,null,null,null,null,null,null,null,null,null,null,null,null,null,null,null,null,null,null,null,null,null,null,null,null,null,null,"310484118",310484,118,40986473]
[null,null,null,null,null,null,null,null,null,null,null,null,null,null,null,null,null,null,null,null,null,null,null,null,null,null,null,null,null,null,null,null,null,null,null,null,"310484119",310484,119,40986473]
[null,null,null,null,null,null,null,null,null,null,null,null,null,null,null,null,null,null,null,null,null,null,null,null,null,null,null,null,null,null,null,null,null,null,null,null,"310484120",310484,120,40986473]
[null,null,null,null,null,null,null,null,null,null,null,null,null,null,null,null,null,null,null,null,null,null,null,null,null,null,null,null,null,null,null,null,null,null,null,null,"310484122",310484,122,40986473]
[null,null,null,null,null,null,null,null,null,null,null,null,null,null,null,null,null,null,null,null,null,null,null,null,null,null,null,null,null,null,null,null,null,null,null,null,"310484127",310484,127]
[null,null,null,null,null,null,null,null,null,null,null,null,null,null,null,null,null,null,null,null,null,null,null,null,null,null,null,null,null,null,null,null,null,null,null,null,"310484127P",310484,"127P"]
[null,null,null,null,null,null,null,null,null,null,null,null,null,null,null,null,null,null,null,null,null,null,null,null,null,null,null,null,null,null,null,null,null,null,null,null,"310484129",310484,129,40986473]
[null,null,null,null,null,null,null,null,null,null,null,null,null,null,null,null,null,null,null,null,null,null,null,null,null,null,null,null,null,null,null,null,null,null,null,null,"310484129P",310484,"129P",40986473]
[null,null,null,null,null,null,null,null,null,null,null,null,null,null,null,null,null,null,null,null,null,null,null,null,null,null,null,null,null,null,null,null,null,null,null,null,"310484135",310484,135]
[null,null,null,null,null,null,null,null,null,null,null,null,null,null,null,null,null,null,null,null,null,null,null,null,null,null,null,null,null,null,null,null,null,null,null,null,"310484143",310484,143]
[null,null,null,null,null,null,null,null,null,null,null,null,null,null,null,null,null,null,null,null,null,null,null,null,null,null,null,null,null,null,null,null,null,null,null,null,"310484143P",310484,"143P"]
[null,null,null,null,null,null,null,null,null,null,null,null,null,null,null,null,null,null,null,null,null,null,null,null,null,null,null,null,null,null,null,null,null,null,null,null,"310484144",310484,144]
[null,null,null,null,null,null,null,null,null,null,null,null,null,null,null,null,null,null,null,null,null,null,null,null,null,null,null,null,null,null,null,null,null,null,null,null,"310484146",310484,146]
[null,null,null,null,null,null,null,null,null,null,null,null,null,null,null,null,null,null,null,null,null,null,null,null,null,null,null,null,null,null,null,null,null,null,null,null,"310484147",310484,147]
[null,null,null,null,null,null,null,null,null,null,null,null,null,null,null,null,null,null,null,null,null,null,null,null,null,null,null,null,null,null,null,null,null,null,null,null,"310484148",310484,148]
[null,null,null,null,null,null,null,null,null,null,null,null,null,null,null,null,null,null,null,null,null,null,null,null,null,null,null,null,null,null,null,null,null,null,null,null,"310484149",310484,149]
[null,null,null,null,null,null,null,null,null,null,null,null,null,null,null,null,null,null,null,null,null,null,null,null,null,null,null,null,null,null,null,null,null,null,null,null,"310484149P",310484,"149P"]
[null,null,null,null,null,null,null,null,null,null,null,null,null,null,null,null,null,null,null,null,null,null,null,null,null,null,null,null,null,null,null,null,null,null,null,null,"310484150",310484,150]
[null,null,null,null,null,null,null,null,null,null,null,null,null,null,null,null,null,null,null,null,null,null,null,null,null,null,null,null,null,null,null,null,null,null,null,null,"310484151",310484,151]
[null,null,null,null,null,null,null,null,null,null,null,null,null,null,null,null,null,null,null,null,null,null,null,null,null,null,null,null,null,null,null,null,null,null,null,null,"310484152",310484,152]
[null,null,null,null,null,null,null,null,null,null,null,null,null,null,null,null,null,null,null,null,null,null,null,null,null,null,null,null,null,null,null,null,null,null,null,null,"310484153",310484,153,40986473]
[null,null,null,null,null,null,null,null,null,null,null,null,null,null,null,null,null,null,null,null,null,null,null,null,null,null,null,null,null,null,null,null,null,null,null,null,{"$f":"AL381&AM381","v":"310484154"},310484,154,40986473]
[null,null,null,null,null,null,null,null,null,null,null,null,null,null,null,null,null,null,null,null,null,null,null,null,null,null,null,null,null,null,null,null,null,null,null,null,"310484155",310484,155,40986473]
[null,null,null,null,null,null,null,null,null,null,null,null,null,null,null,null,null,null,null,null,null,null,null,null,null,null,null,null,null,null,null,null,null,null,null,null,"310484157",310484,157,40986473]
[null,null,null,null,null,null,null,null,null,null,null,null,null,null,null,null,null,null,null,null,null,null,null,null,null,null,null,null,null,null,null,null,null,null,null,null,"310484157P",310484,"157P",40986473]
[null,null,null,null,null,null,null,null,null,null,null,null,null,null,null,null,null,null,null,null,null,null,null,null,null,null,null,null,null,null,null,null,null,null,null,null,"310484158",310484,158]
[null,null,null,null,null,null,null,null,null,null,null,null,null,null,null,null,null,null,null,null,null,null,null,null,null,null,null,null,null,null,null,null,null,null,null,null,"310484158P",310484,"158P"]
[null,null,null,null,null,null,null,null,null,null,null,null,null,null,null,null,null,null,null,null,null,null,null,null,null,null,null,null,null,null,null,null,null,null,null,null,"310484159",310484,159]
[null,null,null,null,null,null,null,null,null,null,null,null,null,null,null,null,null,null,null,null,null,null,null,null,null,null,null,null,null,null,null,null,null,null,null,null,"310484159P",310484,"159P"]
[null,null,null,null,null,null,null,null,null,null,null,null,null,null,null,null,null,null,null,null,null,null,null,null,null,null,null,null,null,null,null,null,null,null,null,null,"310484161",310484,161]
[null,null,null,null,null,null,null,null,null,null,null,null,null,null,null,null,null,null,null,null,null,null,null,null,null,null,null,null,null,null,null,null,null,null,null,null,"310484161P",310484,"161P"]
[null,null,null,null,null,null,null,null,null,null,null,null,null,null,null,null,null,null,null,null,null,null,null,null,null,null,null,null,null,null,null,null,null,null,null,null,"310484162",310484,162]
[null,null,null,null,null,null,null,null,null,null,null,null,null,null,null,null,null,null,null,null,null,null,null,null,null,null,null,null,null,null,null,null,null,null,null,null,"310484162P",310484,"162P"]
[null,null,null,null,null,null,null,null,null,null,null,null,null,null,null,null,null,null,null,null,null,null,null,null,null,null,null,null,null,null,null,null,null,null,null,null,"310484163",310484,163,40986473]
[null,null,null,null,null,null,null,null,null,null,null,null,null,null,null,null,null,null,null,null,null,null,null,null,null,null,null,null,null,null,null,null,null,null,null,null,"310489100",310489,100]
[null,null,null,null,null,null,null,null,null,null,null,null,null,null,null,null,null,null,null,null,null,null,null,null,null,null,null,null,null,null,null,null,null,null,null,null,"310489101",310489,101,20982550]
[null,null,null,null,null,null,null,null,null,null,null,null,null,null,null,null,null,null,null,null,null,null,null,null,null,null,null,null,null,null,null,null,null,null,null,null,"310489104",310489,104]
[null,null,null,null,null,null,null,null,null,null,null,null,null,null,null,null,null,null,null,null,null,null,null,null,null,null,null,null,null,null,null,null,null,null,null,null,"310489105",310489,105,20982550]
[null,null,null,null,null,null,null,null,null,null,null,null,null,null,null,null,null,null,null,null,null,null,null,null,null,null,null,null,null,null,null,null,null,null,null,null,"310489106",310489,106]
[null,null,null,null,null,null,null,null,null,null,null,null,null,null,null,null,null,null,null,null,null,null,null,null,null,null,null,null,null,null,null,null,null,null,null,null,"310489107",310489,107,20982550]
[null,null,null,null,null,null,null,null,null,null,null,null,null,null,null,null,null,null,null,null,null,null,null,null,null,null,null,null,null,null,null,null,null,null,null,null,"310489114",310489,114]
[null,null,null,null,null,null,null,null,null,null,null,null,null,null,null,null,null,null,null,null,null,null,null,null,null,null,null,null,null,null,null,null,null,null,null,null,"310489115",310489,115,20982551]
[null,null,null,null,null,null,null,null,null,null,null,null,null,null,null,null,null,null,null,null,null,null,null,null,null,null,null,null,null,null,null,null,null,null,null,null,"310489116",310489,116]
[null,null,null,null,null,null,null,null,null,null,null,null,null,null,null,null,null,null,null,null,null,null,null,null,null,null,null,null,null,null,null,null,null,null,null,null,"310489117",310489,117,20982551]
[null,null,null,null,null,null,null,null,null,null,null,null,null,null,null,null,null,null,null,null,null,null,null,null,null,null,null,null,null,null,null,null,null,null,null,null,"310489136",310489,136]
[null,null,null,null,null,null,null,null,null,null,null,null,null,null,null,null,null,null,null,null,null,null,null,null,null,null,null,null,null,null,null,null,null,null,null,null,"310489170",310489,170]
[null,null,null,null,null,null,null,null,null,null,null,null,null,null,null,null,null,null,null,null,null,null,null,null,null,null,null,null,null,null,null,null,null,null,null,null,"310489171",310489,171]
[null,null,null,null,null,null,null,null,null,null,null,null,null,null,null,null,null,null,null,null,null,null,null,null,null,null,null,null,null,null,null,null,null,null,null,null,"310489172",310489,172]
[null,null,null,null,null,null,null,null,null,null,null,null,null,null,null,null,null,null,null,null,null,null,null,null,null,null,null,null,null,null,null,null,null,null,null,null,"310489175",310489,175,20982550]
[null,null,null,null,null,null,null,null,null,null,null,null,null,null,null,null,null,null,null,null,null,null,null,null,null,null,null,null,null,null,null,null,null,null,null,null,"310489179",310489,179,20982555]
[null,null,null,null,null,null,null,null,null,null,null,null,null,null,null,null,null,null,null,null,null,null,null,null,null,null,null,null,null,null,null,null,null,null,null,null,"310489180",310489,180]
[null,null,null,null,null,null,null,null,null,null,null,null,null,null,null,null,null,null,null,null,null,null,null,null,null,null,null,null,null,null,null,null,null,null,null,null,"310489181",310489,181]
[null,null,null,null,null,null,null,null,null,null,null,null,null,null,null,null,null,null,null,null,null,null,null,null,null,null,null,null,null,null,null,null,null,null,null,null,"310489200",310489,200]
[null,null,null,null,null,null,null,null,null,null,null,null,null,null,null,null,null,null,null,null,null,null,null,null,null,null,null,null,null,null,null,null,null,null,null,null,"310489201",310489,201,20982555]
[null,null,null,null,null,null,null,null,null,null,null,null,null,null,null,null,null,null,null,null,null,null,null,null,null,null,null,null,null,null,null,null,null,null,null,null,"310489204",310489,204]
[null,null,null,null,null,null,null,null,null,null,null,null,null,null,null,null,null,null,null,null,null,null,null,null,null,null,null,null,null,null,null,null,null,null,null,null,"310489205",310489,205,20982555]
[null,null,null,null,null,null,null,null,null,null,null,null,null,null,null,null,null,null,null,null,null,null,null,null,null,null,null,null,null,null,null,null,null,null,null,null,"310489206",310489,206]
[null,null,null,null,null,null,null,null,null,null,null,null,null,null,null,null,null,null,null,null,null,null,null,null,null,null,null,null,null,null,null,null,null,null,null,null,"310489207",310489,207,20982555]
[null,null,null,null,null,null,null,null,null,null,null,null,null,null,null,null,null,null,null,null,null,null,null,null,null,null,null,null,null,null,null,null,null,null,null,null,"310479211",310479,211]
[null,null,null,null,null,null,null,null,null,null,null,null,null,null,null,null,null,null,null,null,null,null,null,null,null,null,null,null,null,null,null,null,null,null,null,null,"310479212",310479,212]
[null,null,null,null,null,null,null,null,null,null,null,null,null,null,null,null,null,null,null,null,null,null,null,null,null,null,null,null,null,null,null,null,null,null,null,null,"310479213",310479,213]
[null,null,null,null,null,null,null,null,null,null,null,null,null,null,null,null,null,null,null,null,null,null,null,null,null,null,null,null,null,null,null,null,null,null,null,null,"310479214",310479,214]
[null,null,null,null,null,null,null,null,null,null,null,null,null,null,null,null,null,null,null,null,null,null,null,null,null,null,null,null,null,null,null,null,null,null,null,null,"310479221",310479,221]
[null,null,null,null,null,null,null,null,null,null,null,null,null,null,null,null,null,null,null,null,null,null,null,null,null,null,null,null,null,null,null,null,null,null,null,null,"310479222",310479,222]
[null,null,null,null,null,null,null,null,null,null,null,null,null,null,null,null,null,null,null,null,null,null,null,null,null,null,null,null,null,null,null,null,null,null,null,null,"310479223",310479,223]
[null,null,null,null,null,null,null,null,null,null,null,null,null,null,null,null,null,null,null,null,null,null,null,null,null,null,null,null,null,null,null,null,null,null,null,null,"310479224",310479,224]
[null,null,null,null,null,null,null,null,null,null,null,null,null,null,null,null,null,null,null,null,null,null,null,null,null,null,null,null,null,null,null,null,null,null,null,null,"310479231",310479,231]
[null,null,null,null,null,null,null,null,null,null,null,null,null,null,null,null,null,null,null,null,null,null,null,null,null,null,null,null,null,null,null,null,null,null,null,null,"310479232",310479,232]
[null,null,null,null,null,null,null,null,null,null,null,null,null,null,null,null,null,null,null,null,null,null,null,null,null,null,null,null,null,null,null,null,null,null,null,null,"310479233",310479,233]
[null,null,null,null,null,null,null,null,null,null,null,null,null,null,null,null,null,null,null,null,null,null,null,null,null,null,null,null,null,null,null,null,null,null,null,null,"310479234",310479,234]
[null,null,null,null,null,null,null,null,null,null,null,null,null,null,null,null,null,null,null,null,null,null,null,null,null,null,null,null,null,null,null,null,null,null,null,null,"310479421",310479,421]
[null,null,null,null,null,null,null,null,null,null,null,null,null,null,null,null,null,null,null,null,null,null,null,null,null,null,null,null,null,null,null,null,null,null,null,null,"310479431",310479,431]
[null,null,null,null,null,null,null,null,null,null,null,null,null,null,null,null,null,null,null,null,null,null,null,null,null,null,null,null,null,null,null,null,null,null,null,null,"310479432",310479,432]
[null,null,null,null,null,null,null,null,null,null,null,null,null,null,null,null,null,null,null,null,null,null,null,null,null,null,null,null,null,null,null,null,null,null,null,null,"310494401",310494,401]
[null,null,null,null,null,null,null,null,null,null,null,null,null,null,null,null,null,null,null,null,null,null,null,null,null,null,null,null,null,null,null,null,null,null,null,null,"310494401P",310494,"401P"]
[null,null,null,null,null,null,null,null,null,null,null,null,null,null,null,null,null,null,null,null,null,null,null,null,null,null,null,null,null,null,null,null,null,null,null,null,"310494402",310494,402]
[null,null,null,null,null,null,null,null,null,null,null,null,null,null,null,null,null,null,null,null,null,null,null,null,null,null,null,null,null,null,null,null,null,null,null,null,"310494411",310494,411,20982732]
[null,null,null,null,null,null,null,null,null,null,null,null,null,null,null,null,null,null,null,null,null,null,null,null,null,null,null,null,null,null,null,null,null,null,null,null,"310494411P",310494,"411P",20982733]
[null,null,null,null,null,null,null,null,null,null,null,null,null,null,null,null,null,null,null,null,null,null,null,null,null,null,null,null,null,null,null,null,null,null,null,null,"310494412",310494,412,20982735]
[null,null,null,null,null,null,null,null,null,null,null,null,null,null,null,null,null,null,null,null,null,null,null,null,null,null,null,null,null,null,null,null,null,null,null,null,"310494441",310494,441]
[null,null,null,null,null,null,null,null,null,null,null,null,null,null,null,null,null,null,null,null,null,null,null,null,null,null,null,null,null,null,null,null,null,null,null,null,"310494442",310494,442]
[null,null,null,null,null,null,null,null,null,null,null,null,null,null,null,null,null,null,null,null,null,null,null,null,null,null,null,null,null,null,null,null,null,null,null,null,"310494446",310494,446]
[null,null,null,null,null,null,null,null,null,null,null,null,null,null,null,null,null,null,null,null,null,null,null,null,null,null,null,null,null,null,null,null,null,null,null,null,"310494446P",310494,"446P"]
[null,null,null,null,null,null,null,null,null,null,null,null,null,null,null,null,null,null,null,null,null,null,null,null,null,null,null,null,null,null,null,null,null,null,null,null,"310494511",310494,511]
[null,null,null,null,null,null,null,null,null,null,null,null,null,null,null,null,null,null,null,null,null,null,null,null,null,null,null,null,null,null,null,null,null,null,null,null,"310494512",310494,512]
[null,null,null,null,null,null,null,null,null,null,null,null,null,null,null,null,null,null,null,null,null,null,null,null,null,null,null,null,null,null,null,null,null,null,null,null,{"$f":"AL445&AM445","v":"310494516"},310494,516]
[null,null,null,null,null,null,null,null,null,null,null,null,null,null,null,null,null,null,null,null,null,null,null,null,null,null,null,null,null,null,null,null,null,null,null,null,"310494516P",310494,"516P"]
[null,null,null,null,null,null,null,null,null,null,null,null,null,null,null,null,null,null,null,null,null,null,null,null,null,null,null,null,null,null,null,null,null,null,null,null,"310494521",310494,521,20982734]
[null,null,null,null,null,null,null,null,null,null,null,null,null,null,null,null,null,null,null,null,null,null,null,null,null,null,null,null,null,null,null,null,null,null,null,null,"310494522",310494,522,20982734]
[null,null,null,null,null,null,null,null,null,null,null,null,null,null,null,null,null,null,null,null,null,null,null,null,null,null,null,null,null,null,null,null,null,null,null,null,"310494526",310494,526,20982734]
[null,null,null,null,null,null,null,null,null,null,null,null,null,null,null,null,null,null,null,null,null,null,null,null,null,null,null,null,null,null,null,null,null,null,null,null,"310494611",310494,611]
[null,null,null,null,null,null,null,null,null,null,null,null,null,null,null,null,null,null,null,null,null,null,null,null,null,null,null,null,null,null,null,null,null,null,null,null,"310494611P",310494,"611P"]
[null,null,null,null,null,null,null,null,null,null,null,null,null,null,null,null,null,null,null,null,null,null,null,null,null,null,null,null,null,null,null,null,null,null,null,null,"310494621",310494,621,20982734]
[null,null,null,null,null,null,null,null,null,null,null,null,null,null,null,null,null,null,null,null,null,null,null,null,null,null,null,null,null,null,null,null,null,null,null,null,"310494621P",310494,"621P",20982734]
[null,null,null,null,null,null,null,null,null,null,null,null,null,null,null,null,null,null,null,null,null,null,null,null,null,null,null,null,null,null,null,null,null,null,null,null,"310494721",310494,721]
[null,null,null,null,null,null,null,null,null,null,null,null,null,null,null,null,null,null,null,null,null,null,null,null,null,null,null,null,null,null,null,null,null,null,null,null,"310494801",310494,801]
[null,null,null,null,null,null,null,null,null,null,null,null,null,null,null,null,null,null,null,null,null,null,null,null,null,null,null,null,null,null,null,null,null,null,null,null,"310494801P",310494,"801P"]
[null,null,null,null,null,null,null,null,null,null,null,null,null,null,null,null,null,null,null,null,null,null,null,null,null,null,null,null,null,null,null,null,null,null,null,null,"310494802",310494,802]
[null,null,null,null,null,null,null,null,null,null,null,null,null,null,null,null,null,null,null,null,null,null,null,null,null,null,null,null,null,null,null,null,null,null,null,null,"310494821",310494,821]
[null,null,null,null,null,null,null,null,null,null,null,null,null,null,null,null,null,null,null,null,null,null,null,null,null,null,null,null,null,null,null,null,null,null,null,null,"310494822",310494,822]
[null,null,null,null,null,null,null,null,null,null,null,null,null,null,null,null,null,null,null,null,null,null,null,null,null,null,null,null,null,null,null,null,null,null,null,null,"310494831",310494,831]
[null,null,null,null,null,null,null,null,null,null,null,null,null,null,null,null,null,null,null,null,null,null,null,null,null,null,null,null,null,null,null,null,null,null,null,null,"310494831P",310494,"831P"]
[null,null,null,null,null,null,null,null,null,null,null,null,null,null,null,null,null,null,null,null,null,null,null,null,null,null,null,null,null,null,null,null,null,null,null,null,"310494841",310494,841]
[null,null,null,null,null,null,null,null,null,null,null,null,null,null,null,null,null,null,null,null,null,null,null,null,null,null,null,null,null,null,null,null,null,null,null,null,"310494842",310494,842]
[null,null,null,null,null,null,null,null,null,null,null,null,null,null,null,null,null,null,null,null,null,null,null,null,null,null,null,null,null,null,null,null,null,null,null,null,"310494901",310494,901,20982734]
[null,null,null,null,null,null,null,null,null,null,null,null,null,null,null,null,null,null,null,null,null,null,null,null,null,null,null,null,null,null,null,null,null,null,null,null,"310494902",310494,902,20982734]
[null,null,null,null,null,null,null,null,null,null,null,null,null,null,null,null,null,null,null,null,null,null,null,null,null,null,null,null,null,null,null,null,null,null,null,null,"310494911",310494,911,20982734]
[null,null,null,null,null,null,null,null,null,null,null,null,null,null,null,null,null,null,null,null,null,null,null,null,null,null,null,null,null,null,null,null,null,null,null,null,"310494911P",310494,"911P",20982734]
[null,null,null,null,null,null,null,null,null,null,null,null,null,null,null,null,null,null,null,null,null,null,null,null,null,null,null,null,null,null,null,null,null,null,null,null,"3104941001",310494,1001]
[null,null,null,null,null,null,null,null,null,null,null,null,null,null,null,null,null,null,null,null,null,null,null,null,null,null,null,null,null,null,null,null,null,null,null,null,"3104941001P",310494,"1001P"]
[null,null,null,null,null,null,null,null,null,null,null,null,null,null,null,null,null,null,null,null,null,null,null,null,null,null,null,null,null,null,null,null,null,null,null,null,{"$f":"AL470&AM470","v":"3104941011"},310494,1011,20982734]

{"sheet":"L Haubans","index":13,"n_rows":27,"n_cols":13,"rows_kept":27,"cut":false,"hidden":true,"merged":[[0,1,0,12],[19,1,19,11],[9,1,9,6]]}
["Feuille 11","Ancrages Normaux"]
["Hauteur H",0,5.7,6.6,7.15,7.85,8.5,9.15,9.75,10.35,10.95,11.55,12.7]
[37530,37536,37536,37536,37536,37538,37538,37538,37538,37538,37538,37538]
["Symbole","08828692","08828692","08828692","08828692","08828696","08828696","08828696","08828696","08828696","08828696","08828696","T. Court"]
[37550,37556,37556,37556,37556,37558,37558,37558,37558,37558,37558,37558]
["Symbole","08828752","08828752","08828752","08828752","08828756","08828756","08828756","08828756","08828756","08828756","08828756","T. Court"]
[37627,101,101,102,103,102,103,104,105,106,107,108]
["Symbole","00986721","00986721","00986722","00986723","00986722","00986723","00986724","00986725","00986726","00986727","00986728","T. Court"]
[]
["Feuille 11","Ancrages Sureleves"]
["Hauteur H",0,6.2,6.8,7.5,8.1,8.8000000000000007]
[37530,37531,37531,37531,37533,37533]
["Symbole","08828680","08828680","08828680","08828684","08828684","T. Court"]
[37550,37551,37551,37551,37553,37553]
["Symbole","08828740","08828740","08828740","08828744","08828744","T. Court"]
[37627,101,102,103,102,103]
["Symbole","00986721","00986722","00986723","00986722","00986723","T. Court"]
[]
[]
["Feuille 12","Ancrages avec Massif cylindrique"]
["Hauteur H",0,7,7.55,8.1999999999999993,8.85,9.4499999999999993,10.050000000000001,10.65,11.2,11.8,12.4]
[37530,37536,37536,37536,37538,37538,37538,37538,37538,37538,37538]
["Symbole","08828692","08828692","08828692","08828696","08828696","08828696","08828696","08828696","08828696","08828696","T. Court"]
[37550,37556,37556,37556,37558,37558,37558,37558,37558,37558,37558]
["Symbole","08828752","08828752","08828752","08828756","08828756","08828756","08828756","08828756","08828756","08828756","T. Court"]
[37627,101,102,103,102,103,104,105,106,107,108]
["Symbole","00986721","00986722","00986723","00986722","00986723","00986724","00986725","00986726","00986727","00986728","T. Court"]

{"sheet":"Ancrage existant","index":14,"n_rows":56,"n_cols":40,"rows_kept":56,"cut":false,"hidden":true,"merged":[[2,14,2,15],[19,14,19,15],[21,1,21,2],[3,1,3,2],[4,1,8,1],[9,1,12,1],[13,1,15,1],[33,1,34,1],[35,1,36,1],[37,1,38,1],[27,1,29,1],[22,1,26,1],[30,1,32,1]]}
[null,null,null,null,null,null,null,null,null,null,null,null,null,null,null,null,null,null,null,null,null,null,null,null,null,null,null,"Haub. Anc1","H :","Rep :","Jumel. Anc1","H :","Rep :",null,"Haub. Anc2","H :","Rep :","Jumel. Anc1","H :","Rep :"]
[null,null,null,null,null,null,null,null,null,null,null,null,null,null,null,null,null,null,null,null,null,null,null,null,null,null,null,"H1 :",{"$f":"C47","v":7},{"$f":"IF(OR(C45=1,C45=2),HLOOKUP(AC2,$Q$4:$AA$15,2,TRUE),IF(C45=3,HLOOKUP(AC2,$Q$4:$AA$15,5,TRUE),IF(OR(C45=4,C45=5,C45=6,C45=7),HLOOKUP(AC2,$Q$4:$AA$15,8,TRUE),IF(C45=8,HLOOKUP(AC2,$Q$4:$AA$15,11,TRUE),\"ERROR\"))))","v":37556},"H1 :",{"$f":"C47","v":7},{"$f":"IF(OR(C45=1,C45=2),HLOOKUP(AF2,$Q$4:$AA$15,3,TRUE),IF(C45=3,HLOOKUP(AF2,$Q$4:$AA$15,6,TRUE),IF(OR(C45=4,C45=5,C45=6,C45=7),HLOOKUP(AF2,$Q$4:$AA$15,9,TRUE),IF(C45=8,HLOOKUP(AF2,$Q$4:$AA$15,12,TRUE),\"ERROR\"))))","v":37625},null,"H1 :",{"$f":"D47","v":7},{"$f":"IF(OR(D45=1,D45=2),HLOOKUP(AJ2,$Q$4:$AA$15,2,TRUE),IF(D45=3,HLOOKUP(AJ2,$Q$4:$AA$15,5,TRUE),IF(OR(D45=4,D45=5,D45=6,D45=7),HLOOKUP(AJ2,$Q$4:$AA$15,8,TRUE),IF(D45=8,HLOOKUP(AJ2,$Q$4:$AA$15,11,TRUE),\"ERROR\"))))","v":37536},"H1 :",{"$f":"D47","v":7},{"$f":"IF(OR(D45=1,D45=2),HLOOKUP(AM2,$Q$4:$AA$15,3,TRUE),IF(D45=3,HLOOKUP(AM2,$Q$4:$AA$15,6,TRUE),IF(OR(D45=4,D45=5,D45=6,D45=7),HLOOKUP(AM2,$Q$4:$AA$15,9,TRUE),IF(D45=8,HLOOKUP(AM2,$Q$4:$AA$15,12,TRUE),\"ERROR\"))))","v":37625}]
[null,"Ae","Tension Maxi",0,13.000999999999999,17.001000000000001,23.001000000000001,30.001000000000001,47.000999999999998,60.000999999999998,77.001000000000005,94.001000000000005,null,null,"L haubans Ae",null,null,null,null,null,null,null,null,null,null,null,null,"H2 :",{"$f":"IF(C46=1,\"\",C52)","v":6},{"$f":"IF(AC3=\"\",\"\",IF(OR(C45=1,C45=2),HLOOKUP(AC3,$Q$4:$AA$15,2,TRUE),IF(C45=3,HLOOKUP(AC3,$Q$4:$AA$15,5,TRUE),IF(OR(C45=4,C45=5,C45=6,C45=7),HLOOKUP(AC3,$Q$4:$AA$15,8,TRUE),IF(C45=8,HLOOKUP(AC3,$Q$4:$AA$15,11,TRUE),\"ERROR\")))))","v":37556},"H2 :",{"$f":"IF(C46=1,\"\",C52)","v":6},{"$f":"IF(AF3=\"\",\"\",IF(OR(C45=1,C45=2),HLOOKUP(AF3,$Q$4:$AA$15,3,TRUE),IF(C45=3,HLOOKUP(AF3,$Q$4:$AA$15,6,TRUE),IF(OR(C45=4,C45=5,C45=6,C45=7),HLOOKUP(AF3,$Q$4:$AA$15,9,TRUE),IF(C45=8,HLOOKUP(AF3,$Q$4:$AA$15,12,TRUE),\"ERROR\")))))","v":37625},null,"H2 :",{"$f":"IF(C46=1,\"\",C52)","v":6},{"$f":"IF(AJ3=\"\",\"\",IF(OR(D45=1,D45=2),HLOOKUP(AJ3,$Q$4:$AA$15,2,TRUE),IF(D45=3,HLOOKUP(AJ3,$Q$4:$AA$15,5,TRUE),IF(OR(D45=4,D45=5,D45=6,D45=7),HLOOKUP(AJ3,$Q$4:$AA$15,8,TRUE),IF(D45=8,HLOOKUP(AJ3,$Q$4:$AA$15,11,TRUE),\"ERROR\")))))","v":37536},"H2 :",{"$f":"IF(C46=1,\"\",C52)","v":6},{"$f":"IF(AM3=\"\",\"\",IF(OR(D45=1,D45=2),HLOOKUP(AM3,$Q$4:$AA$15,3,TRUE),IF(D45=3,HLOOKUP(AM3,$Q$4:$AA$15,6,TRUE),IF(OR(D45=4,D45=5,D45=6,D45=7),HLOOKUP(AM3,$Q$4:$AA$15,9,TRUE),IF(D45=8,HLOOKUP(AM3,$Q$4:$AA$15,12,TRUE),\"ERROR\")))))","v":37625}]
[null,"Massif",null,1,2,3,4,5,6,7,8,"Trop efforts",null,null,null,"Hauteur H (A)",5.8,6.55,7.2,7.6,8,8.5,9.1999999999999993,10.45,11.05,11.55,12.2]
[null,"Hauban","Ø (mm)",20,20,24,30,30,30,30,36,null,null,"1 Ae / 2 Ae","Hauban 20","Pl 237540",237544,237544,237544,237544,237545,237545,237545,237545,237545,237545,237545]
[null,null,"Nombre",1,1,1,1,1,2,2,2,null,null,null,"Jumelle","Pl 237540",237530,237530,237533,237536,237530,237533,237536,237536,237536,237536,237536]
[null,null,"Plan",237540,237540,237550,37530,37530,37530,37530,37550]
[null,null,"Repère","Voir tabl.","Voir tabl.","Voir tabl.","Voir tabl.","Voir tabl.","Voir tabl.","Voir tabl.","Voir tabl.",null,null,"3 Ae","Hauban 24","Pl 237550",237554,237554,237554,237554,237555,237555,237555,237556,237556,237556,237556]
[null,null,"Symbole",null,null,null,null,null,null,null,null,"Trop efforts",null,null,"Jumelle","Pl 237550",237530,237530,237533,237536,237530,237533,237536,237530,237530,237533,237536]
[null,"Etrier","Ø (mm)",27,27,27,27,27,27,27,27]
[null,null,"Nombre",1,1,1,1,1,2,2,2,null,null,"4 Ae / 5 Ae","Hauban 30","Pl 37530",37536,37536,37536,37536,37538,37538,37538,37541,37541,37541,37541]
[null,null,"Plan 39510",39512,39512,39512,39512,39512,39512,39513,39513,null,null,"6 Ae / 7 Ae","Jumelle","Pl 37530",37625,37625,237511,237513,37625,237511,237513,37625,37625,237511,237513]
[null,null,"Symbole","08828921","08828921","08828921","08828921","08828921","08828921","08828922","08828922","Trop efforts"]
[null,"Pièce de reglage","Nombre",1,1,1,1,1,2,2,2,null,null,"8 Ae","Hauban 36","Pl 37550",37556,37556,37556,37556,37558,37558,37558,37561,37561,37561,37561]
[null,null,"Plan",237510,237510,237510,37606,37606,37606,37606,37606,null,null,null,"Jumelle","Pl 37550",37625,37625,237511,237513,37625,237511,237513,37625,37625,237511,237513]
[null,null,"Symbole","08858675","08858675","08858675","08828800","08828800","08828800","08828800","08828800","Trop efforts"]
[]
[null,null,null,null,null,null,null,null,null,null,null,null,null,null,null,null,null,null,null,null,null,null,"Haub. Anc1","H :","Rep :","Jumel. Anc1","H :","Rep :",null,"Haub. Anc2","H :","Rep :","Jumel. Anc1","H :","Rep :"]
[null,null,null,null,null,null,null,null,null,null,null,null,null,null,null,null,null,null,null,null,null,null,"H1 :",{"$f":"C47","v":7},{"$f":"IF(OR(C45=1,C45=2,C45=3),HLOOKUP(X19,$Q$22:$V$33,2,TRUE),IF(OR(C45=4,C45=5),HLOOKUP(X19,$Q$22:$V$33,5,TRUE),IF(OR(C45=6,C45=7),HLOOKUP(X19,$Q$22:$V$33,8,TRUE),IF(C45=8,HLOOKUP(X19,$Q$22:$V$33,11,TRUE),\"ERROR\"))))","v":37551},"H1 :",{"$f":"C47","v":7},{"$f":"IF(OR(C45=1,C45=2,C45=3),HLOOKUP(X19,$Q$22:$V$33,3,TRUE),IF(OR(C45=4,C45=5),HLOOKUP(X19,$Q$22:$V$33,6,TRUE),IF(OR(C45=6,C45=7),HLOOKUP(X19,$Q$22:$V$33,9,TRUE),IF(C45=8,HLOOKUP(X19,$Q$22:$V$33,12,TRUE),\"ERROR\"))))","v":237511},null,"H1 :",{"$f":"C47","v":7},{"$f":"IF(OR(D45=1,D45=2,D45=3),HLOOKUP(AE19,$Q$22:$V$33,2,TRUE),IF(OR(D45=4,D45=5),HLOOKUP(AE19,$Q$22:$V$33,5,TRUE),IF(OR(D45=6,D45=7),HLOOKUP(AE19,$Q$22:$V$33,8,TRUE),IF(D45=8,HLOOKUP(AE19,$Q$22:$V$33,11,TRUE),\"ERROR\"))))","v":37531},"H1 :",{"$f":"C47","v":7},{"$f":"IF(OR(D45=1,D45=2,D45=3),HLOOKUP(AE19,$Q$22:$V$33,3,TRUE),IF(OR(D45=4,D45=5),HLOOKUP(AE19,$Q$22:$V$33,6,TRUE),IF(OR(D45=6,D45=7),HLOOKUP(AE19,$Q$22:$V$33,9,TRUE),IF(D45=8,HLOOKUP(AE19,$Q$22:$V$33,12,TRUE),\"ERROR\"))))","v":237511}]
[null,null,null,null,null,null,null,null,null,null,null,null,null,null,"L haubans As",null,null,null,null,null,null,null,"H2 :",{"$f":"IF(C46=1,\"\",C52)","v":6},{"$f":"IF(X20=\"\",\"\",IF(OR(C45=1,C45=2,C45=3),HLOOKUP(X20,$Q$21:$V$33,3,TRUE),IF(OR(C45=4,C45=5),HLOOKUP(X20,$Q$21:$V$33,6,TRUE),IF(OR(C45=6,C45=7),HLOOKUP(X20,$Q$21:$V$33,9,TRUE),IF(C45=8,HLOOKUP(X20,$Q$21:$V$33,12,TRUE),\"ERROR\")))))","v":37551},"H2 :",{"$f":"IF(C46=1,\"\",C52)","v":6},{"$f":"IF(X20=\"\",\"\",IF(OR(C45=1,C45=2,C45=3),HLOOKUP(X20,$Q$21:$V$33,4,TRUE),IF(OR(C45=4,C45=5),HLOOKUP(X20,$Q$21:$V$33,7,TRUE),IF(OR(C45=6,C45=7),HLOOKUP(X20,$Q$21:$V$33,10,TRUE),IF(C45=8,HLOOKUP(X20,$Q$21:$V$33,13,TRUE),\"ERROR\")))))","v":37625},null,"H2 :",{"$f":"IF(C46=1,\"\",C52)","v":6},{"$f":"IF(AE20=\"\",\"\",IF(OR(D45=1,D45=2,D45=3),HLOOKUP(AE20,$Q$21:$V$33,3,TRUE),IF(OR(D45=4,D45=5),HLOOKUP(AE20,$Q$21:$V$33,6,TRUE),IF(OR(D45=6,D45=7),HLOOKUP(AE20,$Q$21:$V$33,9,TRUE),IF(D45=8,HLOOKUP(AE20,$Q$21:$V$33,12,TRUE),\"ERROR\")))))","v":37531},"H2 :",{"$f":"IF(C46=1,\"\",C52)","v":6},{"$f":"IF(AE20=\"\",\"\",IF(OR(D45=1,D45=2,D45=3),HLOOKUP(AE20,$Q$21:$V$33,4,TRUE),IF(OR(D45=4,D45=5),HLOOKUP(AE20,$Q$21:$V$33,7,TRUE),IF(OR(D45=6,D45=7),HLOOKUP(AE20,$Q$21:$V$33,10,TRUE),IF(D45=8,HLOOKUP(AE20,$Q$21:$V$33,13,TRUE),\"ERROR\")))))","v":37625}]
[null,"As","Tension Maxi",0,13.000999999999999,17.001000000000001,23.001000000000001,30.001000000000001,47.000999999999998,60.000999999999998,77.001000000000005,94.001000000000005,null,null,null,"Hauteur H (A)",5.7,6.4,6.85,7.2,7.8,8.5]
[null,"Massif",null,1,2,3,4,5,6,7,8,"Trop efforts",null,null,null,"Hauteur H (B)",6.25,6.95,7.4,7.75,8.35,9.0500000000000007]
[null,"Hauban","Ø (mm)",24,24,24,30,30,30,30,32,null,null,"1 As / 2 As","Hauban 24","Pl 237550",237551,237551,237551,237552,237552,237552]
[null,null,"Nombre",1,1,1,1,1,2,2,2,null,null,"3 As","Jumelle","Pl 237550",237530,237533,237536,237530,237533,237536]
[null,null,"Plan",237550,237550,237550,37530,37530,37530,37530,37550]
[null,null,"Repère","Voir tabl.","Voir tabl.","Voir tabl.","Voir tabl.","Voir tabl.","Voir tabl.","Voir tabl.","Voir tabl.",null,null,"4 As / 5 As","Hauban 30","Pl 37530",37531,37531,37531,37533,37533,37533]
[null,null,"Symbole",null,null,null,null,null,null,null,null,"Trop efforts",null,null,"Jumelle","Pl 37530",37625,237511,237513,37625,237511,237513]
[null,"Pièce de reglage","Nombre",1,1,1,1,1,2,2,2]
[null,null,"Plan",37605,37605,37605,37606,37606,37606,37606,37606,null,null,"6 As / 7 As","Hauban 30","Pl 37530",37531,37531,37531,37533,37533,37533]
[null,null,"Symbole","08828805","08828805","08828805","08828800","08828800","08828800","08828800","08828800","Trop efforts",null,null,"Jumelle","Pl 37530",37625,237511,237513,37625,237511,237513]
[null,"Poutrelle d'ancrage","Plan",220080,220080,220080,220080,220082,220083,220083,220083]
[null,null,"Repère",null,null,null,null,null,null,null,null,null,null,"8 As","Hauban 36","Pl 37550",37551,37551,37551,37553,37553,37553]
[null,null,"Symbole",220080,220080,220080,220080,220082,220083,220083,220083,"Trop efforts",null,null,"Jumelle","Pl 37550",37625,237511,237513,37625,237511,237513]
[null,"Semmelle d'appui","Nombre",4,4,4,4,4,8,8,8]
[null,null,"Plan",37621,37621,37621,37621,37621,37621,37621,37621,"Trop efforts"]
[null,"Cuvette","Nombre",4,4,4,4,4,8,8,8]
[null,null,"Plan",37622,37622,37622,37622,37622,37622,37622,37622,"Trop efforts"]
[null,"Tiges filetees","Nombre",2,2,2,2,2,4,4,4]
[null,null,"Symbole","08828870","08828870","08828870","08828870","08828870","08828870","08828870","08828870","Trop efforts"]
[]
[]
[null,null,"Ancrage 1","Ancrage 2"]
[null,"Efforts :",{"$f":"Tension1","v":90.8},50]
[null,"Massif :","Ae","As"]
[null,"Type :",{"$f":"IF(OR(C43=\"\",C44=\"\"),\"\",IF(C44=\"Ae\",HLOOKUP(C43,$D$3:$L$4,2,TRUE),IF(C44=\"As\",HLOOKUP(C43,$D$21:$L$22,2,TRUE),\"ERROR\")))","v":8},{"$f":"IF(OR(D43=\"\",D44=\"\"),\"\",IF(D44=\"Ae\",HLOOKUP(D43,$D$3:$L$4,2,TRUE),IF(D44=\"As\",HLOOKUP(D43,$D$21:$L$22,2,TRUE),\"ERROR\")))","v":6}]
[null,"Nb haubans :",{"$f":"IF(OR(C43=\"\",C44=\"\"),\"\",IF(C44=\"Ae\",HLOOKUP(C43,$D$3:$L$6,4,TRUE),IF(C44=\"As\",HLOOKUP(C43,$D$21:$L$24,4,TRUE),\"ERROR\")))","v":2},{"$f":"IF(OR(D43=\"\",D44=\"\"),\"\",IF(D44=\"Ae\",HLOOKUP(D43,$D$3:$L$6,4,TRUE),IF(D44=\"As\",HLOOKUP(D43,$D$21:$L$24,4,TRUE),\"ERROR\")))","v":2}]
[null,"H1 :",7,7]
[null,"Plan haub :",{"$f":"IF(OR(C47=\"\",C44=\"\"),\"\",IF(C44=\"Ae\",HLOOKUP(C43,$D$3:$L$7,5,TRUE),IF(C44=\"As\",HLOOKUP(C43,$D$21:$L$25,5,TRUE),\"ERROR\")))","v":37550},{"$f":"IF(OR(D47=\"\",D44=\"\"),\"\",IF(D44=\"Ae\",HLOOKUP(D43,$D$3:$L$7,5,TRUE),IF(D44=\"As\",HLOOKUP(D43,$D$21:$L$25,5,TRUE),\"ERROR\")))","v":37530}]
[null,"Rep haub :",{"$f":"IF(OR(C47=\"\",C44=\"\"),\"\",IF(C44=\"Ae\",AD2,IF(C44=\"As\",Y19,\"ERROR\")))","v":37556},{"$f":"IF(OR(D47=\"\",D44=\"\"),\"\",IF(D44=\"Ae\",AK2,IF(D44=\"As\",AF19,\"ERROR\")))","v":37531}]
[null,"Plan jumelle :",{"$f":"IF(OR(C47=\"\",C44=\"\"),\"\",IF(C44=\"Ae\",HLOOKUP(C43,$D$3:$L$7,5,TRUE),IF(C44=\"As\",HLOOKUP(C43,$D$21:$L$25,5,TRUE),\"ERROR\")))","v":37550},{"$f":"IF(OR(D47=\"\",D44=\"\"),\"\",IF(D44=\"Ae\",HLOOKUP(D43,$D$3:$L$7,5,TRUE),IF(D44=\"As\",HLOOKUP(D43,$D$21:$L$25,5,TRUE),\"ERROR\")))","v":37530}]
[null,"Rep jumelle :",{"$f":"IF(OR(C47=\"\",C44=\"\"),\"\",IF(C44=\"Ae\",AG3,IF(C44=\"As\",AB20,\"ERROR\")))","v":37625},{"$f":"IF(OR(D47=\"\",D44=\"\"),\"\",IF(D44=\"Ae\",AN3,IF(D44=\"As\",AI20,\"ERROR\")))","v":37625}]
[null,"H2 :",6,6]
[null,"Plan haub :",{"$f":"IF(OR(C52=\"\",C44=\"\"),\"\",IF(C44=\"Ae\",HLOOKUP(C43,$D$3:$L$7,5,TRUE),IF(C44=\"As\",HLOOKUP(C43,$D$21:$L$25,5,TRUE),\"ERROR\")))","v":37550},{"$f":"IF(OR(D52=\"\",D44=\"\"),\"\",IF(D44=\"Ae\",HLOOKUP(D43,$D$3:$L$7,5,TRUE),IF(D44=\"As\",HLOOKUP(D43,$D$21:$L$25,5,TRUE),\"ERROR\")))","v":37530}]
[null,"Rep haub :",{"$f":"IF(OR(C52=\"\",C44=\"\"),\"\",IF(C44=\"Ae\",AD2,IF(C44=\"As\",Y19,\"ERROR\")))","v":37556},{"$f":"IF(OR(D52=\"\",D44=\"\"),\"\",IF(D44=\"Ae\",AK2,IF(D44=\"As\",AF19,\"ERROR\")))","v":37531}]
[null,"Plan jumelle :",{"$f":"IF(OR(C52=\"\",C44=\"\"),\"\",IF(C44=\"Ae\",HLOOKUP(C43,$D$3:$L$7,5,TRUE),IF(C44=\"As\",HLOOKUP(C43,$D$21:$L$25,5,TRUE),\"ERROR\")))","v":37550},{"$f":"IF(OR(D52=\"\",D44=\"\"),\"\",IF(D44=\"Ae\",HLOOKUP(D43,$D$3:$L$7,5,TRUE),IF(D44=\"As\",HLOOKUP(D43,$D$21:$L$25,5,TRUE),\"ERROR\")))","v":37530}]
[null,"Rep jumelle :",{"$f":"IF(OR(C52=\"\",C44=\"\"),\"\",IF(C44=\"Ae\",AG3,IF(C44=\"As\",AB20,\"ERROR\")))","v":37625},{"$f":"IF(OR(D52=\"\",D44=\"\"),\"\",IF(D44=\"Ae\",AN3,IF(D44=\"As\",AI20,\"ERROR\")))","v":37625}]